{"text_format":"2","workbook":"xlsx","n_sheets":2,"sheets":["怪物规划","Sheet1"],"not_rendered":{"charts":0,"images":0,"macros":0,"external_links":1,"defined_names":1,"comments":0,"pivot_tables":0},"unopened":[],"bounds":{"document_bytes":16777216,"sheet_cells":100000,"run_cost":"one","rows_first":2000,"rows_last":500,"rows_between":2000,"halvings":0,"cell_chars":16384,"cell_head_chars":4096},"cells_cut":0,"cells_raw":0,"read":"whole","date_system":"1900"}

{"sheet":"怪物规划","index":0,"n_rows":45,"n_cols":22,"rows_kept":45,"cut":false,"hidden":false,"merged":[]}
["index","name","monsterId","race","family","prof","status","level","hurtGrade","survialGrade","attackRange","abilityPosition","ability1","ability2","ability3","ability4","tag1","tag2","tag3","tag4","weight","fightPower"]
["int_key","string","int","string","string","string","string","int","string","string","string","string","string","string","string","string","string","string","string","string","int","int"]
["c","c","c","c","c","c","c","c","c","c","c","c","c","c","c","c","c","c","c","c","c","c"]
["编号","名称","ID","种族","氏族","职业","身份","等级","输出评级","生存评级","射程","定位","能力1","能力2","能力3","能力4","标签1","标签2","标签3","标签4","权重","战力"]
[1,"小蝙蝠",101030,"妖类","蝙蝠族","能量","仆从",3,"F","F","远程","单体输出","无","无","无","无","兽类","飞行","无","无",50,{"$f":"VLOOKUP(H5,[1]怪物强度量化!$B$33:$K$52,IF(怪物规划!G5=\"仆从\",1,IF(怪物规划!G5=\"普通\",2,IF(怪物规划!G5=\"精英\",3,IF(怪物规划!G5=\"首领\",4,0))))+5,FALSE)","v":520}]
[2,"中蝙蝠",101031,"妖类","蝙蝠族","能量","普通",11,"E","D","远程","单体输出","灵魂链接","无","无","无","兽类","飞行","无","无",50,{"$f":"VLOOKUP(H6,[1]怪物强度量化!$B$33:$K$52,IF(怪物规划!G6=\"仆从\",1,IF(怪物规划!G6=\"普通\",2,IF(怪物规划!G6=\"精英\",3,IF(怪物规划!G6=\"首领\",4,0))))+5,FALSE)","v":3267}]
[3,"大蝙蝠",101032,"妖类","蝙蝠族","能量","首领",15,"B","B","远程","单体输出","灵魂链接","召唤","无","无","兽类","飞行","无","无",50,{"$f":"VLOOKUP(H7,[1]怪物强度量化!$B$33:$K$52,IF(怪物规划!G7=\"仆从\",1,IF(怪物规划!G7=\"普通\",2,IF(怪物规划!G7=\"精英\",3,IF(怪物规划!G7=\"首领\",4,0))))+5,FALSE)","v":14775}]
[4,"小野狼",101010,"妖类","狼族","先锋","仆从",3,"F","F","近程","单体输出","无","无","无","无","兽类","无","无","无",50,{"$f":"VLOOKUP(H8,[1]怪物强度量化!$B$33:$K$52,IF(怪物规划!G8=\"仆从\",1,IF(怪物规划!G8=\"普通\",2,IF(怪物规划!G8=\"精英\",3,IF(怪物规划!G8=\"首领\",4,0))))+5,FALSE)","v":520}]
[5,"中野狼",101011,"妖类","狼族","先锋","普通",11,"C","D","近程","单体输出","加攻光环","无","无","无","兽类","无","无","无",50,{"$f":"VLOOKUP(H9,[1]怪物强度量化!$B$33:$K$52,IF(怪物规划!G9=\"仆从\",1,IF(怪物规划!G9=\"普通\",2,IF(怪物规划!G9=\"精英\",3,IF(怪物规划!G9=\"首领\",4,0))))+5,FALSE)","v":3267}]
[6,"大野狼",101012,"妖类","狼族","先锋","首领",14,"A","B","近程","单体输出","加攻光环","召唤","无","无","兽类","无","无","无",50,{"$f":"VLOOKUP(H10,[1]怪物强度量化!$B$33:$K$52,IF(怪物规划!G10=\"仆从\",1,IF(怪物规划!G10=\"普通\",2,IF(怪物规划!G10=\"精英\",3,IF(怪物规划!G10=\"首领\",4,0))))+5,FALSE)","v":12217}]
[7,"小蜘蛛",101020,"妖类","蜘蛛族","先锋","仆从",2,"F","F","近程","单体输出","无","无","无","无","兽类","无","无","无",50,{"$f":"VLOOKUP(H11,[1]怪物强度量化!$B$33:$K$52,IF(怪物规划!G11=\"仆从\",1,IF(怪物规划!G11=\"普通\",2,IF(怪物规划!G11=\"精英\",3,IF(怪物规划!G11=\"首领\",4,0))))+5,FALSE)","v":429}]
[8,"中蜘蛛",101021,"妖类","蜘蛛族","先锋","普通",11,"E","E","近程","单体输出","死亡召唤","无","无","无","兽类","无","无","无",50,{"$f":"VLOOKUP(H12,[1]怪物强度量化!$B$33:$K$52,IF(怪物规划!G12=\"仆从\",1,IF(怪物规划!G12=\"普通\",2,IF(怪物规划!G12=\"精英\",3,IF(怪物规划!G12=\"首领\",4,0))))+5,FALSE)","v":3267}]
[9,"大蜘蛛",101022,"妖类","蜘蛛族","先锋","精英",16,"B","B","近程","单体输出","死亡召唤","无","无","无","兽类","无","无","无",50,{"$f":"VLOOKUP(H13,[1]怪物强度量化!$B$33:$K$52,IF(怪物规划!G13=\"仆从\",1,IF(怪物规划!G13=\"普通\",2,IF(怪物规划!G13=\"精英\",3,IF(怪物规划!G13=\"首领\",4,0))))+5,FALSE)","v":11605}]
[10,"小矛兵",102030,"妖类","恶鬼鼠族","射手","普通",8,"E","E","远程","单体输出","加速","无","无","无","兽类","无","无","无",50,{"$f":"VLOOKUP(H14,[1]怪物强度量化!$B$33:$K$52,IF(怪物规划!G14=\"仆从\",1,IF(怪物规划!G14=\"普通\",2,IF(怪物规划!G14=\"精英\",3,IF(怪物规划!G14=\"首领\",4,0))))+5,FALSE)","v":1842}]
[11,"中矛兵",102031,"妖类","恶鬼鼠族","射手","精英",10,"B","D","远程","单体输出","加速","中毒","无","无","兽类","无","无","无",50,{"$f":"VLOOKUP(H15,[1]怪物强度量化!$B$33:$K$52,IF(怪物规划!G15=\"仆从\",1,IF(怪物规划!G15=\"普通\",2,IF(怪物规划!G15=\"精英\",3,IF(怪物规划!G15=\"首领\",4,0))))+5,FALSE)","v":3700}]
[12,"大投矛手",102032,"妖类","恶鬼鼠族","射手","首领",12,"A+","B","远程","直线输出","加速","中毒","穿透","无","兽类","无","无","无",50,{"$f":"VLOOKUP(H16,[1]怪物强度量化!$B$33:$K$52,IF(怪物规划!G16=\"仆从\",1,IF(怪物规划!G16=\"普通\",2,IF(怪物规划!G16=\"精英\",3,IF(怪物规划!G16=\"首领\",4,0))))+5,FALSE)","v":8345}]
[13,"小石头人",102010,"神族","石头傀儡","坦克","精英",11,"C","A","近程","肉盾","圆形aoe","无","无","无","神","无","无","无",50,{"$f":"VLOOKUP(H17,[1]怪物强度量化!$B$33:$K$52,IF(怪物规划!G17=\"仆从\",1,IF(怪物规划!G17=\"普通\",2,IF(怪物规划!G17=\"精英\",3,IF(怪物规划!G17=\"首领\",4,0))))+5,FALSE)","v":4477}]
[14,"寒晶傀儡",102013,"神族","石头傀儡","坦克","精英",11,"C","A","近程","肉盾","圆形aoe","降攻击者攻速","无","无","神","无","无","无",50,{"$f":"VLOOKUP(H18,[1]怪物强度量化!$B$33:$K$52,IF(怪物规划!G18=\"仆从\",1,IF(怪物规划!G18=\"普通\",2,IF(怪物规划!G18=\"精英\",3,IF(怪物规划!G18=\"首领\",4,0))))+5,FALSE)","v":4477}]
[15,"弱点机",103008,"人族","机械","能量","普通",5,"C","E","远程","单体输出","易伤","无","无","无","机械","无","无","无",50,{"$f":"VLOOKUP(H19,[1]怪物强度量化!$B$33:$K$52,IF(怪物规划!G19=\"仆从\",1,IF(怪物规划!G19=\"普通\",2,IF(怪物规划!G19=\"精英\",3,IF(怪物规划!G19=\"首领\",4,0))))+5,FALSE)","v":1035}]
[16,"自爆机",103007,"人族","机械","能量","普通",6,"E","F","远程","单体输出","半血自爆","无","无","无","机械","无","无","无",50,{"$f":"VLOOKUP(H20,[1]怪物强度量化!$B$33:$K$52,IF(怪物规划!G20=\"仆从\",1,IF(怪物规划!G20=\"普通\",2,IF(怪物规划!G20=\"精英\",3,IF(怪物规划!G20=\"首领\",4,0))))+5,FALSE)","v":1252}]
[17,"啄木鸟",103009,"人族","机械","能量","普通",8,"C","E","远程","扇形输出","扇形aoe","无","无","无","机械","无","无","无",50,{"$f":"VLOOKUP(H21,[1]怪物强度量化!$B$33:$K$52,IF(怪物规划!G21=\"仆从\",1,IF(怪物规划!G21=\"普通\",2,IF(怪物规划!G21=\"精英\",3,IF(怪物规划!G21=\"首领\",4,0))))+5,FALSE)","v":1842}]
[18,"维修机",103012,"人族","机械","辅助","普通",8,"F","E","远程","单体治疗","单体加血","无","无","无","机械","无","无","无",50,{"$f":"VLOOKUP(H22,[1]怪物强度量化!$B$33:$K$52,IF(怪物规划!G22=\"仆从\",1,IF(怪物规划!G22=\"普通\",2,IF(怪物规划!G22=\"精英\",3,IF(怪物规划!G22=\"首领\",4,0))))+5,FALSE)","v":1842}]
[19,"神枪手",103011,"人族","人族","射手","普通",7,"C","E","远程","单体输出","狙击后排","无","无","无","人型生物","无","无","无",50,{"$f":"VLOOKUP(H23,[1]怪物强度量化!$B$33:$K$52,IF(怪物规划!G23=\"仆从\",1,IF(怪物规划!G23=\"普通\",2,IF(怪物规划!G23=\"精英\",3,IF(怪物规划!G23=\"首领\",4,0))))+5,FALSE)","v":1519}]
[20,"枪盾兵",103006,"人族","人族","坦克","普通",10,"E","C","近程","肉盾","举盾减伤","无","无","无","人型生物","无","无","无",50,{"$f":"VLOOKUP(H24,[1]怪物强度量化!$B$33:$K$52,IF(怪物规划!G24=\"仆从\",1,IF(怪物规划!G24=\"普通\",2,IF(怪物规划!G24=\"精英\",3,IF(怪物规划!G24=\"首领\",4,0))))+5,FALSE)","v":2700}]
[21,"枪骑兵",103010,"人族","人族","先锋","普通",9,"D","C","近程","半肉半C","扇形击倒","无","无","无","人型生物","无","无","无",50,{"$f":"VLOOKUP(H25,[1]怪物强度量化!$B$33:$K$52,IF(怪物规划!G25=\"仆从\",1,IF(怪物规划!G25=\"普通\",2,IF(怪物规划!G25=\"精英\",3,IF(怪物规划!G25=\"首领\",4,0))))+5,FALSE)","v":2231}]
[22,"饿鬼鼠",103002,"妖族","妖族","坦克","普通",13,{"$nulls":9},"无","无","无",50,4783]
[23,"冲锋骑",102033,"人族","人族","先锋","普通",9,{"$nulls":9},"无","无","无",50,2231]
[24,"小蜉蝣",102034,"神族","神族","能量","精英",9,{"$nulls":9},"无","无","无",50,3057]
[25,"中蜉蝣",102035,"神族","神族","射手","普通",12,{"$nulls":9},"无","无","无",50,3953]
[26,"黑天师",102037,"神族","神族","能量","普通",11,{"$nulls":9},"无","无","无",50,3267]
[27,"红天师",102038,"神族","神族","能量","精英",12,{"$nulls":9},"无","无","无",100,5417]
[28,"巨鲸",102039,"神族","神族","射手","普通",14,{"$nulls":9},"无","无","无",50,5787]
[29,"重炮蛛英雄",113010,"人族","人族","射手","英雄",10,{"$nulls":9},"无","无","无",50,5200]
[30,"军医英雄",113020,"人族","人族","辅助","英雄",10,{"$nulls":9},"无","无","无",50,5200]
[31,"圣光护卫英雄",113040,"人族","人族","坦克","英雄",10,{"$nulls":9},"无","无","无",50,4700]
[32,"斗武神英雄",113050,"人族","人族","先锋","英雄",10,{"$nulls":9},"无","无","无",50,5200]
[33,"铁巨神英雄",113060,"人族","人族","能量","英雄",10,{"$nulls":9},"无","无","无",50,4700]
[34,"雷震子英雄",123020,"神族","神族","射手","英雄",10,{"$nulls":9},"无","无","无",50,5200]
[35,"轮回金刚英雄",123030,"神族","神族","坦克","英雄",10,{"$nulls":9},"无","无","无",50,4700]
[36,"翔龙英雄",123040,"神族","神族","能量","英雄",10,{"$nulls":9},"无","无","无",50,4700]
[37,"十方侍卫英雄",123070,"神族","神族","辅助","英雄",10,{"$nulls":9},"无","无","无",50,4700]
[38,"狼武者英雄",133010,"妖族","妖族","先锋","英雄",10,{"$nulls":9},"无","无","无",50,4700]
[39,"神射虎英雄",133020,"妖族","妖族","射手","英雄",10,{"$nulls":9},"无","无","无",50,5200]
[40,"巨齿象英雄",133030,"妖族","妖族","坦克","英雄",10,{"$nulls":9},"无","无","无",50,4700]
[41,"禅师熊猫英雄",133050,"妖族","妖族","辅助","英雄",10,{"$nulls":9},"无","无","无",50,4700]

{"sheet":"Sheet1","index":1,"n_rows":8,"n_cols":10,"rows_kept":8,"cut":false,"hidden":false,"merged":[]}
[]
[null,null,"总数","仆从","普通","精英","首领","英雄"]
[null,"坦克",{"$f":"COUNTIF(怪物规划!$F$5:$F$45,B3)","v":7},{"$f":"COUNTIFS(怪物规划!$F$5:$F$45,B3,怪物规划!$G$5:$G$45,$D$2)","v":0},{"$f":"COUNTIFS(怪物规划!$F$5:$F$45,B3,怪物规划!$G$5:$G$45,$E$2)","v":2},{"$f":"COUNTIFS(怪物规划!$F$5:$F$45,B3,怪物规划!$G$5:$G$45,$F$2)","v":2},{"$f":"COUNTIFS(怪物规划!$F$5:$F$45,B3,怪物规划!$G$5:$G$45,$G$2)","v":0},{"$f":"COUNTIFS(怪物规划!$F$5:$F$45,B3,怪物规划!$G$5:$G$45,$H$2)","v":3},null,3]
[null,"先锋",{"$f":"COUNTIF(怪物规划!$F$5:$F$45,B4)","v":10},{"$f":"COUNTIFS(怪物规划!$F$5:$F$45,B4,怪物规划!$G$5:$G$45,$D$2)","v":2},{"$f":"COUNTIFS(怪物规划!$F$5:$F$45,B4,怪物规划!$G$5:$G$45,$E$2)","v":4},{"$f":"COUNTIFS(怪物规划!$F$5:$F$45,B4,怪物规划!$G$5:$G$45,$F$2)","v":1},{"$f":"COUNTIFS(怪物规划!$F$5:$F$45,B4,怪物规划!$G$5:$G$45,$G$2)","v":1},{"$f":"COUNTIFS(怪物规划!$F$5:$F$45,B4,怪物规划!$G$5:$G$45,$H$2)","v":2},null,3]
[null,"刺客",{"$f":"COUNTIF(怪物规划!$F$5:$F$45,B5)","v":0},{"$f":"COUNTIFS(怪物规划!$F$5:$F$45,B5,怪物规划!$G$5:$G$45,$D$2)","v":0},{"$f":"COUNTIFS(怪物规划!$F$5:$F$45,B5,怪物规划!$G$5:$G$45,$E$2)","v":0},{"$f":"COUNTIFS(怪物规划!$F$5:$F$45,B5,怪物规划!$G$5:$G$45,$F$2)","v":0},{"$f":"COUNTIFS(怪物规划!$F$5:$F$45,B5,怪物规划!$G$5:$G$45,$G$2)","v":0},{"$f":"COUNTIFS(怪物规划!$F$5:$F$45,B5,怪物规划!$G$5:$G$45,$H$2)","v":0}]
[null,"射手",{"$f":"COUNTIF(怪物规划!$F$5:$F$45,B6)","v":9},{"$f":"COUNTIFS(怪物规划!$F$5:$F$45,B6,怪物规划!$G$5:$G$45,$D$2)","v":0},{"$f":"COUNTIFS(怪物规划!$F$5:$F$45,B6,怪物规划!$G$5:$G$45,$E$2)","v":4},{"$f":"COUNTIFS(怪物规划!$F$5:$F$45,B6,怪物规划!$G$5:$G$45,$F$2)","v":1},{"$f":"COUNTIFS(怪物规划!$F$5:$F$45,B6,怪物规划!$G$5:$G$45,$G$2)","v":1},{"$f":"COUNTIFS(怪物规划!$F$5:$F$45,B6,怪物规划!$G$5:$G$45,$H$2)","v":3},null,3]
[null,"辅助",{"$f":"COUNTIF(怪物规划!$F$5:$F$45,B7)","v":4},{"$f":"COUNTIFS(怪物规划!$F$5:$F$45,B7,怪物规划!$G$5:$G$45,$D$2)","v":0},{"$f":"COUNTIFS(怪物规划!$F$5:$F$45,B7,怪物规划!$G$5:$G$45,$E$2)","v":1},{"$f":"COUNTIFS(怪物规划!$F$5:$F$45,B7,怪物规划!$G$5:$G$45,$F$2)","v":0},{"$f":"COUNTIFS(怪物规划!$F$5:$F$45,B7,怪物规划!$G$5:$G$45,$G$2)","v":0},{"$f":"COUNTIFS(怪物规划!$F$5:$F$45,B7,怪物规划!$G$5:$G$45,$H$2)","v":3},null,3]
[null,"能量",{"$f":"COUNTIF(怪物规划!$F$5:$F$45,B8)","v":11},{"$f":"COUNTIFS(怪物规划!$F$5:$F$45,B8,怪物规划!$G$5:$G$45,$D$2)","v":1},{"$f":"COUNTIFS(怪物规划!$F$5:$F$45,B8,怪物规划!$G$5:$G$45,$E$2)","v":5},{"$f":"COUNTIFS(怪物规划!$F$5:$F$45,B8,怪物规划!$G$5:$G$45,$F$2)","v":2},{"$f":"COUNTIFS(怪物规划!$F$5:$F$45,B8,怪物规划!$G$5:$G$45,$G$2)","v":1},{"$f":"COUNTIFS(怪物规划!$F$5:$F$45,B8,怪物规划!$G$5:$G$45,$H$2)","v":2},null,2]