{"text_format":"2","workbook":"xlsx","n_sheets":1,"sheets":["Sheet1"],"not_rendered":{"charts":0,"images":0,"macros":0,"external_links":1,"defined_names":0,"comments":0,"pivot_tables":0},"unopened":[],"bounds":{"document_bytes":16777216,"sheet_cells":100000,"run_cost":"one","rows_first":2000,"rows_last":500,"rows_between":2000,"halvings":0,"cell_chars":16384,"cell_head_chars":4096},"cells_cut":0,"cells_raw":0,"read":"whole","date_system":"1900"}

{"sheet":"Sheet1","index":0,"n_rows":31,"n_cols":26,"rows_kept":31,"cut":false,"hidden":false,"merged":[]}
["天数序号","英雄1星级","英雄2星级","英雄3星级","英雄4星级","英雄5星级","英雄1等级","英雄2等级","英雄3等级","英雄4等级","英雄5等级","英雄1装备等级","英雄2装备等级","英雄3装备等级","英雄4装备等级","英雄5装备等级","英雄1装备强化等级","英雄2装备强化等级","英雄3装备强化等级","英雄4装备强化等级","英雄5装备强化等级","英雄1专武等级","英雄2专武等级","英雄3专武等级","英雄4专武等级","英雄5专武等级"]
[1,5,5,5,3,2,41,41,41,41,41,2,2,2,1,1,0,0,0,0,0,{"$f":"IF(AA2<=[1]角色养成!$J$86,AA2,IF(AK2<=[1]角色养成!$K$86,AK2,AU2))","v":0},{"$f":"IF(AB2<=[1]角色养成!$J$86,AB2,IF(AL2<=[1]角色养成!$K$86,AL2,AV2))","v":0},{"$f":"IF(AC2<=[1]角色养成!$J$86,AC2,IF(AM2<=[1]角色养成!$K$86,AM2,AW2))","v":0},{"$f":"IF(AD2<=[1]角色养成!$J$86,AD2,IF(AN2<=[1]角色养成!$K$86,AN2,AX2))","v":0},{"$f":"IF(AE2<=[1]角色养成!$J$86,AE2,IF(AO2<=[1]角色养成!$K$86,AO2,AY2))","v":0}]
[2,7,5,5,3,2,57,57,57,57,57,3,3,2,2,2,3,3,0,0,0,{"$f":"IF(AA3<=[1]角色养成!$J$86,AA3,IF(AK3<=[1]角色养成!$K$86,AK3,AU3))","v":0},{"$f":"IF(AB3<=[1]角色养成!$J$86,AB3,IF(AL3<=[1]角色养成!$K$86,AL3,AV3))","v":0},{"$f":"IF(AC3<=[1]角色养成!$J$86,AC3,IF(AM3<=[1]角色养成!$K$86,AM3,AW3))","v":0},{"$f":"IF(AD3<=[1]角色养成!$J$86,AD3,IF(AN3<=[1]角色养成!$K$86,AN3,AX3))","v":0},{"$f":"IF(AE3<=[1]角色养成!$J$86,AE3,IF(AO3<=[1]角色养成!$K$86,AO3,AY3))","v":0}]
[3,7,5,5,5,3,67,67,67,67,67,3,3,3,3,3,3,3,3,3,3,{"$f":"IF(AA4<=[1]角色养成!$J$86,AA4,IF(AK4<=[1]角色养成!$K$86,AK4,AU4))","v":0},{"$f":"IF(AB4<=[1]角色养成!$J$86,AB4,IF(AL4<=[1]角色养成!$K$86,AL4,AV4))","v":0},{"$f":"IF(AC4<=[1]角色养成!$J$86,AC4,IF(AM4<=[1]角色养成!$K$86,AM4,AW4))","v":0},{"$f":"IF(AD4<=[1]角色养成!$J$86,AD4,IF(AN4<=[1]角色养成!$K$86,AN4,AX4))","v":0},{"$f":"IF(AE4<=[1]角色养成!$J$86,AE4,IF(AO4<=[1]角色养成!$K$86,AO4,AY4))","v":0}]
[4,7,5,5,5,5,74,74,74,74,74,4,3,3,3,3,3,3,3,3,3,{"$f":"IF(AA5<=[1]角色养成!$J$86,AA5,IF(AK5<=[1]角色养成!$K$86,AK5,AU5))","v":0},{"$f":"IF(AB5<=[1]角色养成!$J$86,AB5,IF(AL5<=[1]角色养成!$K$86,AL5,AV5))","v":0},{"$f":"IF(AC5<=[1]角色养成!$J$86,AC5,IF(AM5<=[1]角色养成!$K$86,AM5,AW5))","v":0},{"$f":"IF(AD5<=[1]角色养成!$J$86,AD5,IF(AN5<=[1]角色养成!$K$86,AN5,AX5))","v":0},{"$f":"IF(AE5<=[1]角色养成!$J$86,AE5,IF(AO5<=[1]角色养成!$K$86,AO5,AY5))","v":0}]
[5,9,5,5,5,5,81,81,81,81,81,4,3,3,3,3,3,3,3,3,3,{"$f":"IF(AA6<=[1]角色养成!$J$86,AA6,IF(AK6<=[1]角色养成!$K$86,AK6,AU6))","v":0},{"$f":"IF(AB6<=[1]角色养成!$J$86,AB6,IF(AL6<=[1]角色养成!$K$86,AL6,AV6))","v":0},{"$f":"IF(AC6<=[1]角色养成!$J$86,AC6,IF(AM6<=[1]角色养成!$K$86,AM6,AW6))","v":0},{"$f":"IF(AD6<=[1]角色养成!$J$86,AD6,IF(AN6<=[1]角色养成!$K$86,AN6,AX6))","v":0},{"$f":"IF(AE6<=[1]角色养成!$J$86,AE6,IF(AO6<=[1]角色养成!$K$86,AO6,AY6))","v":0}]
[6,9,5,5,5,6,87,87,87,87,87,4,4,3,3,3,3,3,3,3,3,{"$f":"IF(AA7<=[1]角色养成!$J$86,AA7,IF(AK7<=[1]角色养成!$K$86,AK7,AU7))","v":0},{"$f":"IF(AB7<=[1]角色养成!$J$86,AB7,IF(AL7<=[1]角色养成!$K$86,AL7,AV7))","v":0},{"$f":"IF(AC7<=[1]角色养成!$J$86,AC7,IF(AM7<=[1]角色养成!$K$86,AM7,AW7))","v":0},{"$f":"IF(AD7<=[1]角色养成!$J$86,AD7,IF(AN7<=[1]角色养成!$K$86,AN7,AX7))","v":0},{"$f":"IF(AE7<=[1]角色养成!$J$86,AE7,IF(AO7<=[1]角色养成!$K$86,AO7,AY7))","v":0}]
[7,9,7,5,5,5,94,94,94,94,94,4,4,3,3,3,3,3,3,3,3,{"$f":"IF(AA8<=[1]角色养成!$J$86,AA8,IF(AK8<=[1]角色养成!$K$86,AK8,AU8))","v":0},{"$f":"IF(AB8<=[1]角色养成!$J$86,AB8,IF(AL8<=[1]角色养成!$K$86,AL8,AV8))","v":0},{"$f":"IF(AC8<=[1]角色养成!$J$86,AC8,IF(AM8<=[1]角色养成!$K$86,AM8,AW8))","v":0},{"$f":"IF(AD8<=[1]角色养成!$J$86,AD8,IF(AN8<=[1]角色养成!$K$86,AN8,AX8))","v":0},{"$f":"IF(AE8<=[1]角色养成!$J$86,AE8,IF(AO8<=[1]角色养成!$K$86,AO8,AY8))","v":0}]
[8,9,7,5,5,5,97,97,97,97,97,4,4,4,3,3,3,3,3,3,3,{"$f":"IF(AA9<=[1]角色养成!$J$86,AA9,IF(AK9<=[1]角色养成!$K$86,AK9,AU9))","v":0},{"$f":"IF(AB9<=[1]角色养成!$J$86,AB9,IF(AL9<=[1]角色养成!$K$86,AL9,AV9))","v":0},{"$f":"IF(AC9<=[1]角色养成!$J$86,AC9,IF(AM9<=[1]角色养成!$K$86,AM9,AW9))","v":0},{"$f":"IF(AD9<=[1]角色养成!$J$86,AD9,IF(AN9<=[1]角色养成!$K$86,AN9,AX9))","v":0},{"$f":"IF(AE9<=[1]角色养成!$J$86,AE9,IF(AO9<=[1]角色养成!$K$86,AO9,AY9))","v":0}]
[9,9,7,5,5,5,101,101,100,100,100,4,4,4,3,3,3,3,3,3,3,{"$f":"IF(AA10<=[1]角色养成!$J$86,AA10,IF(AK10<=[1]角色养成!$K$86,AK10,AU10))","v":0},{"$f":"IF(AB10<=[1]角色养成!$J$86,AB10,IF(AL10<=[1]角色养成!$K$86,AL10,AV10))","v":0},{"$f":"IF(AC10<=[1]角色养成!$J$86,AC10,IF(AM10<=[1]角色养成!$K$86,AM10,AW10))","v":0},{"$f":"IF(AD10<=[1]角色养成!$J$86,AD10,IF(AN10<=[1]角色养成!$K$86,AN10,AX10))","v":0},{"$f":"IF(AE10<=[1]角色养成!$J$86,AE10,IF(AO10<=[1]角色养成!$K$86,AO10,AY10))","v":0}]
[10,9,9,5,5,5,104,104,100,100,100,4,4,4,4,3,3,3,3,3,3,{"$f":"IF(AA11<=[1]角色养成!$J$86,AA11,IF(AK11<=[1]角色养成!$K$86,AK11,AU11))","v":0},{"$f":"IF(AB11<=[1]角色养成!$J$86,AB11,IF(AL11<=[1]角色养成!$K$86,AL11,AV11))","v":0},{"$f":"IF(AC11<=[1]角色养成!$J$86,AC11,IF(AM11<=[1]角色养成!$K$86,AM11,AW11))","v":0},{"$f":"IF(AD11<=[1]角色养成!$J$86,AD11,IF(AN11<=[1]角色养成!$K$86,AN11,AX11))","v":0},{"$f":"IF(AE11<=[1]角色养成!$J$86,AE11,IF(AO11<=[1]角色养成!$K$86,AO11,AY11))","v":0}]
[11,9,9,5,5,5,108,108,100,100,100,4,4,4,4,3,3,3,3,3,3,{"$f":"IF(AA12<=[1]角色养成!$J$86,AA12,IF(AK12<=[1]角色养成!$K$86,AK12,AU12))","v":0},{"$f":"IF(AB12<=[1]角色养成!$J$86,AB12,IF(AL12<=[1]角色养成!$K$86,AL12,AV12))","v":0},{"$f":"IF(AC12<=[1]角色养成!$J$86,AC12,IF(AM12<=[1]角色养成!$K$86,AM12,AW12))","v":0},{"$f":"IF(AD12<=[1]角色养成!$J$86,AD12,IF(AN12<=[1]角色养成!$K$86,AN12,AX12))","v":0},{"$f":"IF(AE12<=[1]角色养成!$J$86,AE12,IF(AO12<=[1]角色养成!$K$86,AO12,AY12))","v":0}]
[12,9,9,5,5,5,109,109,100,100,100,4,4,4,4,4,3,3,3,3,3,{"$f":"IF(AA13<=[1]角色养成!$J$86,AA13,IF(AK13<=[1]角色养成!$K$86,AK13,AU13))","v":0},{"$f":"IF(AB13<=[1]角色养成!$J$86,AB13,IF(AL13<=[1]角色养成!$K$86,AL13,AV13))","v":0},{"$f":"IF(AC13<=[1]角色养成!$J$86,AC13,IF(AM13<=[1]角色养成!$K$86,AM13,AW13))","v":0},{"$f":"IF(AD13<=[1]角色养成!$J$86,AD13,IF(AN13<=[1]角色养成!$K$86,AN13,AX13))","v":0},{"$f":"IF(AE13<=[1]角色养成!$J$86,AE13,IF(AO13<=[1]角色养成!$K$86,AO13,AY13))","v":0}]
[13,9,9,7,5,5,112,112,112,100,100,4,4,4,4,4,3,3,3,3,3,{"$f":"IF(AA14<=[1]角色养成!$J$86,AA14,IF(AK14<=[1]角色养成!$K$86,AK14,AU14))","v":0},{"$f":"IF(AB14<=[1]角色养成!$J$86,AB14,IF(AL14<=[1]角色养成!$K$86,AL14,AV14))","v":0},{"$f":"IF(AC14<=[1]角色养成!$J$86,AC14,IF(AM14<=[1]角色养成!$K$86,AM14,AW14))","v":0},{"$f":"IF(AD14<=[1]角色养成!$J$86,AD14,IF(AN14<=[1]角色养成!$K$86,AN14,AX14))","v":0},{"$f":"IF(AE14<=[1]角色养成!$J$86,AE14,IF(AO14<=[1]角色养成!$K$86,AO14,AY14))","v":0}]
[14,11,11,9,7,7,117,117,117,117,117,4,4,4,4,4,3,3,3,3,3,{"$f":"IF(AA15<=[1]角色养成!$J$86,AA15,IF(AK15<=[1]角色养成!$K$86,AK15,AU15))","v":0},{"$f":"IF(AB15<=[1]角色养成!$J$86,AB15,IF(AL15<=[1]角色养成!$K$86,AL15,AV15))","v":0},{"$f":"IF(AC15<=[1]角色养成!$J$86,AC15,IF(AM15<=[1]角色养成!$K$86,AM15,AW15))","v":0},{"$f":"IF(AD15<=[1]角色养成!$J$86,AD15,IF(AN15<=[1]角色养成!$K$86,AN15,AX15))","v":0},{"$f":"IF(AE15<=[1]角色养成!$J$86,AE15,IF(AO15<=[1]角色养成!$K$86,AO15,AY15))","v":0}]
[15,11,11,11,7,7,119,119,119,119,119,4,4,4,4,4,3,3,3,3,3,{"$f":"IF(AA16<=[1]角色养成!$J$86,AA16,IF(AK16<=[1]角色养成!$K$86,AK16,AU16))","v":0},{"$f":"IF(AB16<=[1]角色养成!$J$86,AB16,IF(AL16<=[1]角色养成!$K$86,AL16,AV16))","v":0},{"$f":"IF(AC16<=[1]角色养成!$J$86,AC16,IF(AM16<=[1]角色养成!$K$86,AM16,AW16))","v":0},{"$f":"IF(AD16<=[1]角色养成!$J$86,AD16,IF(AN16<=[1]角色养成!$K$86,AN16,AX16))","v":0},{"$f":"IF(AE16<=[1]角色养成!$J$86,AE16,IF(AO16<=[1]角色养成!$K$86,AO16,AY16))","v":0}]
[16,11,11,11,7,7,124,124,124,120,120,4,4,4,4,4,3,3,3,3,3,{"$f":"IF(AA17<=[1]角色养成!$J$86,AA17,IF(AK17<=[1]角色养成!$K$86,AK17,AU17))","v":0},{"$f":"IF(AB17<=[1]角色养成!$J$86,AB17,IF(AL17<=[1]角色养成!$K$86,AL17,AV17))","v":0},{"$f":"IF(AC17<=[1]角色养成!$J$86,AC17,IF(AM17<=[1]角色养成!$K$86,AM17,AW17))","v":0},{"$f":"IF(AD17<=[1]角色养成!$J$86,AD17,IF(AN17<=[1]角色养成!$K$86,AN17,AX17))","v":0},{"$f":"IF(AE17<=[1]角色养成!$J$86,AE17,IF(AO17<=[1]角色养成!$K$86,AO17,AY17))","v":0}]
[17,11,11,11,7,7,127,127,127,120,120,4,4,4,4,4,3,3,3,3,3,{"$f":"IF(AA18<=[1]角色养成!$J$86,AA18,IF(AK18<=[1]角色养成!$K$86,AK18,AU18))","v":0},{"$f":"IF(AB18<=[1]角色养成!$J$86,AB18,IF(AL18<=[1]角色养成!$K$86,AL18,AV18))","v":0},{"$f":"IF(AC18<=[1]角色养成!$J$86,AC18,IF(AM18<=[1]角色养成!$K$86,AM18,AW18))","v":0},{"$f":"IF(AD18<=[1]角色养成!$J$86,AD18,IF(AN18<=[1]角色养成!$K$86,AN18,AX18))","v":0},{"$f":"IF(AE18<=[1]角色养成!$J$86,AE18,IF(AO18<=[1]角色养成!$K$86,AO18,AY18))","v":0}]
[18,11,11,11,9,7,129,129,129,129,120,4,4,4,4,4,3,3,3,3,3,{"$f":"IF(AA19<=[1]角色养成!$J$86,AA19,IF(AK19<=[1]角色养成!$K$86,AK19,AU19))","v":0},{"$f":"IF(AB19<=[1]角色养成!$J$86,AB19,IF(AL19<=[1]角色养成!$K$86,AL19,AV19))","v":0},{"$f":"IF(AC19<=[1]角色养成!$J$86,AC19,IF(AM19<=[1]角色养成!$K$86,AM19,AW19))","v":0},{"$f":"IF(AD19<=[1]角色养成!$J$86,AD19,IF(AN19<=[1]角色养成!$K$86,AN19,AX19))","v":0},{"$f":"IF(AE19<=[1]角色养成!$J$86,AE19,IF(AO19<=[1]角色养成!$K$86,AO19,AY19))","v":0}]
[19,11,11,11,9,7,134,134,134,134,120,4,4,4,4,4,3,3,3,3,3,{"$f":"IF(AA20<=[1]角色养成!$J$86,AA20,IF(AK20<=[1]角色养成!$K$86,AK20,AU20))","v":0},{"$f":"IF(AB20<=[1]角色养成!$J$86,AB20,IF(AL20<=[1]角色养成!$K$86,AL20,AV20))","v":0},{"$f":"IF(AC20<=[1]角色养成!$J$86,AC20,IF(AM20<=[1]角色养成!$K$86,AM20,AW20))","v":0},{"$f":"IF(AD20<=[1]角色养成!$J$86,AD20,IF(AN20<=[1]角色养成!$K$86,AN20,AX20))","v":0},{"$f":"IF(AE20<=[1]角色养成!$J$86,AE20,IF(AO20<=[1]角色养成!$K$86,AO20,AY20))","v":0}]
[20,11,11,11,11,7,137,137,137,137,120,4,4,4,4,4,3,3,3,3,3,{"$f":"IF(AA21<=[1]角色养成!$J$86,AA21,IF(AK21<=[1]角色养成!$K$86,AK21,AU21))","v":0},{"$f":"IF(AB21<=[1]角色养成!$J$86,AB21,IF(AL21<=[1]角色养成!$K$86,AL21,AV21))","v":0},{"$f":"IF(AC21<=[1]角色养成!$J$86,AC21,IF(AM21<=[1]角色养成!$K$86,AM21,AW21))","v":0},{"$f":"IF(AD21<=[1]角色养成!$J$86,AD21,IF(AN21<=[1]角色养成!$K$86,AN21,AX21))","v":0},{"$f":"IF(AE21<=[1]角色养成!$J$86,AE21,IF(AO21<=[1]角色养成!$K$86,AO21,AY21))","v":0}]
[21,11,11,11,11,7,142,142,142,142,120,4,4,4,4,4,3,3,3,3,3,{"$f":"IF(AA22<=[1]角色养成!$J$86,AA22,IF(AK22<=[1]角色养成!$K$86,AK22,AU22))","v":0},{"$f":"IF(AB22<=[1]角色养成!$J$86,AB22,IF(AL22<=[1]角色养成!$K$86,AL22,AV22))","v":0},{"$f":"IF(AC22<=[1]角色养成!$J$86,AC22,IF(AM22<=[1]角色养成!$K$86,AM22,AW22))","v":0},{"$f":"IF(AD22<=[1]角色养成!$J$86,AD22,IF(AN22<=[1]角色养成!$K$86,AN22,AX22))","v":0},{"$f":"IF(AE22<=[1]角色养成!$J$86,AE22,IF(AO22<=[1]角色养成!$K$86,AO22,AY22))","v":0}]
[22,11,11,11,11,7,146,146,146,146,120,4,4,4,4,4,3,3,3,3,3,{"$f":"IF(AA23<=[1]角色养成!$J$86,AA23,IF(AK23<=[1]角色养成!$K$86,AK23,AU23))","v":0},{"$f":"IF(AB23<=[1]角色养成!$J$86,AB23,IF(AL23<=[1]角色养成!$K$86,AL23,AV23))","v":0},{"$f":"IF(AC23<=[1]角色养成!$J$86,AC23,IF(AM23<=[1]角色养成!$K$86,AM23,AW23))","v":0},{"$f":"IF(AD23<=[1]角色养成!$J$86,AD23,IF(AN23<=[1]角色养成!$K$86,AN23,AX23))","v":0},{"$f":"IF(AE23<=[1]角色养成!$J$86,AE23,IF(AO23<=[1]角色养成!$K$86,AO23,AY23))","v":0}]
[23,11,11,11,11,9,151,151,151,151,140,4,4,4,4,4,3,3,3,3,3,{"$f":"IF(AA24<=[1]角色养成!$J$86,AA24,IF(AK24<=[1]角色养成!$K$86,AK24,AU24))","v":0},{"$f":"IF(AB24<=[1]角色养成!$J$86,AB24,IF(AL24<=[1]角色养成!$K$86,AL24,AV24))","v":0},{"$f":"IF(AC24<=[1]角色养成!$J$86,AC24,IF(AM24<=[1]角色养成!$K$86,AM24,AW24))","v":0},{"$f":"IF(AD24<=[1]角色养成!$J$86,AD24,IF(AN24<=[1]角色养成!$K$86,AN24,AX24))","v":0},{"$f":"IF(AE24<=[1]角色养成!$J$86,AE24,IF(AO24<=[1]角色养成!$K$86,AO24,AY24))","v":0}]
[24,11,11,11,11,9,154,154,154,154,140,4,4,4,4,4,3,3,3,3,3,{"$f":"IF(AA25<=[1]角色养成!$J$86,AA25,IF(AK25<=[1]角色养成!$K$86,AK25,AU25))","v":0},{"$f":"IF(AB25<=[1]角色养成!$J$86,AB25,IF(AL25<=[1]角色养成!$K$86,AL25,AV25))","v":0},{"$f":"IF(AC25<=[1]角色养成!$J$86,AC25,IF(AM25<=[1]角色养成!$K$86,AM25,AW25))","v":0},{"$f":"IF(AD25<=[1]角色养成!$J$86,AD25,IF(AN25<=[1]角色养成!$K$86,AN25,AX25))","v":0},{"$f":"IF(AE25<=[1]角色养成!$J$86,AE25,IF(AO25<=[1]角色养成!$K$86,AO25,AY25))","v":0}]
[25,11,11,11,11,9,158,158,158,158,140,4,4,4,4,4,3,3,3,3,3,{"$f":"IF(AA26<=[1]角色养成!$J$86,AA26,IF(AK26<=[1]角色养成!$K$86,AK26,AU26))","v":0},{"$f":"IF(AB26<=[1]角色养成!$J$86,AB26,IF(AL26<=[1]角色养成!$K$86,AL26,AV26))","v":0},{"$f":"IF(AC26<=[1]角色养成!$J$86,AC26,IF(AM26<=[1]角色养成!$K$86,AM26,AW26))","v":0},{"$f":"IF(AD26<=[1]角色养成!$J$86,AD26,IF(AN26<=[1]角色养成!$K$86,AN26,AX26))","v":0},{"$f":"IF(AE26<=[1]角色养成!$J$86,AE26,IF(AO26<=[1]角色养成!$K$86,AO26,AY26))","v":0}]
[26,11,11,11,11,9,160,160,160,160,140,4,4,4,4,4,3,3,3,3,3,{"$f":"IF(AA27<=[1]角色养成!$J$86,AA27,IF(AK27<=[1]角色养成!$K$86,AK27,AU27))","v":0},{"$f":"IF(AB27<=[1]角色养成!$J$86,AB27,IF(AL27<=[1]角色养成!$K$86,AL27,AV27))","v":0},{"$f":"IF(AC27<=[1]角色养成!$J$86,AC27,IF(AM27<=[1]角色养成!$K$86,AM27,AW27))","v":0},{"$f":"IF(AD27<=[1]角色养成!$J$86,AD27,IF(AN27<=[1]角色养成!$K$86,AN27,AX27))","v":0},{"$f":"IF(AE27<=[1]角色养成!$J$86,AE27,IF(AO27<=[1]角色养成!$K$86,AO27,AY27))","v":0}]
[27,11,11,11,11,11,160,160,160,160,160,4,4,4,4,4,3,3,3,3,3,{"$f":"IF(AA28<=[1]角色养成!$J$86,AA28,IF(AK28<=[1]角色养成!$K$86,AK28,AU28))","v":0},{"$f":"IF(AB28<=[1]角色养成!$J$86,AB28,IF(AL28<=[1]角色养成!$K$86,AL28,AV28))","v":0},{"$f":"IF(AC28<=[1]角色养成!$J$86,AC28,IF(AM28<=[1]角色养成!$K$86,AM28,AW28))","v":0},{"$f":"IF(AD28<=[1]角色养成!$J$86,AD28,IF(AN28<=[1]角色养成!$K$86,AN28,AX28))","v":0},{"$f":"IF(AE28<=[1]角色养成!$J$86,AE28,IF(AO28<=[1]角色养成!$K$86,AO28,AY28))","v":0}]
[28,13,13,13,13,13,168,160,160,160,160,4,4,4,4,4,3,3,3,3,3,{"$f":"IF(AA29<=[1]角色养成!$J$86,AA29,IF(AK29<=[1]角色养成!$K$86,AK29,AU29))","v":0},{"$f":"IF(AB29<=[1]角色养成!$J$86,AB29,IF(AL29<=[1]角色养成!$K$86,AL29,AV29))","v":0},{"$f":"IF(AC29<=[1]角色养成!$J$86,AC29,IF(AM29<=[1]角色养成!$K$86,AM29,AW29))","v":0},{"$f":"IF(AD29<=[1]角色养成!$J$86,AD29,IF(AN29<=[1]角色养成!$K$86,AN29,AX29))","v":0},{"$f":"IF(AE29<=[1]角色养成!$J$86,AE29,IF(AO29<=[1]角色养成!$K$86,AO29,AY29))","v":0}]
[29,13,13,13,13,13,170,160,160,160,160,4,4,4,4,4,3,3,3,3,3,{"$f":"IF(AA30<=[1]角色养成!$J$86,AA30,IF(AK30<=[1]角色养成!$K$86,AK30,AU30))","v":0},{"$f":"IF(AB30<=[1]角色养成!$J$86,AB30,IF(AL30<=[1]角色养成!$K$86,AL30,AV30))","v":0},{"$f":"IF(AC30<=[1]角色养成!$J$86,AC30,IF(AM30<=[1]角色养成!$K$86,AM30,AW30))","v":0},{"$f":"IF(AD30<=[1]角色养成!$J$86,AD30,IF(AN30<=[1]角色养成!$K$86,AN30,AX30))","v":0},{"$f":"IF(AE30<=[1]角色养成!$J$86,AE30,IF(AO30<=[1]角色养成!$K$86,AO30,AY30))","v":0}]
[30,13,13,13,13,13,173,160,160,160,160,4,4,4,4,4,3,3,3,3,3,{"$f":"IF(AA31<=[1]角色养成!$J$86,AA31,IF(AK31<=[1]角色养成!$K$86,AK31,AU31))","v":0},{"$f":"IF(AB31<=[1]角色养成!$J$86,AB31,IF(AL31<=[1]角色养成!$K$86,AL31,AV31))","v":0},{"$f":"IF(AC31<=[1]角色养成!$J$86,AC31,IF(AM31<=[1]角色养成!$K$86,AM31,AW31))","v":0},{"$f":"IF(AD31<=[1]角色养成!$J$86,AD31,IF(AN31<=[1]角色养成!$K$86,AN31,AX31))","v":0},{"$f":"IF(AE31<=[1]角色养成!$J$86,AE31,IF(AO31<=[1]角色养成!$K$86,AO31,AY31))","v":0}]