{"text_format":"2","workbook":"xlsx","n_sheets":3,"sheets":["Sheet1","Sheet2","Sheet3"],"not_rendered":{"charts":0,"images":0,"macros":0,"external_links":0,"defined_names":0,"comments":0,"pivot_tables":0},"unopened":[],"bounds":{"document_bytes":16777216,"sheet_cells":100000,"run_cost":"one","rows_first":2000,"rows_last":500,"rows_between":2000,"halvings":0,"cell_chars":16384,"cell_head_chars":4096},"cells_cut":0,"cells_raw":0,"read":"whole","date_system":"1900"}

{"sheet":"Sheet1","index":0,"n_rows":53,"n_cols":57,"rows_kept":53,"cut":false,"hidden":false,"merged":[]}
["HeroID",null,"偏向","Equip1","Equip2","Equip3","Equip4","Equip5","Equip6","MainAttribute1","MainAttribute2","MainAttribute3","MainAttribute4","MainAttribute5","MainAttribute6","SecondAttr1_1","SecondAttr1_2","SecondAttr1_3","SecondAttr1_4","SecondAttr1_5","SecondAttr1_6","SecondAttr1_7","SecondAttr2_1","SecondAttr2_2","SecondAttr2_3","SecondAttr2_4","SecondAttr2_5","SecondAttr2_6","SecondAttr2_7","SecondAttr3_1","SecondAttr3_2","SecondAttr3_3","SecondAttr3_4","SecondAttr3_5","SecondAttr3_6","SecondAttr3_7","SecondAttr4_1","SecondAttr4_2","SecondAttr4_3","SecondAttr4_4","SecondAttr4_5","SecondAttr4_6","SecondAttr4_7","SecondAttr5_1","SecondAttr5_2","SecondAttr5_3","SecondAttr5_4","SecondAttr5_5","SecondAttr5_6","SecondAttr5_7","SecondAttr6_1","SecondAttr6_2","SecondAttr6_3","SecondAttr6_4","SecondAttr6_5","SecondAttr6_6","SecondAttr6_7"]
[151,"重炮蛛",1,{"$f":"C2","v":1},{"$f":"D2","v":1},1,1,1,1,4,{"$f":"IF($C2=1,44,IF(C2=2,45,IF(C2=3,42,69)))","v":44},{"$f":"IF($C2=1,44,IF(D2=2,45,IF(D2=3,42,69)))","v":44},5,2,{"$f":"IF($C2=1,44,IF(G2=2,45,IF(G2=3,42,69)))","v":44},44,45,42,44,45,42,{"$f":"IF($C2=1,44,42)","v":44},{"$f":"IF($K2=44,91,44)","v":91},{"$f":"IF($K2=45,92,45)","v":45},{"$f":"IF($K2=42,89,42)","v":42},{"$f":"IF($K2=44,91,44)","v":91},{"$f":"IF($K2=45,92,45)","v":45},{"$f":"IF($K2=42,89,42)","v":42},{"$f":"IF($K2=42,89,42)","v":42},{"$f":"IF($L2=44,91,44)","v":91},{"$f":"IF($L2=45,92,45)","v":45},{"$f":"IF($L2=42,89,42)","v":42},{"$f":"IF($L2=44,91,44)","v":91},{"$f":"IF($L2=45,92,45)","v":45},{"$f":"IF($L2=42,89,42)","v":42},{"$f":"IF($L2=42,89,42)","v":42},44,45,42,44,45,42,44,44,45,42,44,45,42,44,{"$f":"IF($O2=44,91,44)","v":91},{"$f":"IF($O2=45,92,45)","v":45},{"$f":"IF($O2=42,89,42)","v":42},{"$f":"IF($O2=44,91,44)","v":91},{"$f":"IF($O2=45,92,45)","v":45},{"$f":"IF($O2=42,89,42)","v":42},{"$f":"IF($O2=42,89,42)","v":42}]
[152,"军医",3,{"$f":"C3","v":3},3,3,3,3,3,4,{"$f":"IF($C3=1,44,IF(C3=2,45,IF(C3=3,42,69)))","v":42},{"$f":"IF($C3=1,44,IF(D3=2,45,IF(D3=3,42,69)))","v":42},5,2,{"$f":"IF($C3=1,44,IF(G3=2,45,IF(G3=3,42,69)))","v":42},44,45,42,44,45,42,{"$f":"IF($C3=1,44,42)","v":42},{"$f":"IF($K3=44,91,44)","v":44},{"$f":"IF($K3=45,92,45)","v":45},{"$f":"IF($K3=42,89,42)","v":89},{"$f":"IF($K3=44,91,44)","v":44},{"$f":"IF($K3=45,92,45)","v":45},{"$f":"IF($K3=42,89,42)","v":89},{"$f":"IF($K3=42,89,42)","v":89},{"$f":"IF($L3=44,91,44)","v":44},{"$f":"IF($L3=45,92,45)","v":45},{"$f":"IF($L3=42,89,42)","v":89},{"$f":"IF($L3=44,91,44)","v":44},{"$f":"IF($L3=45,92,45)","v":45},{"$f":"IF($L3=42,89,42)","v":89},89,44,45,42,44,45,42,42,44,45,42,44,45,42,42,{"$f":"IF($O3=44,91,44)","v":44},{"$f":"IF($O3=45,92,45)","v":45},{"$f":"IF($O3=42,89,42)","v":89},{"$f":"IF($O3=44,91,44)","v":44},{"$f":"IF($O3=45,92,45)","v":45},{"$f":"IF($O3=42,89,42)","v":89},89]
[153,"热能兵",3,{"$f":"C4","v":3},3,3,3,3,3,4,42,42,5,2,42,44,45,42,44,45,42,42,44,45,89,44,45,89,89,44,45,89,44,45,89,89,44,45,42,44,45,42,42,44,45,42,44,45,42,42,44,45,89,44,45,89,89]
[154,"啄木鸟",1,{"$f":"C5","v":1},1,1,1,1,1,4,44,44,5,2,44,44,45,42,44,45,42,44,91,45,42,91,45,42,42,91,45,42,91,45,42,42,44,45,42,44,45,42,44,44,45,42,44,45,42,44,91,45,42,91,45,42,42]
[155,"枪骑士",1,{"$f":"C6","v":1},1,1,1,1,1,4,44,44,5,2,44,44,45,42,44,45,42,44,91,45,42,91,45,42,42,91,45,42,91,45,42,42,44,45,42,44,45,42,44,44,45,42,44,45,42,44,91,45,42,91,45,42,42]
[156,"神枪手",1,{"$f":"C7","v":1},1,1,1,1,1,4,44,44,5,2,44,44,45,42,44,45,42,44,91,45,42,91,45,42,42,91,45,42,91,45,42,42,44,45,42,44,45,42,44,44,45,42,44,45,42,44,91,45,42,91,45,42,42]
[157,"斧卫士",1,{"$f":"C8","v":1},1,1,1,1,1,4,44,44,5,2,44,44,45,42,44,45,42,44,91,45,42,91,45,42,42,91,45,42,91,45,42,42,44,45,42,44,45,42,44,44,45,42,44,45,42,44,91,45,42,91,45,42,42]
[158,"无人机",1,{"$f":"C9","v":1},1,1,1,1,1,4,44,44,5,2,44,44,45,42,44,45,42,44,91,45,42,91,45,42,42,91,45,42,91,45,42,42,44,45,42,44,45,42,44,44,45,42,44,45,42,44,91,45,42,91,45,42,42]
[159,"侦察机",1,{"$f":"C10","v":1},1,1,1,1,1,4,44,44,5,2,44,44,45,42,44,45,42,44,91,45,42,91,45,42,42,91,45,42,91,45,42,42,44,45,42,44,45,42,44,44,45,42,44,45,42,44,91,45,42,91,45,42,42]
[160,"圣光护卫",2,{"$f":"C11","v":2},2,2,2,2,2,4,45,45,5,2,45,44,45,42,44,45,42,42,44,92,42,44,92,42,42,44,92,42,44,92,42,42,44,45,42,44,45,42,42,44,45,42,44,45,42,42,44,92,42,44,92,42,42]
[161,"斗武神",1,{"$f":"C12","v":1},1,1,1,1,1,4,44,44,5,2,44,44,45,42,44,45,42,44,91,45,42,91,45,42,42,91,45,42,91,45,42,42,44,45,42,44,45,42,44,44,45,42,44,45,42,44,91,45,42,91,45,42,42]
[162,"维修机",1,{"$f":"C13","v":1},1,1,1,1,1,4,44,44,5,2,44,44,45,42,44,45,42,44,91,45,42,91,45,42,42,91,45,42,91,45,42,42,44,45,42,44,45,42,44,44,45,42,44,45,42,44,91,45,42,91,45,42,42]
[163,"铁巨神",1,{"$f":"C14","v":1},1,1,1,1,1,4,44,44,5,2,44,44,45,42,44,45,42,44,91,45,42,91,45,42,42,91,45,42,91,45,42,42,44,45,42,44,45,42,44,44,45,42,44,45,42,44,91,45,42,91,45,42,42]
[164,"幽灵特种兵",1,{"$f":"C15","v":1},1,1,1,1,1,4,44,44,5,2,44,44,45,42,44,45,42,44,91,45,42,91,45,42,42,91,45,42,91,45,42,42,44,45,42,44,45,42,44,44,45,42,44,45,42,44,91,45,42,91,45,42,42]
[165,"爆裂特种兵",1,{"$f":"C16","v":1},1,1,1,1,1,4,44,44,5,2,44,44,45,42,44,45,42,44,91,45,42,91,45,42,42,91,45,42,91,45,42,42,44,45,42,44,45,42,44,44,45,42,44,45,42,44,91,45,42,91,45,42,42]
[166,"假面游骑",1,{"$f":"C17","v":1},1,1,1,1,1,4,44,44,5,2,44,44,45,42,44,45,42,44,91,45,42,91,45,42,42,91,45,42,91,45,42,42,44,45,42,44,45,42,44,44,45,42,44,45,42,44,91,45,42,91,45,42,42]
[167,"荒天狗",1,{"$f":"C18","v":1},1,1,1,1,1,4,44,44,5,2,44,44,45,42,44,45,42,44,91,45,42,91,45,42,42,91,45,42,91,45,42,42,44,45,42,44,45,42,44,44,45,42,44,45,42,44,91,45,42,91,45,42,42]
[301,"灵质真人",1,{"$f":"C19","v":1},1,1,1,1,1,4,44,44,5,2,44,44,45,42,44,45,42,44,91,45,42,91,45,42,42,91,45,42,91,45,42,42,44,45,42,44,45,42,44,44,45,42,44,45,42,44,91,45,42,91,45,42,42]
[302,"雷震子",1,{"$f":"C20","v":1},1,1,1,1,1,4,44,44,5,2,44,44,45,42,44,45,42,44,91,45,42,91,45,42,42,91,45,42,91,45,42,42,44,45,42,44,45,42,44,44,45,42,44,45,42,44,91,45,42,91,45,42,42]
[303,"轮回金刚",2,{"$f":"C21","v":2},2,2,2,2,2,4,45,45,5,2,45,44,45,42,44,45,42,42,44,92,42,44,92,42,42,44,92,42,44,92,42,42,44,45,42,44,45,42,42,44,45,42,44,45,42,42,44,92,42,44,92,42,42]
[305,"电蛟",1,{"$f":"C22","v":1},1,1,1,1,1,4,44,44,5,2,44,44,45,42,44,45,42,44,91,45,42,91,45,42,42,91,45,42,91,45,42,42,44,45,42,44,45,42,44,44,45,42,44,45,42,44,91,45,42,91,45,42,42]
[307,"修行者",1,{"$f":"C23","v":1},1,1,1,1,1,4,44,44,5,2,44,44,45,42,44,45,42,44,91,45,42,91,45,42,42,91,45,42,91,45,42,42,44,45,42,44,45,42,44,44,45,42,44,45,42,44,91,45,42,91,45,42,42]
[308,"刀奴",1,{"$f":"C24","v":1},1,1,1,1,1,4,44,44,5,2,44,44,45,42,44,45,42,44,91,45,42,91,45,42,42,91,45,42,91,45,42,42,44,45,42,44,45,42,44,44,45,42,44,45,42,44,91,45,42,91,45,42,42]
[306,"角马",1,{"$f":"C25","v":1},1,1,1,1,1,4,44,44,5,2,44,44,45,42,44,45,42,44,91,45,42,91,45,42,42,91,45,42,91,45,42,42,44,45,42,44,45,42,44,44,45,42,44,45,42,44,91,45,42,91,45,42,42]
[309,"不灭金刚",1,{"$f":"C26","v":1},1,1,1,1,1,4,44,44,5,2,44,44,45,42,44,45,42,44,91,45,42,91,45,42,42,91,45,42,91,45,42,42,44,45,42,44,45,42,44,44,45,42,44,45,42,44,91,45,42,91,45,42,42]
[310,"重装护卫",2,{"$f":"C27","v":2},2,2,2,2,2,4,45,45,5,2,45,44,45,42,44,45,42,42,44,92,42,44,92,42,42,44,92,42,44,92,42,42,44,45,42,44,45,42,42,44,45,42,44,45,42,42,44,92,42,44,92,42,42]
[311,"剑奴",1,{"$f":"C28","v":1},1,1,1,1,1,4,44,44,5,2,44,44,45,42,44,45,42,44,91,45,42,91,45,42,42,91,45,42,91,45,42,42,44,45,42,44,45,42,44,44,45,42,44,45,42,44,91,45,42,91,45,42,42]
[312,"翔龙",1,{"$f":"C29","v":1},1,1,1,1,1,4,44,44,5,2,44,44,45,42,44,45,42,44,91,45,42,91,45,42,42,91,45,42,91,45,42,42,44,45,42,44,45,42,44,44,45,42,44,45,42,44,91,45,42,91,45,42,42]
[313,"天师",1,{"$f":"C30","v":1},1,1,1,1,1,4,44,44,5,2,44,44,45,42,44,45,42,44,91,45,42,91,45,42,42,91,45,42,91,45,42,42,44,45,42,44,45,42,44,44,45,42,44,45,42,44,91,45,42,91,45,42,42]
[314,"十方侍卫",1,{"$f":"C31","v":1},1,1,1,1,1,4,44,44,5,2,44,44,45,42,44,45,42,44,91,45,42,91,45,42,42,91,45,42,91,45,42,42,44,45,42,44,45,42,44,44,45,42,44,45,42,44,91,45,42,91,45,42,42]
[315,"御天侍卫",1,{"$f":"C32","v":1},1,1,1,1,1,4,44,44,5,2,44,44,45,42,44,45,42,44,91,45,42,91,45,42,42,91,45,42,91,45,42,42,44,45,42,44,45,42,44,44,45,42,44,45,42,44,91,45,42,91,45,42,42]
[316,"重装战士",1,{"$f":"C33","v":1},1,1,1,1,1,4,44,44,5,2,44,44,45,42,44,45,42,44,91,45,42,91,45,42,42,91,45,42,91,45,42,42,44,45,42,44,45,42,44,44,45,42,44,45,42,44,91,45,42,91,45,42,42]
[317,"震雷之怒",1,{"$f":"C34","v":1},1,1,1,1,1,4,44,44,5,2,44,44,45,42,44,45,42,44,91,45,42,91,45,42,42,91,45,42,91,45,42,42,44,45,42,44,45,42,44,44,45,42,44,45,42,44,91,45,42,91,45,42,42]
[318,"宇宙求知者",1,{"$f":"C35","v":1},1,1,1,1,1,4,44,44,5,2,44,44,45,42,44,45,42,44,91,45,42,91,45,42,42,91,45,42,91,45,42,42,44,45,42,44,45,42,44,44,45,42,44,45,42,44,91,45,42,91,45,42,42]
[319,"神裔统领",1,{"$f":"C36","v":1},1,1,1,1,1,4,44,44,5,2,44,44,45,42,44,45,42,44,91,45,42,91,45,42,42,91,45,42,91,45,42,42,44,45,42,44,45,42,44,44,45,42,44,45,42,44,91,45,42,91,45,42,42]
[500,"狼武者",1,{"$f":"C37","v":1},1,1,1,1,1,4,44,44,5,2,44,44,45,42,44,45,42,44,91,45,42,91,45,42,42,91,45,42,91,45,42,42,44,45,42,44,45,42,44,44,45,42,44,45,42,44,91,45,42,91,45,42,42]
[501,"神射虎",1,{"$f":"C38","v":1},1,1,1,1,1,4,44,44,5,2,44,44,45,42,44,45,42,44,91,45,42,91,45,42,42,91,45,42,91,45,42,42,44,45,42,44,45,42,44,44,45,42,44,45,42,44,91,45,42,91,45,42,42]
[502,"巨齿象",2,{"$f":"C39","v":2},2,2,2,2,2,4,45,45,5,2,45,44,45,42,44,45,42,42,44,92,42,44,92,42,42,44,92,42,44,92,42,42,44,45,42,44,45,42,42,44,45,42,44,45,42,42,44,92,42,44,92,42,42]
[503,"利角遁兽",1,{"$f":"C40","v":1},1,1,1,1,1,4,44,44,5,2,44,44,45,42,44,45,42,44,91,45,42,91,45,42,42,91,45,42,91,45,42,42,44,45,42,44,45,42,44,44,45,42,44,45,42,44,91,45,42,91,45,42,42]
[504,"禅师熊猫",3,{"$f":"C41","v":3},3,3,3,3,3,4,42,42,5,2,42,44,45,42,44,45,42,42,44,45,89,44,45,89,89,44,45,89,44,45,89,89,44,45,42,44,45,42,42,44,45,42,44,45,42,42,44,45,89,44,45,89,89]
[505,"飞天蛤蟆",1,{"$f":"C42","v":1},1,1,1,1,1,4,44,44,5,2,44,44,45,42,44,45,42,44,91,45,42,91,45,42,42,91,45,42,91,45,42,42,44,45,42,44,45,42,44,44,45,42,44,45,42,44,91,45,42,91,45,42,42]
[506,"熊先锋",3,{"$f":"C43","v":3},3,3,3,3,3,4,42,42,5,2,42,44,45,42,44,45,42,42,44,45,89,44,45,89,89,44,45,89,44,45,89,89,44,45,42,44,45,42,42,44,45,42,44,45,42,42,44,45,89,44,45,89,89]
[507,"血鹰",1,{"$f":"C44","v":1},1,1,1,1,1,4,44,44,5,2,44,44,45,42,44,45,42,44,91,45,42,91,45,42,42,91,45,42,91,45,42,42,44,45,42,44,45,42,44,44,45,42,44,45,42,44,91,45,42,91,45,42,42]
[508,"夜翼妖王",1,{"$f":"C45","v":1},1,1,1,1,1,4,44,44,5,2,44,44,45,42,44,45,42,44,91,45,42,91,45,42,42,91,45,42,91,45,42,42,44,45,42,44,45,42,44,44,45,42,44,45,42,44,91,45,42,91,45,42,42]
[600,"犀牛勇士",1,{"$f":"C46","v":1},1,1,1,1,1,4,44,44,5,2,44,44,45,42,44,45,42,44,91,45,42,91,45,42,42,91,45,42,91,45,42,42,44,45,42,44,45,42,44,44,45,42,44,45,42,44,91,45,42,91,45,42,42]
[601,"猛毒兽",1,{"$f":"C47","v":1},1,1,1,1,1,4,44,44,5,2,44,44,45,42,44,45,42,44,91,45,42,91,45,42,42,91,45,42,91,45,42,42,44,45,42,44,45,42,44,44,45,42,44,45,42,44,91,45,42,91,45,42,42]
[602,"蜘蛛",1,{"$f":"C48","v":1},1,1,1,1,1,4,44,44,5,2,44,44,45,42,44,45,42,44,91,45,42,91,45,42,42,91,45,42,91,45,42,42,44,45,42,44,45,42,44,44,45,42,44,45,42,44,91,45,42,91,45,42,42]
[451,"恶鬼鼠",1,{"$f":"C49","v":1},1,1,1,1,1,4,44,44,5,2,44,44,45,42,44,45,42,44,91,45,42,91,45,42,42,91,45,42,91,45,42,42,44,45,42,44,45,42,44,44,45,42,44,45,42,44,91,45,42,91,45,42,42]
[452,"眼虫",1,{"$f":"C50","v":1},1,1,1,1,1,4,44,44,5,2,44,44,45,42,44,45,42,44,91,45,42,91,45,42,42,91,45,42,91,45,42,42,44,45,42,44,45,42,44,44,45,42,44,45,42,44,91,45,42,91,45,42,42]
[453,"蝙蝠",1,{"$f":"C51","v":1},1,1,1,1,1,4,44,44,5,2,44,44,45,42,44,45,42,44,91,45,42,91,45,42,42,91,45,42,91,45,42,42,44,45,42,44,45,42,44,44,45,42,44,45,42,44,91,45,42,91,45,42,42]
[700,"裁决兵器",2,{"$f":"C52","v":2},2,2,2,2,2,4,45,45,5,2,45,44,45,42,44,45,42,42,44,92,42,44,92,42,42,44,92,42,44,92,42,42,44,45,42,44,45,42,42,44,45,42,44,45,42,42,44,92,42,44,92,42,42]
[750,"莫瑞亚米",1,{"$f":"C53","v":1},1,1,1,1,1,4,44,44,5,2,44,44,45,42,44,45,42,44,91,45,42,91,45,42,42,91,45,42,91,45,42,42,44,45,42,44,45,42,44,44,45,42,44,45,42,44,91,45,42,91,45,42,42]

{"sheet":"Sheet2","index":1,"n_rows":18,"n_cols":9,"rows_kept":18,"cut":false,"hidden":false,"merged":[]}
[]
[]
[null,null,4,null,"CSPropIDType_Base_Atk ","攻击",0,"sxtb-1","Heroattri4"]
[null,null,5,null,"CSPropIDType_Base_Def ","防御",0,"sxtb-2","Heroattri5"]
[null,null,2,null,"CSPropIDType_Base_HpMax ","生命",0,"sxtb-3","Heroattri2"]
[]
[null,null,89,null,"CSPropIDType_Total_HpMax ","额外生命",0,"sxtb-3","Heroattri89"]
[null,null,91,null,"CSPropIDType_Total_Atk ","额外攻击",0,"sxtb-1","Heroattri91"]
[null,null,92,null,"CSPropIDType_Total_Def ","额外防御",0,"sxtb-2","Heroattri92"]
[null,null,44,null,"CSPropIDType_BaseRateAtk ","基础攻击百分比",1,"sxtb-1","Heroattri44"]
[null,null,45,null,"CSPropIDType_BaseRateDef ","基础防御百分比",1,"sxtb-2","Heroattri45"]
[null,null,42,null,"CSPropIDType_BaseRateHpMax ","基础生命百分比",1,"sxtb-3","Heroattri42"]
[null,null,69,null,"CSPropIDType_Equip_CriRate ","暴击",1,"sxtb-4","Heroattri69"]
[null,null,70,null,"CSPropIDType_Equip_CriPower ","暴伤",1,"sxtb-4","Heroattri70"]
[null,null,276,null,"CSPropIDType_EquipCriPowerRes ","暴免效果",1,"sxtb-3","Heroattri275"]
[null,null,113,null,"CSPropIDType_Total_UndmgRate ","减伤",1,"sxtb-2","Heroattri113"]
[null,null,268,null,"CSPropIDType_EquipSpellHit ","精准",0,"sxtb-5","Heroattri267"]
[null,null,272,null,"CSPropIDType_EquipSpellRes ","抗性",0,"sxtb-6","Heroattri271"]

{"sheet":"Sheet3","index":2,"n_rows":59,"n_cols":9,"rows_kept":59,"cut":false,"hidden":false,"merged":[]}
[";",{"$f":"Sheet1!D2&Sheet3!$A$1&Sheet1!E2&Sheet3!$A$1&Sheet1!F2&Sheet3!$A$1&Sheet1!G2&Sheet3!$A$1&Sheet1!H2&Sheet3!$A$1&Sheet1!I2","v":"1;1;1;1;1;1"},{"$f":"Sheet1!J2&Sheet3!$A$1&Sheet1!K2&Sheet3!$A$1&Sheet1!L2&Sheet3!$A$1&Sheet1!M2&Sheet3!$A$1&Sheet1!N2&Sheet3!$A$1&Sheet1!O2","v":"4;44;44;5;2;44"},{"$f":"Sheet1!P2&Sheet3!$A$1&Sheet1!Q2&Sheet3!$A$1&Sheet1!R2&Sheet3!$A$1&Sheet1!S2&Sheet3!$A$1&Sheet1!T2&Sheet3!$A$1&Sheet1!U2&$A$1&Sheet1!V2","v":"44;45;42;44;45;42;44"},{"$f":"Sheet1!W2&Sheet3!$A$1&Sheet1!X2&Sheet3!$A$1&Sheet1!Y2&Sheet3!$A$1&Sheet1!Z2&Sheet3!$A$1&Sheet1!AA2&Sheet3!$A$1&Sheet1!AB2&$A$1&Sheet1!AC2","v":"91;45;42;91;45;42;42"},{"$f":"Sheet1!AD2&Sheet3!$A$1&Sheet1!AE2&Sheet3!$A$1&Sheet1!AF2&Sheet3!$A$1&Sheet1!AG2&Sheet3!$A$1&Sheet1!AH2&Sheet3!$A$1&Sheet1!AI2&$A$1&Sheet1!AJ2","v":"91;45;42;91;45;42;42"},{"$f":"Sheet1!AK2&Sheet3!$A$1&Sheet1!AL2&Sheet3!$A$1&Sheet1!AM2&Sheet3!$A$1&Sheet1!AN2&Sheet3!$A$1&Sheet1!AO2&Sheet3!$A$1&Sheet1!AP2&$A$1&Sheet1!AQ2","v":"44;45;42;44;45;42;44"},{"$f":"Sheet1!AR2&Sheet3!$A$1&Sheet1!AS2&Sheet3!$A$1&Sheet1!AT2&Sheet3!$A$1&Sheet1!AU2&Sheet3!$A$1&Sheet1!AV2&Sheet3!$A$1&Sheet1!AW2&$A$1&Sheet1!AX2","v":"44;45;42;44;45;42;44"},{"$f":"Sheet1!AY2&Sheet3!$A$1&Sheet1!AZ2&Sheet3!$A$1&Sheet1!BA2&Sheet3!$A$1&Sheet1!BB2&Sheet3!$A$1&Sheet1!BC2&Sheet3!$A$1&Sheet1!BD2&$A$1&Sheet1!BE2","v":"91;45;42;91;45;42;42"}]
[null,{"$f":"Sheet1!D3&Sheet3!$A$1&Sheet1!E3&Sheet3!$A$1&Sheet1!F3&Sheet3!$A$1&Sheet1!G3&Sheet3!$A$1&Sheet1!H3&Sheet3!$A$1&Sheet1!I3","v":"3;3;3;3;3;3"},{"$f":"Sheet1!J3&Sheet3!$A$1&Sheet1!K3&Sheet3!$A$1&Sheet1!L3&Sheet3!$A$1&Sheet1!M3&Sheet3!$A$1&Sheet1!N3&Sheet3!$A$1&Sheet1!O3","v":"4;42;42;5;2;42"},{"$f":"Sheet1!P3&Sheet3!$A$1&Sheet1!Q3&Sheet3!$A$1&Sheet1!R3&Sheet3!$A$1&Sheet1!S3&Sheet3!$A$1&Sheet1!T3&Sheet3!$A$1&Sheet1!U3&$A$1&Sheet1!V3","v":"44;45;42;44;45;42;42"},{"$f":"Sheet1!W3&Sheet3!$A$1&Sheet1!X3&Sheet3!$A$1&Sheet1!Y3&Sheet3!$A$1&Sheet1!Z3&Sheet3!$A$1&Sheet1!AA3&Sheet3!$A$1&Sheet1!AB3&$A$1&Sheet1!AC3","v":"44;45;89;44;45;89;89"},{"$f":"Sheet1!AD3&Sheet3!$A$1&Sheet1!AE3&Sheet3!$A$1&Sheet1!AF3&Sheet3!$A$1&Sheet1!AG3&Sheet3!$A$1&Sheet1!AH3&Sheet3!$A$1&Sheet1!AI3&$A$1&Sheet1!AJ3","v":"44;45;89;44;45;89;89"},{"$f":"Sheet1!AK3&Sheet3!$A$1&Sheet1!AL3&Sheet3!$A$1&Sheet1!AM3&Sheet3!$A$1&Sheet1!AN3&Sheet3!$A$1&Sheet1!AO3&Sheet3!$A$1&Sheet1!AP3&$A$1&Sheet1!AQ3","v":"44;45;42;44;45;42;42"},{"$f":"Sheet1!AR3&Sheet3!$A$1&Sheet1!AS3&Sheet3!$A$1&Sheet1!AT3&Sheet3!$A$1&Sheet1!AU3&Sheet3!$A$1&Sheet1!AV3&Sheet3!$A$1&Sheet1!AW3&$A$1&Sheet1!AX3","v":"44;45;42;44;45;42;42"},{"$f":"Sheet1!AY3&Sheet3!$A$1&Sheet1!AZ3&Sheet3!$A$1&Sheet1!BA3&Sheet3!$A$1&Sheet1!BB3&Sheet3!$A$1&Sheet1!BC3&Sheet3!$A$1&Sheet1!BD3&$A$1&Sheet1!BE3","v":"44;45;89;44;45;89;89"}]
[null,{"$f":"Sheet1!D4&Sheet3!$A$1&Sheet1!E4&Sheet3!$A$1&Sheet1!F4&Sheet3!$A$1&Sheet1!G4&Sheet3!$A$1&Sheet1!H4&Sheet3!$A$1&Sheet1!I4","v":"3;3;3;3;3;3"},{"$f":"Sheet1!J4&Sheet3!$A$1&Sheet1!K4&Sheet3!$A$1&Sheet1!L4&Sheet3!$A$1&Sheet1!M4&Sheet3!$A$1&Sheet1!N4&Sheet3!$A$1&Sheet1!O4","v":"4;42;42;5;2;42"},{"$f":"Sheet1!P4&Sheet3!$A$1&Sheet1!Q4&Sheet3!$A$1&Sheet1!R4&Sheet3!$A$1&Sheet1!S4&Sheet3!$A$1&Sheet1!T4&Sheet3!$A$1&Sheet1!U4&$A$1&Sheet1!V4","v":"44;45;42;44;45;42;42"},{"$f":"Sheet1!W4&Sheet3!$A$1&Sheet1!X4&Sheet3!$A$1&Sheet1!Y4&Sheet3!$A$1&Sheet1!Z4&Sheet3!$A$1&Sheet1!AA4&Sheet3!$A$1&Sheet1!AB4&$A$1&Sheet1!AC4","v":"44;45;89;44;45;89;89"},{"$f":"Sheet1!AD4&Sheet3!$A$1&Sheet1!AE4&Sheet3!$A$1&Sheet1!AF4&Sheet3!$A$1&Sheet1!AG4&Sheet3!$A$1&Sheet1!AH4&Sheet3!$A$1&Sheet1!AI4&$A$1&Sheet1!AJ4","v":"44;45;89;44;45;89;89"},{"$f":"Sheet1!AK4&Sheet3!$A$1&Sheet1!AL4&Sheet3!$A$1&Sheet1!AM4&Sheet3!$A$1&Sheet1!AN4&Sheet3!$A$1&Sheet1!AO4&Sheet3!$A$1&Sheet1!AP4&$A$1&Sheet1!AQ4","v":"44;45;42;44;45;42;42"},{"$f":"Sheet1!AR4&Sheet3!$A$1&Sheet1!AS4&Sheet3!$A$1&Sheet1!AT4&Sheet3!$A$1&Sheet1!AU4&Sheet3!$A$1&Sheet1!AV4&Sheet3!$A$1&Sheet1!AW4&$A$1&Sheet1!AX4","v":"44;45;42;44;45;42;42"},{"$f":"Sheet1!AY4&Sheet3!$A$1&Sheet1!AZ4&Sheet3!$A$1&Sheet1!BA4&Sheet3!$A$1&Sheet1!BB4&Sheet3!$A$1&Sheet1!BC4&Sheet3!$A$1&Sheet1!BD4&$A$1&Sheet1!BE4","v":"44;45;89;44;45;89;89"}]
[null,{"$f":"Sheet1!D5&Sheet3!$A$1&Sheet1!E5&Sheet3!$A$1&Sheet1!F5&Sheet3!$A$1&Sheet1!G5&Sheet3!$A$1&Sheet1!H5&Sheet3!$A$1&Sheet1!I5","v":"1;1;1;1;1;1"},{"$f":"Sheet1!J5&Sheet3!$A$1&Sheet1!K5&Sheet3!$A$1&Sheet1!L5&Sheet3!$A$1&Sheet1!M5&Sheet3!$A$1&Sheet1!N5&Sheet3!$A$1&Sheet1!O5","v":"4;44;44;5;2;44"},{"$f":"Sheet1!P5&Sheet3!$A$1&Sheet1!Q5&Sheet3!$A$1&Sheet1!R5&Sheet3!$A$1&Sheet1!S5&Sheet3!$A$1&Sheet1!T5&Sheet3!$A$1&Sheet1!U5&$A$1&Sheet1!V5","v":"44;45;42;44;45;42;44"},{"$f":"Sheet1!W5&Sheet3!$A$1&Sheet1!X5&Sheet3!$A$1&Sheet1!Y5&Sheet3!$A$1&Sheet1!Z5&Sheet3!$A$1&Sheet1!AA5&Sheet3!$A$1&Sheet1!AB5&$A$1&Sheet1!AC5","v":"91;45;42;91;45;42;42"},{"$f":"Sheet1!AD5&Sheet3!$A$1&Sheet1!AE5&Sheet3!$A$1&Sheet1!AF5&Sheet3!$A$1&Sheet1!AG5&Sheet3!$A$1&Sheet1!AH5&Sheet3!$A$1&Sheet1!AI5&$A$1&Sheet1!AJ5","v":"91;45;42;91;45;42;42"},{"$f":"Sheet1!AK5&Sheet3!$A$1&Sheet1!AL5&Sheet3!$A$1&Sheet1!AM5&Sheet3!$A$1&Sheet1!AN5&Sheet3!$A$1&Sheet1!AO5&Sheet3!$A$1&Sheet1!AP5&$A$1&Sheet1!AQ5","v":"44;45;42;44;45;42;44"},{"$f":"Sheet1!AR5&Sheet3!$A$1&Sheet1!AS5&Sheet3!$A$1&Sheet1!AT5&Sheet3!$A$1&Sheet1!AU5&Sheet3!$A$1&Sheet1!AV5&Sheet3!$A$1&Sheet1!AW5&$A$1&Sheet1!AX5","v":"44;45;42;44;45;42;44"},{"$f":"Sheet1!AY5&Sheet3!$A$1&Sheet1!AZ5&Sheet3!$A$1&Sheet1!BA5&Sheet3!$A$1&Sheet1!BB5&Sheet3!$A$1&Sheet1!BC5&Sheet3!$A$1&Sheet1!BD5&$A$1&Sheet1!BE5","v":"91;45;42;91;45;42;42"}]
[null,{"$f":"Sheet1!D6&Sheet3!$A$1&Sheet1!E6&Sheet3!$A$1&Sheet1!F6&Sheet3!$A$1&Sheet1!G6&Sheet3!$A$1&Sheet1!H6&Sheet3!$A$1&Sheet1!I6","v":"1;1;1;1;1;1"},{"$f":"Sheet1!J6&Sheet3!$A$1&Sheet1!K6&Sheet3!$A$1&Sheet1!L6&Sheet3!$A$1&Sheet1!M6&Sheet3!$A$1&Sheet1!N6&Sheet3!$A$1&Sheet1!O6","v":"4;44;44;5;2;44"},{"$f":"Sheet1!P6&Sheet3!$A$1&Sheet1!Q6&Sheet3!$A$1&Sheet1!R6&Sheet3!$A$1&Sheet1!S6&Sheet3!$A$1&Sheet1!T6&Sheet3!$A$1&Sheet1!U6&$A$1&Sheet1!V6","v":"44;45;42;44;45;42;44"},{"$f":"Sheet1!W6&Sheet3!$A$1&Sheet1!X6&Sheet3!$A$1&Sheet1!Y6&Sheet3!$A$1&Sheet1!Z6&Sheet3!$A$1&Sheet1!AA6&Sheet3!$A$1&Sheet1!AB6&$A$1&Sheet1!AC6","v":"91;45;42;91;45;42;42"},{"$f":"Sheet1!AD6&Sheet3!$A$1&Sheet1!AE6&Sheet3!$A$1&Sheet1!AF6&Sheet3!$A$1&Sheet1!AG6&Sheet3!$A$1&Sheet1!AH6&Sheet3!$A$1&Sheet1!AI6&$A$1&Sheet1!AJ6","v":"91;45;42;91;45;42;42"},{"$f":"Sheet1!AK6&Sheet3!$A$1&Sheet1!AL6&Sheet3!$A$1&Sheet1!AM6&Sheet3!$A$1&Sheet1!AN6&Sheet3!$A$1&Sheet1!AO6&Sheet3!$A$1&Sheet1!AP6&$A$1&Sheet1!AQ6","v":"44;45;42;44;45;42;44"},{"$f":"Sheet1!AR6&Sheet3!$A$1&Sheet1!AS6&Sheet3!$A$1&Sheet1!AT6&Sheet3!$A$1&Sheet1!AU6&Sheet3!$A$1&Sheet1!AV6&Sheet3!$A$1&Sheet1!AW6&$A$1&Sheet1!AX6","v":"44;45;42;44;45;42;44"},{"$f":"Sheet1!AY6&Sheet3!$A$1&Sheet1!AZ6&Sheet3!$A$1&Sheet1!BA6&Sheet3!$A$1&Sheet1!BB6&Sheet3!$A$1&Sheet1!BC6&Sheet3!$A$1&Sheet1!BD6&$A$1&Sheet1!BE6","v":"91;45;42;91;45;42;42"}]
[null,{"$f":"Sheet1!D7&Sheet3!$A$1&Sheet1!E7&Sheet3!$A$1&Sheet1!F7&Sheet3!$A$1&Sheet1!G7&Sheet3!$A$1&Sheet1!H7&Sheet3!$A$1&Sheet1!I7","v":"1;1;1;1;1;1"},{"$f":"Sheet1!J7&Sheet3!$A$1&Sheet1!K7&Sheet3!$A$1&Sheet1!L7&Sheet3!$A$1&Sheet1!M7&Sheet3!$A$1&Sheet1!N7&Sheet3!$A$1&Sheet1!O7","v":"4;44;44;5;2;44"},{"$f":"Sheet1!P7&Sheet3!$A$1&Sheet1!Q7&Sheet3!$A$1&Sheet1!R7&Sheet3!$A$1&Sheet1!S7&Sheet3!$A$1&Sheet1!T7&Sheet3!$A$1&Sheet1!U7&$A$1&Sheet1!V7","v":"44;45;42;44;45;42;44"},{"$f":"Sheet1!W7&Sheet3!$A$1&Sheet1!X7&Sheet3!$A$1&Sheet1!Y7&Sheet3!$A$1&Sheet1!Z7&Sheet3!$A$1&Sheet1!AA7&Sheet3!$A$1&Sheet1!AB7&$A$1&Sheet1!AC7","v":"91;45;42;91;45;42;42"},{"$f":"Sheet1!AD7&Sheet3!$A$1&Sheet1!AE7&Sheet3!$A$1&Sheet1!AF7&Sheet3!$A$1&Sheet1!AG7&Sheet3!$A$1&Sheet1!AH7&Sheet3!$A$1&Sheet1!AI7&$A$1&Sheet1!AJ7","v":"91;45;42;91;45;42;42"},{"$f":"Sheet1!AK7&Sheet3!$A$1&Sheet1!AL7&Sheet3!$A$1&Sheet1!AM7&Sheet3!$A$1&Sheet1!AN7&Sheet3!$A$1&Sheet1!AO7&Sheet3!$A$1&Sheet1!AP7&$A$1&Sheet1!AQ7","v":"44;45;42;44;45;42;44"},{"$f":"Sheet1!AR7&Sheet3!$A$1&Sheet1!AS7&Sheet3!$A$1&Sheet1!AT7&Sheet3!$A$1&Sheet1!AU7&Sheet3!$A$1&Sheet1!AV7&Sheet3!$A$1&Sheet1!AW7&$A$1&Sheet1!AX7","v":"44;45;42;44;45;42;44"},{"$f":"Sheet1!AY7&Sheet3!$A$1&Sheet1!AZ7&Sheet3!$A$1&Sheet1!BA7&Sheet3!$A$1&Sheet1!BB7&Sheet3!$A$1&Sheet1!BC7&Sheet3!$A$1&Sheet1!BD7&$A$1&Sheet1!BE7","v":"91;45;42;91;45;42;42"}]
[null,{"$f":"Sheet1!D8&Sheet3!$A$1&Sheet1!E8&Sheet3!$A$1&Sheet1!F8&Sheet3!$A$1&Sheet1!G8&Sheet3!$A$1&Sheet1!H8&Sheet3!$A$1&Sheet1!I8","v":"1;1;1;1;1;1"},{"$f":"Sheet1!J8&Sheet3!$A$1&Sheet1!K8&Sheet3!$A$1&Sheet1!L8&Sheet3!$A$1&Sheet1!M8&Sheet3!$A$1&Sheet1!N8&Sheet3!$A$1&Sheet1!O8","v":"4;44;44;5;2;44"},{"$f":"Sheet1!P8&Sheet3!$A$1&Sheet1!Q8&Sheet3!$A$1&Sheet1!R8&Sheet3!$A$1&Sheet1!S8&Sheet3!$A$1&Sheet1!T8&Sheet3!$A$1&Sheet1!U8&$A$1&Sheet1!V8","v":"44;45;42;44;45;42;44"},{"$f":"Sheet1!W8&Sheet3!$A$1&Sheet1!X8&Sheet3!$A$1&Sheet1!Y8&Sheet3!$A$1&Sheet1!Z8&Sheet3!$A$1&Sheet1!AA8&Sheet3!$A$1&Sheet1!AB8&$A$1&Sheet1!AC8","v":"91;45;42;91;45;42;42"},{"$f":"Sheet1!AD8&Sheet3!$A$1&Sheet1!AE8&Sheet3!$A$1&Sheet1!AF8&Sheet3!$A$1&Sheet1!AG8&Sheet3!$A$1&Sheet1!AH8&Sheet3!$A$1&Sheet1!AI8&$A$1&Sheet1!AJ8","v":"91;45;42;91;45;42;42"},{"$f":"Sheet1!AK8&Sheet3!$A$1&Sheet1!AL8&Sheet3!$A$1&Sheet1!AM8&Sheet3!$A$1&Sheet1!AN8&Sheet3!$A$1&Sheet1!AO8&Sheet3!$A$1&Sheet1!AP8&$A$1&Sheet1!AQ8","v":"44;45;42;44;45;42;44"},{"$f":"Sheet1!AR8&Sheet3!$A$1&Sheet1!AS8&Sheet3!$A$1&Sheet1!AT8&Sheet3!$A$1&Sheet1!AU8&Sheet3!$A$1&Sheet1!AV8&Sheet3!$A$1&Sheet1!AW8&$A$1&Sheet1!AX8","v":"44;45;42;44;45;42;44"},{"$f":"Sheet1!AY8&Sheet3!$A$1&Sheet1!AZ8&Sheet3!$A$1&Sheet1!BA8&Sheet3!$A$1&Sheet1!BB8&Sheet3!$A$1&Sheet1!BC8&Sheet3!$A$1&Sheet1!BD8&$A$1&Sheet1!BE8","v":"91;45;42;91;45;42;42"}]
[null,{"$f":"Sheet1!D9&Sheet3!$A$1&Sheet1!E9&Sheet3!$A$1&Sheet1!F9&Sheet3!$A$1&Sheet1!G9&Sheet3!$A$1&Sheet1!H9&Sheet3!$A$1&Sheet1!I9","v":"1;1;1;1;1;1"},{"$f":"Sheet1!J9&Sheet3!$A$1&Sheet1!K9&Sheet3!$A$1&Sheet1!L9&Sheet3!$A$1&Sheet1!M9&Sheet3!$A$1&Sheet1!N9&Sheet3!$A$1&Sheet1!O9","v":"4;44;44;5;2;44"},{"$f":"Sheet1!P9&Sheet3!$A$1&Sheet1!Q9&Sheet3!$A$1&Sheet1!R9&Sheet3!$A$1&Sheet1!S9&Sheet3!$A$1&Sheet1!T9&Sheet3!$A$1&Sheet1!U9&$A$1&Sheet1!V9","v":"44;45;42;44;45;42;44"},{"$f":"Sheet1!W9&Sheet3!$A$1&Sheet1!X9&Sheet3!$A$1&Sheet1!Y9&Sheet3!$A$1&Sheet1!Z9&Sheet3!$A$1&Sheet1!AA9&Sheet3!$A$1&Sheet1!AB9&$A$1&Sheet1!AC9","v":"91;45;42;91;45;42;42"},{"$f":"Sheet1!AD9&Sheet3!$A$1&Sheet1!AE9&Sheet3!$A$1&Sheet1!AF9&Sheet3!$A$1&Sheet1!AG9&Sheet3!$A$1&Sheet1!AH9&Sheet3!$A$1&Sheet1!AI9&$A$1&Sheet1!AJ9","v":"91;45;42;91;45;42;42"},{"$f":"Sheet1!AK9&Sheet3!$A$1&Sheet1!AL9&Sheet3!$A$1&Sheet1!AM9&Sheet3!$A$1&Sheet1!AN9&Sheet3!$A$1&Sheet1!AO9&Sheet3!$A$1&Sheet1!AP9&$A$1&Sheet1!AQ9","v":"44;45;42;44;45;42;44"},{"$f":"Sheet1!AR9&Sheet3!$A$1&Sheet1!AS9&Sheet3!$A$1&Sheet1!AT9&Sheet3!$A$1&Sheet1!AU9&Sheet3!$A$1&Sheet1!AV9&Sheet3!$A$1&Sheet1!AW9&$A$1&Sheet1!AX9","v":"44;45;42;44;45;42;44"},{"$f":"Sheet1!AY9&Sheet3!$A$1&Sheet1!AZ9&Sheet3!$A$1&Sheet1!BA9&Sheet3!$A$1&Sheet1!BB9&Sheet3!$A$1&Sheet1!BC9&Sheet3!$A$1&Sheet1!BD9&$A$1&Sheet1!BE9","v":"91;45;42;91;45;42;42"}]
[null,{"$f":"Sheet1!D10&Sheet3!$A$1&Sheet1!E10&Sheet3!$A$1&Sheet1!F10&Sheet3!$A$1&Sheet1!G10&Sheet3!$A$1&Sheet1!H10&Sheet3!$A$1&Sheet1!I10","v":"1;1;1;1;1;1"},{"$f":"Sheet1!J10&Sheet3!$A$1&Sheet1!K10&Sheet3!$A$1&Sheet1!L10&Sheet3!$A$1&Sheet1!M10&Sheet3!$A$1&Sheet1!N10&Sheet3!$A$1&Sheet1!O10","v":"4;44;44;5;2;44"},{"$f":"Sheet1!P10&Sheet3!$A$1&Sheet1!Q10&Sheet3!$A$1&Sheet1!R10&Sheet3!$A$1&Sheet1!S10&Sheet3!$A$1&Sheet1!T10&Sheet3!$A$1&Sheet1!U10&$A$1&Sheet1!V10","v":"44;45;42;44;45;42;44"},{"$f":"Sheet1!W10&Sheet3!$A$1&Sheet1!X10&Sheet3!$A$1&Sheet1!Y10&Sheet3!$A$1&Sheet1!Z10&Sheet3!$A$1&Sheet1!AA10&Sheet3!$A$1&Sheet1!AB10&$A$1&Sheet1!AC10","v":"91;45;42;91;45;42;42"},{"$f":"Sheet1!AD10&Sheet3!$A$1&Sheet1!AE10&Sheet3!$A$1&Sheet1!AF10&Sheet3!$A$1&Sheet1!AG10&Sheet3!$A$1&Sheet1!AH10&Sheet3!$A$1&Sheet1!AI10&$A$1&Sheet1!AJ10","v":"91;45;42;91;45;42;42"},{"$f":"Sheet1!AK10&Sheet3!$A$1&Sheet1!AL10&Sheet3!$A$1&Sheet1!AM10&Sheet3!$A$1&Sheet1!AN10&Sheet3!$A$1&Sheet1!AO10&Sheet3!$A$1&Sheet1!AP10&$A$1&Sheet1!AQ10","v":"44;45;42;44;45;42;44"},{"$f":"Sheet1!AR10&Sheet3!$A$1&Sheet1!AS10&Sheet3!$A$1&Sheet1!AT10&Sheet3!$A$1&Sheet1!AU10&Sheet3!$A$1&Sheet1!AV10&Sheet3!$A$1&Sheet1!AW10&$A$1&Sheet1!AX10","v":"44;45;42;44;45;42;44"},{"$f":"Sheet1!AY10&Sheet3!$A$1&Sheet1!AZ10&Sheet3!$A$1&Sheet1!BA10&Sheet3!$A$1&Sheet1!BB10&Sheet3!$A$1&Sheet1!BC10&Sheet3!$A$1&Sheet1!BD10&$A$1&Sheet1!BE10","v":"91;45;42;91;45;42;42"}]
[null,{"$f":"Sheet1!D11&Sheet3!$A$1&Sheet1!E11&Sheet3!$A$1&Sheet1!F11&Sheet3!$A$1&Sheet1!G11&Sheet3!$A$1&Sheet1!H11&Sheet3!$A$1&Sheet1!I11","v":"2;2;2;2;2;2"},{"$f":"Sheet1!J11&Sheet3!$A$1&Sheet1!K11&Sheet3!$A$1&Sheet1!L11&Sheet3!$A$1&Sheet1!M11&Sheet3!$A$1&Sheet1!N11&Sheet3!$A$1&Sheet1!O11","v":"4;45;45;5;2;45"},{"$f":"Sheet1!P11&Sheet3!$A$1&Sheet1!Q11&Sheet3!$A$1&Sheet1!R11&Sheet3!$A$1&Sheet1!S11&Sheet3!$A$1&Sheet1!T11&Sheet3!$A$1&Sheet1!U11&$A$1&Sheet1!V11","v":"44;45;42;44;45;42;42"},{"$f":"Sheet1!W11&Sheet3!$A$1&Sheet1!X11&Sheet3!$A$1&Sheet1!Y11&Sheet3!$A$1&Sheet1!Z11&Sheet3!$A$1&Sheet1!AA11&Sheet3!$A$1&Sheet1!AB11&$A$1&Sheet1!AC11","v":"44;92;42;44;92;42;42"},{"$f":"Sheet1!AD11&Sheet3!$A$1&Sheet1!AE11&Sheet3!$A$1&Sheet1!AF11&Sheet3!$A$1&Sheet1!AG11&Sheet3!$A$1&Sheet1!AH11&Sheet3!$A$1&Sheet1!AI11&$A$1&Sheet1!AJ11","v":"44;92;42;44;92;42;42"},{"$f":"Sheet1!AK11&Sheet3!$A$1&Sheet1!AL11&Sheet3!$A$1&Sheet1!AM11&Sheet3!$A$1&Sheet1!AN11&Sheet3!$A$1&Sheet1!AO11&Sheet3!$A$1&Sheet1!AP11&$A$1&Sheet1!AQ11","v":"44;45;42;44;45;42;42"},{"$f":"Sheet1!AR11&Sheet3!$A$1&Sheet1!AS11&Sheet3!$A$1&Sheet1!AT11&Sheet3!$A$1&Sheet1!AU11&Sheet3!$A$1&Sheet1!AV11&Sheet3!$A$1&Sheet1!AW11&$A$1&Sheet1!AX11","v":"44;45;42;44;45;42;42"},{"$f":"Sheet1!AY11&Sheet3!$A$1&Sheet1!AZ11&Sheet3!$A$1&Sheet1!BA11&Sheet3!$A$1&Sheet1!BB11&Sheet3!$A$1&Sheet1!BC11&Sheet3!$A$1&Sheet1!BD11&$A$1&Sheet1!BE11","v":"44;92;42;44;92;42;42"}]
[null,{"$f":"Sheet1!D12&Sheet3!$A$1&Sheet1!E12&Sheet3!$A$1&Sheet1!F12&Sheet3!$A$1&Sheet1!G12&Sheet3!$A$1&Sheet1!H12&Sheet3!$A$1&Sheet1!I12","v":"1;1;1;1;1;1"},{"$f":"Sheet1!J12&Sheet3!$A$1&Sheet1!K12&Sheet3!$A$1&Sheet1!L12&Sheet3!$A$1&Sheet1!M12&Sheet3!$A$1&Sheet1!N12&Sheet3!$A$1&Sheet1!O12","v":"4;44;44;5;2;44"},{"$f":"Sheet1!P12&Sheet3!$A$1&Sheet1!Q12&Sheet3!$A$1&Sheet1!R12&Sheet3!$A$1&Sheet1!S12&Sheet3!$A$1&Sheet1!T12&Sheet3!$A$1&Sheet1!U12&$A$1&Sheet1!V12","v":"44;45;42;44;45;42;44"},{"$f":"Sheet1!W12&Sheet3!$A$1&Sheet1!X12&Sheet3!$A$1&Sheet1!Y12&Sheet3!$A$1&Sheet1!Z12&Sheet3!$A$1&Sheet1!AA12&Sheet3!$A$1&Sheet1!AB12&$A$1&Sheet1!AC12","v":"91;45;42;91;45;42;42"},{"$f":"Sheet1!AD12&Sheet3!$A$1&Sheet1!AE12&Sheet3!$A$1&Sheet1!AF12&Sheet3!$A$1&Sheet1!AG12&Sheet3!$A$1&Sheet1!AH12&Sheet3!$A$1&Sheet1!AI12&$A$1&Sheet1!AJ12","v":"91;45;42;91;45;42;42"},{"$f":"Sheet1!AK12&Sheet3!$A$1&Sheet1!AL12&Sheet3!$A$1&Sheet1!AM12&Sheet3!$A$1&Sheet1!AN12&Sheet3!$A$1&Sheet1!AO12&Sheet3!$A$1&Sheet1!AP12&$A$1&Sheet1!AQ12","v":"44;45;42;44;45;42;44"},{"$f":"Sheet1!AR12&Sheet3!$A$1&Sheet1!AS12&Sheet3!$A$1&Sheet1!AT12&Sheet3!$A$1&Sheet1!AU12&Sheet3!$A$1&Sheet1!AV12&Sheet3!$A$1&Sheet1!AW12&$A$1&Sheet1!AX12","v":"44;45;42;44;45;42;44"},{"$f":"Sheet1!AY12&Sheet3!$A$1&Sheet1!AZ12&Sheet3!$A$1&Sheet1!BA12&Sheet3!$A$1&Sheet1!BB12&Sheet3!$A$1&Sheet1!BC12&Sheet3!$A$1&Sheet1!BD12&$A$1&Sheet1!BE12","v":"91;45;42;91;45;42;42"}]
[null,{"$f":"Sheet1!D13&Sheet3!$A$1&Sheet1!E13&Sheet3!$A$1&Sheet1!F13&Sheet3!$A$1&Sheet1!G13&Sheet3!$A$1&Sheet1!H13&Sheet3!$A$1&Sheet1!I13","v":"1;1;1;1;1;1"},{"$f":"Sheet1!J13&Sheet3!$A$1&Sheet1!K13&Sheet3!$A$1&Sheet1!L13&Sheet3!$A$1&Sheet1!M13&Sheet3!$A$1&Sheet1!N13&Sheet3!$A$1&Sheet1!O13","v":"4;44;44;5;2;44"},{"$f":"Sheet1!P13&Sheet3!$A$1&Sheet1!Q13&Sheet3!$A$1&Sheet1!R13&Sheet3!$A$1&Sheet1!S13&Sheet3!$A$1&Sheet1!T13&Sheet3!$A$1&Sheet1!U13&$A$1&Sheet1!V13","v":"44;45;42;44;45;42;44"},{"$f":"Sheet1!W13&Sheet3!$A$1&Sheet1!X13&Sheet3!$A$1&Sheet1!Y13&Sheet3!$A$1&Sheet1!Z13&Sheet3!$A$1&Sheet1!AA13&Sheet3!$A$1&Sheet1!AB13&$A$1&Sheet1!AC13","v":"91;45;42;91;45;42;42"},{"$f":"Sheet1!AD13&Sheet3!$A$1&Sheet1!AE13&Sheet3!$A$1&Sheet1!AF13&Sheet3!$A$1&Sheet1!AG13&Sheet3!$A$1&Sheet1!AH13&Sheet3!$A$1&Sheet1!AI13&$A$1&Sheet1!AJ13","v":"91;45;42;91;45;42;42"},{"$f":"Sheet1!AK13&Sheet3!$A$1&Sheet1!AL13&Sheet3!$A$1&Sheet1!AM13&Sheet3!$A$1&Sheet1!AN13&Sheet3!$A$1&Sheet1!AO13&Sheet3!$A$1&Sheet1!AP13&$A$1&Sheet1!AQ13","v":"44;45;42;44;45;42;44"},{"$f":"Sheet1!AR13&Sheet3!$A$1&Sheet1!AS13&Sheet3!$A$1&Sheet1!AT13&Sheet3!$A$1&Sheet1!AU13&Sheet3!$A$1&Sheet1!AV13&Sheet3!$A$1&Sheet1!AW13&$A$1&Sheet1!AX13","v":"44;45;42;44;45;42;44"},{"$f":"Sheet1!AY13&Sheet3!$A$1&Sheet1!AZ13&Sheet3!$A$1&Sheet1!BA13&Sheet3!$A$1&Sheet1!BB13&Sheet3!$A$1&Sheet1!BC13&Sheet3!$A$1&Sheet1!BD13&$A$1&Sheet1!BE13","v":"91;45;42;91;45;42;42"}]
[null,{"$f":"Sheet1!D14&Sheet3!$A$1&Sheet1!E14&Sheet3!$A$1&Sheet1!F14&Sheet3!$A$1&Sheet1!G14&Sheet3!$A$1&Sheet1!H14&Sheet3!$A$1&Sheet1!I14","v":"1;1;1;1;1;1"},{"$f":"Sheet1!J14&Sheet3!$A$1&Sheet1!K14&Sheet3!$A$1&Sheet1!L14&Sheet3!$A$1&Sheet1!M14&Sheet3!$A$1&Sheet1!N14&Sheet3!$A$1&Sheet1!O14","v":"4;44;44;5;2;44"},{"$f":"Sheet1!P14&Sheet3!$A$1&Sheet1!Q14&Sheet3!$A$1&Sheet1!R14&Sheet3!$A$1&Sheet1!S14&Sheet3!$A$1&Sheet1!T14&Sheet3!$A$1&Sheet1!U14&$A$1&Sheet1!V14","v":"44;45;42;44;45;42;44"},{"$f":"Sheet1!W14&Sheet3!$A$1&Sheet1!X14&Sheet3!$A$1&Sheet1!Y14&Sheet3!$A$1&Sheet1!Z14&Sheet3!$A$1&Sheet1!AA14&Sheet3!$A$1&Sheet1!AB14&$A$1&Sheet1!AC14","v":"91;45;42;91;45;42;42"},{"$f":"Sheet1!AD14&Sheet3!$A$1&Sheet1!AE14&Sheet3!$A$1&Sheet1!AF14&Sheet3!$A$1&Sheet1!AG14&Sheet3!$A$1&Sheet1!AH14&Sheet3!$A$1&Sheet1!AI14&$A$1&Sheet1!AJ14","v":"91;45;42;91;45;42;42"},{"$f":"Sheet1!AK14&Sheet3!$A$1&Sheet1!AL14&Sheet3!$A$1&Sheet1!AM14&Sheet3!$A$1&Sheet1!AN14&Sheet3!$A$1&Sheet1!AO14&Sheet3!$A$1&Sheet1!AP14&$A$1&Sheet1!AQ14","v":"44;45;42;44;45;42;44"},{"$f":"Sheet1!AR14&Sheet3!$A$1&Sheet1!AS14&Sheet3!$A$1&Sheet1!AT14&Sheet3!$A$1&Sheet1!AU14&Sheet3!$A$1&Sheet1!AV14&Sheet3!$A$1&Sheet1!AW14&$A$1&Sheet1!AX14","v":"44;45;42;44;45;42;44"},{"$f":"Sheet1!AY14&Sheet3!$A$1&Sheet1!AZ14&Sheet3!$A$1&Sheet1!BA14&Sheet3!$A$1&Sheet1!BB14&Sheet3!$A$1&Sheet1!BC14&Sheet3!$A$1&Sheet1!BD14&$A$1&Sheet1!BE14","v":"91;45;42;91;45;42;42"}]
[null,{"$f":"Sheet1!D15&Sheet3!$A$1&Sheet1!E15&Sheet3!$A$1&Sheet1!F15&Sheet3!$A$1&Sheet1!G15&Sheet3!$A$1&Sheet1!H15&Sheet3!$A$1&Sheet1!I15","v":"1;1;1;1;1;1"},{"$f":"Sheet1!J15&Sheet3!$A$1&Sheet1!K15&Sheet3!$A$1&Sheet1!L15&Sheet3!$A$1&Sheet1!M15&Sheet3!$A$1&Sheet1!N15&Sheet3!$A$1&Sheet1!O15","v":"4;44;44;5;2;44"},{"$f":"Sheet1!P15&Sheet3!$A$1&Sheet1!Q15&Sheet3!$A$1&Sheet1!R15&Sheet3!$A$1&Sheet1!S15&Sheet3!$A$1&Sheet1!T15&Sheet3!$A$1&Sheet1!U15&$A$1&Sheet1!V15","v":"44;45;42;44;45;42;44"},{"$f":"Sheet1!W15&Sheet3!$A$1&Sheet1!X15&Sheet3!$A$1&Sheet1!Y15&Sheet3!$A$1&Sheet1!Z15&Sheet3!$A$1&Sheet1!AA15&Sheet3!$A$1&Sheet1!AB15&$A$1&Sheet1!AC15","v":"91;45;42;91;45;42;42"},{"$f":"Sheet1!AD15&Sheet3!$A$1&Sheet1!AE15&Sheet3!$A$1&Sheet1!AF15&Sheet3!$A$1&Sheet1!AG15&Sheet3!$A$1&Sheet1!AH15&Sheet3!$A$1&Sheet1!AI15&$A$1&Sheet1!AJ15","v":"91;45;42;91;45;42;42"},{"$f":"Sheet1!AK15&Sheet3!$A$1&Sheet1!AL15&Sheet3!$A$1&Sheet1!AM15&Sheet3!$A$1&Sheet1!AN15&Sheet3!$A$1&Sheet1!AO15&Sheet3!$A$1&Sheet1!AP15&$A$1&Sheet1!AQ15","v":"44;45;42;44;45;42;44"},{"$f":"Sheet1!AR15&Sheet3!$A$1&Sheet1!AS15&Sheet3!$A$1&Sheet1!AT15&Sheet3!$A$1&Sheet1!AU15&Sheet3!$A$1&Sheet1!AV15&Sheet3!$A$1&Sheet1!AW15&$A$1&Sheet1!AX15","v":"44;45;42;44;45;42;44"},{"$f":"Sheet1!AY15&Sheet3!$A$1&Sheet1!AZ15&Sheet3!$A$1&Sheet1!BA15&Sheet3!$A$1&Sheet1!BB15&Sheet3!$A$1&Sheet1!BC15&Sheet3!$A$1&Sheet1!BD15&$A$1&Sheet1!BE15","v":"91;45;42;91;45;42;42"}]
[null,{"$f":"Sheet1!D16&Sheet3!$A$1&Sheet1!E16&Sheet3!$A$1&Sheet1!F16&Sheet3!$A$1&Sheet1!G16&Sheet3!$A$1&Sheet1!H16&Sheet3!$A$1&Sheet1!I16","v":"1;1;1;1;1;1"},{"$f":"Sheet1!J16&Sheet3!$A$1&Sheet1!K16&Sheet3!$A$1&Sheet1!L16&Sheet3!$A$1&Sheet1!M16&Sheet3!$A$1&Sheet1!N16&Sheet3!$A$1&Sheet1!O16","v":"4;44;44;5;2;44"},{"$f":"Sheet1!P16&Sheet3!$A$1&Sheet1!Q16&Sheet3!$A$1&Sheet1!R16&Sheet3!$A$1&Sheet1!S16&Sheet3!$A$1&Sheet1!T16&Sheet3!$A$1&Sheet1!U16&$A$1&Sheet1!V16","v":"44;45;42;44;45;42;44"},{"$f":"Sheet1!W16&Sheet3!$A$1&Sheet1!X16&Sheet3!$A$1&Sheet1!Y16&Sheet3!$A$1&Sheet1!Z16&Sheet3!$A$1&Sheet1!AA16&Sheet3!$A$1&Sheet1!AB16&$A$1&Sheet1!AC16","v":"91;45;42;91;45;42;42"},{"$f":"Sheet1!AD16&Sheet3!$A$1&Sheet1!AE16&Sheet3!$A$1&Sheet1!AF16&Sheet3!$A$1&Sheet1!AG16&Sheet3!$A$1&Sheet1!AH16&Sheet3!$A$1&Sheet1!AI16&$A$1&Sheet1!AJ16","v":"91;45;42;91;45;42;42"},{"$f":"Sheet1!AK16&Sheet3!$A$1&Sheet1!AL16&Sheet3!$A$1&Sheet1!AM16&Sheet3!$A$1&Sheet1!AN16&Sheet3!$A$1&Sheet1!AO16&Sheet3!$A$1&Sheet1!AP16&$A$1&Sheet1!AQ16","v":"44;45;42;44;45;42;44"},{"$f":"Sheet1!AR16&Sheet3!$A$1&Sheet1!AS16&Sheet3!$A$1&Sheet1!AT16&Sheet3!$A$1&Sheet1!AU16&Sheet3!$A$1&Sheet1!AV16&Sheet3!$A$1&Sheet1!AW16&$A$1&Sheet1!AX16","v":"44;45;42;44;45;42;44"},{"$f":"Sheet1!AY16&Sheet3!$A$1&Sheet1!AZ16&Sheet3!$A$1&Sheet1!BA16&Sheet3!$A$1&Sheet1!BB16&Sheet3!$A$1&Sheet1!BC16&Sheet3!$A$1&Sheet1!BD16&$A$1&Sheet1!BE16","v":"91;45;42;91;45;42;42"}]
[null,{"$f":"Sheet1!D17&Sheet3!$A$1&Sheet1!E17&Sheet3!$A$1&Sheet1!F17&Sheet3!$A$1&Sheet1!G17&Sheet3!$A$1&Sheet1!H17&Sheet3!$A$1&Sheet1!I17","v":"1;1;1;1;1;1"},{"$f":"Sheet1!J17&Sheet3!$A$1&Sheet1!K17&Sheet3!$A$1&Sheet1!L17&Sheet3!$A$1&Sheet1!M17&Sheet3!$A$1&Sheet1!N17&Sheet3!$A$1&Sheet1!O17","v":"4;44;44;5;2;44"},{"$f":"Sheet1!P17&Sheet3!$A$1&Sheet1!Q17&Sheet3!$A$1&Sheet1!R17&Sheet3!$A$1&Sheet1!S17&Sheet3!$A$1&Sheet1!T17&Sheet3!$A$1&Sheet1!U17&$A$1&Sheet1!V17","v":"44;45;42;44;45;42;44"},{"$f":"Sheet1!W17&Sheet3!$A$1&Sheet1!X17&Sheet3!$A$1&Sheet1!Y17&Sheet3!$A$1&Sheet1!Z17&Sheet3!$A$1&Sheet1!AA17&Sheet3!$A$1&Sheet1!AB17&$A$1&Sheet1!AC17","v":"91;45;42;91;45;42;42"},{"$f":"Sheet1!AD17&Sheet3!$A$1&Sheet1!AE17&Sheet3!$A$1&Sheet1!AF17&Sheet3!$A$1&Sheet1!AG17&Sheet3!$A$1&Sheet1!AH17&Sheet3!$A$1&Sheet1!AI17&$A$1&Sheet1!AJ17","v":"91;45;42;91;45;42;42"},{"$f":"Sheet1!AK17&Sheet3!$A$1&Sheet1!AL17&Sheet3!$A$1&Sheet1!AM17&Sheet3!$A$1&Sheet1!AN17&Sheet3!$A$1&Sheet1!AO17&Sheet3!$A$1&Sheet1!AP17&$A$1&Sheet1!AQ17","v":"44;45;42;44;45;42;44"},{"$f":"Sheet1!AR17&Sheet3!$A$1&Sheet1!AS17&Sheet3!$A$1&Sheet1!AT17&Sheet3!$A$1&Sheet1!AU17&Sheet3!$A$1&Sheet1!AV17&Sheet3!$A$1&Sheet1!AW17&$A$1&Sheet1!AX17","v":"44;45;42;44;45;42;44"},{"$f":"Sheet1!AY17&Sheet3!$A$1&Sheet1!AZ17&Sheet3!$A$1&Sheet1!BA17&Sheet3!$A$1&Sheet1!BB17&Sheet3!$A$1&Sheet1!BC17&Sheet3!$A$1&Sheet1!BD17&$A$1&Sheet1!BE17","v":"91;45;42;91;45;42;42"}]
[null,{"$f":"Sheet1!D18&Sheet3!$A$1&Sheet1!E18&Sheet3!$A$1&Sheet1!F18&Sheet3!$A$1&Sheet1!G18&Sheet3!$A$1&Sheet1!H18&Sheet3!$A$1&Sheet1!I18","v":"1;1;1;1;1;1"},{"$f":"Sheet1!J18&Sheet3!$A$1&Sheet1!K18&Sheet3!$A$1&Sheet1!L18&Sheet3!$A$1&Sheet1!M18&Sheet3!$A$1&Sheet1!N18&Sheet3!$A$1&Sheet1!O18","v":"4;44;44;5;2;44"},{"$f":"Sheet1!P18&Sheet3!$A$1&Sheet1!Q18&Sheet3!$A$1&Sheet1!R18&Sheet3!$A$1&Sheet1!S18&Sheet3!$A$1&Sheet1!T18&Sheet3!$A$1&Sheet1!U18&$A$1&Sheet1!V18","v":"44;45;42;44;45;42;44"},{"$f":"Sheet1!W18&Sheet3!$A$1&Sheet1!X18&Sheet3!$A$1&Sheet1!Y18&Sheet3!$A$1&Sheet1!Z18&Sheet3!$A$1&Sheet1!AA18&Sheet3!$A$1&Sheet1!AB18&$A$1&Sheet1!AC18","v":"91;45;42;91;45;42;42"},{"$f":"Sheet1!AD18&Sheet3!$A$1&Sheet1!AE18&Sheet3!$A$1&Sheet1!AF18&Sheet3!$A$1&Sheet1!AG18&Sheet3!$A$1&Sheet1!AH18&Sheet3!$A$1&Sheet1!AI18&$A$1&Sheet1!AJ18","v":"91;45;42;91;45;42;42"},{"$f":"Sheet1!AK18&Sheet3!$A$1&Sheet1!AL18&Sheet3!$A$1&Sheet1!AM18&Sheet3!$A$1&Sheet1!AN18&Sheet3!$A$1&Sheet1!AO18&Sheet3!$A$1&Sheet1!AP18&$A$1&Sheet1!AQ18","v":"44;45;42;44;45;42;44"},{"$f":"Sheet1!AR18&Sheet3!$A$1&Sheet1!AS18&Sheet3!$A$1&Sheet1!AT18&Sheet3!$A$1&Sheet1!AU18&Sheet3!$A$1&Sheet1!AV18&Sheet3!$A$1&Sheet1!AW18&$A$1&Sheet1!AX18","v":"44;45;42;44;45;42;44"},{"$f":"Sheet1!AY18&Sheet3!$A$1&Sheet1!AZ18&Sheet3!$A$1&Sheet1!BA18&Sheet3!$A$1&Sheet1!BB18&Sheet3!$A$1&Sheet1!BC18&Sheet3!$A$1&Sheet1!BD18&$A$1&Sheet1!BE18","v":"91;45;42;91;45;42;42"}]
[null,{"$f":"Sheet1!D19&Sheet3!$A$1&Sheet1!E19&Sheet3!$A$1&Sheet1!F19&Sheet3!$A$1&Sheet1!G19&Sheet3!$A$1&Sheet1!H19&Sheet3!$A$1&Sheet1!I19","v":"1;1;1;1;1;1"},{"$f":"Sheet1!J19&Sheet3!$A$1&Sheet1!K19&Sheet3!$A$1&Sheet1!L19&Sheet3!$A$1&Sheet1!M19&Sheet3!$A$1&Sheet1!N19&Sheet3!$A$1&Sheet1!O19","v":"4;44;44;5;2;44"},{"$f":"Sheet1!P19&Sheet3!$A$1&Sheet1!Q19&Sheet3!$A$1&Sheet1!R19&Sheet3!$A$1&Sheet1!S19&Sheet3!$A$1&Sheet1!T19&Sheet3!$A$1&Sheet1!U19&$A$1&Sheet1!V19","v":"44;45;42;44;45;42;44"},{"$f":"Sheet1!W19&Sheet3!$A$1&Sheet1!X19&Sheet3!$A$1&Sheet1!Y19&Sheet3!$A$1&Sheet1!Z19&Sheet3!$A$1&Sheet1!AA19&Sheet3!$A$1&Sheet1!AB19&$A$1&Sheet1!AC19","v":"91;45;42;91;45;42;42"},{"$f":"Sheet1!AD19&Sheet3!$A$1&Sheet1!AE19&Sheet3!$A$1&Sheet1!AF19&Sheet3!$A$1&Sheet1!AG19&Sheet3!$A$1&Sheet1!AH19&Sheet3!$A$1&Sheet1!AI19&$A$1&Sheet1!AJ19","v":"91;45;42;91;45;42;42"},{"$f":"Sheet1!AK19&Sheet3!$A$1&Sheet1!AL19&Sheet3!$A$1&Sheet1!AM19&Sheet3!$A$1&Sheet1!AN19&Sheet3!$A$1&Sheet1!AO19&Sheet3!$A$1&Sheet1!AP19&$A$1&Sheet1!AQ19","v":"44;45;42;44;45;42;44"},{"$f":"Sheet1!AR19&Sheet3!$A$1&Sheet1!AS19&Sheet3!$A$1&Sheet1!AT19&Sheet3!$A$1&Sheet1!AU19&Sheet3!$A$1&Sheet1!AV19&Sheet3!$A$1&Sheet1!AW19&$A$1&Sheet1!AX19","v":"44;45;42;44;45;42;44"},{"$f":"Sheet1!AY19&Sheet3!$A$1&Sheet1!AZ19&Sheet3!$A$1&Sheet1!BA19&Sheet3!$A$1&Sheet1!BB19&Sheet3!$A$1&Sheet1!BC19&Sheet3!$A$1&Sheet1!BD19&$A$1&Sheet1!BE19","v":"91;45;42;91;45;42;42"}]
[null,{"$f":"Sheet1!D20&Sheet3!$A$1&Sheet1!E20&Sheet3!$A$1&Sheet1!F20&Sheet3!$A$1&Sheet1!G20&Sheet3!$A$1&Sheet1!H20&Sheet3!$A$1&Sheet1!I20","v":"1;1;1;1;1;1"},{"$f":"Sheet1!J20&Sheet3!$A$1&Sheet1!K20&Sheet3!$A$1&Sheet1!L20&Sheet3!$A$1&Sheet1!M20&Sheet3!$A$1&Sheet1!N20&Sheet3!$A$1&Sheet1!O20","v":"4;44;44;5;2;44"},{"$f":"Sheet1!P20&Sheet3!$A$1&Sheet1!Q20&Sheet3!$A$1&Sheet1!R20&Sheet3!$A$1&Sheet1!S20&Sheet3!$A$1&Sheet1!T20&Sheet3!$A$1&Sheet1!U20&$A$1&Sheet1!V20","v":"44;45;42;44;45;42;44"},{"$f":"Sheet1!W20&Sheet3!$A$1&Sheet1!X20&Sheet3!$A$1&Sheet1!Y20&Sheet3!$A$1&Sheet1!Z20&Sheet3!$A$1&Sheet1!AA20&Sheet3!$A$1&Sheet1!AB20&$A$1&Sheet1!AC20","v":"91;45;42;91;45;42;42"},{"$f":"Sheet1!AD20&Sheet3!$A$1&Sheet1!AE20&Sheet3!$A$1&Sheet1!AF20&Sheet3!$A$1&Sheet1!AG20&Sheet3!$A$1&Sheet1!AH20&Sheet3!$A$1&Sheet1!AI20&$A$1&Sheet1!AJ20","v":"91;45;42;91;45;42;42"},{"$f":"Sheet1!AK20&Sheet3!$A$1&Sheet1!AL20&Sheet3!$A$1&Sheet1!AM20&Sheet3!$A$1&Sheet1!AN20&Sheet3!$A$1&Sheet1!AO20&Sheet3!$A$1&Sheet1!AP20&$A$1&Sheet1!AQ20","v":"44;45;42;44;45;42;44"},{"$f":"Sheet1!AR20&Sheet3!$A$1&Sheet1!AS20&Sheet3!$A$1&Sheet1!AT20&Sheet3!$A$1&Sheet1!AU20&Sheet3!$A$1&Sheet1!AV20&Sheet3!$A$1&Sheet1!AW20&$A$1&Sheet1!AX20","v":"44;45;42;44;45;42;44"},{"$f":"Sheet1!AY20&Sheet3!$A$1&Sheet1!AZ20&Sheet3!$A$1&Sheet1!BA20&Sheet3!$A$1&Sheet1!BB20&Sheet3!$A$1&Sheet1!BC20&Sheet3!$A$1&Sheet1!BD20&$A$1&Sheet1!BE20","v":"91;45;42;91;45;42;42"}]
[null,{"$f":"Sheet1!D21&Sheet3!$A$1&Sheet1!E21&Sheet3!$A$1&Sheet1!F21&Sheet3!$A$1&Sheet1!G21&Sheet3!$A$1&Sheet1!H21&Sheet3!$A$1&Sheet1!I21","v":"2;2;2;2;2;2"},{"$f":"Sheet1!J21&Sheet3!$A$1&Sheet1!K21&Sheet3!$A$1&Sheet1!L21&Sheet3!$A$1&Sheet1!M21&Sheet3!$A$1&Sheet1!N21&Sheet3!$A$1&Sheet1!O21","v":"4;45;45;5;2;45"},{"$f":"Sheet1!P21&Sheet3!$A$1&Sheet1!Q21&Sheet3!$A$1&Sheet1!R21&Sheet3!$A$1&Sheet1!S21&Sheet3!$A$1&Sheet1!T21&Sheet3!$A$1&Sheet1!U21&$A$1&Sheet1!V21","v":"44;45;42;44;45;42;42"},{"$f":"Sheet1!W21&Sheet3!$A$1&Sheet1!X21&Sheet3!$A$1&Sheet1!Y21&Sheet3!$A$1&Sheet1!Z21&Sheet3!$A$1&Sheet1!AA21&Sheet3!$A$1&Sheet1!AB21&$A$1&Sheet1!AC21","v":"44;92;42;44;92;42;42"},{"$f":"Sheet1!AD21&Sheet3!$A$1&Sheet1!AE21&Sheet3!$A$1&Sheet1!AF21&Sheet3!$A$1&Sheet1!AG21&Sheet3!$A$1&Sheet1!AH21&Sheet3!$A$1&Sheet1!AI21&$A$1&Sheet1!AJ21","v":"44;92;42;44;92;42;42"},{"$f":"Sheet1!AK21&Sheet3!$A$1&Sheet1!AL21&Sheet3!$A$1&Sheet1!AM21&Sheet3!$A$1&Sheet1!AN21&Sheet3!$A$1&Sheet1!AO21&Sheet3!$A$1&Sheet1!AP21&$A$1&Sheet1!AQ21","v":"44;45;42;44;45;42;42"},{"$f":"Sheet1!AR21&Sheet3!$A$1&Sheet1!AS21&Sheet3!$A$1&Sheet1!AT21&Sheet3!$A$1&Sheet1!AU21&Sheet3!$A$1&Sheet1!AV21&Sheet3!$A$1&Sheet1!AW21&$A$1&Sheet1!AX21","v":"44;45;42;44;45;42;42"},{"$f":"Sheet1!AY21&Sheet3!$A$1&Sheet1!AZ21&Sheet3!$A$1&Sheet1!BA21&Sheet3!$A$1&Sheet1!BB21&Sheet3!$A$1&Sheet1!BC21&Sheet3!$A$1&Sheet1!BD21&$A$1&Sheet1!BE21","v":"44;92;42;44;92;42;42"}]
[null,{"$f":"Sheet1!D22&Sheet3!$A$1&Sheet1!E22&Sheet3!$A$1&Sheet1!F22&Sheet3!$A$1&Sheet1!G22&Sheet3!$A$1&Sheet1!H22&Sheet3!$A$1&Sheet1!I22","v":"1;1;1;1;1;1"},{"$f":"Sheet1!J22&Sheet3!$A$1&Sheet1!K22&Sheet3!$A$1&Sheet1!L22&Sheet3!$A$1&Sheet1!M22&Sheet3!$A$1&Sheet1!N22&Sheet3!$A$1&Sheet1!O22","v":"4;44;44;5;2;44"},{"$f":"Sheet1!P22&Sheet3!$A$1&Sheet1!Q22&Sheet3!$A$1&Sheet1!R22&Sheet3!$A$1&Sheet1!S22&Sheet3!$A$1&Sheet1!T22&Sheet3!$A$1&Sheet1!U22&$A$1&Sheet1!V22","v":"44;45;42;44;45;42;44"},{"$f":"Sheet1!W22&Sheet3!$A$1&Sheet1!X22&Sheet3!$A$1&Sheet1!Y22&Sheet3!$A$1&Sheet1!Z22&Sheet3!$A$1&Sheet1!AA22&Sheet3!$A$1&Sheet1!AB22&$A$1&Sheet1!AC22","v":"91;45;42;91;45;42;42"},{"$f":"Sheet1!AD22&Sheet3!$A$1&Sheet1!AE22&Sheet3!$A$1&Sheet1!AF22&Sheet3!$A$1&Sheet1!AG22&Sheet3!$A$1&Sheet1!AH22&Sheet3!$A$1&Sheet1!AI22&$A$1&Sheet1!AJ22","v":"91;45;42;91;45;42;42"},{"$f":"Sheet1!AK22&Sheet3!$A$1&Sheet1!AL22&Sheet3!$A$1&Sheet1!AM22&Sheet3!$A$1&Sheet1!AN22&Sheet3!$A$1&Sheet1!AO22&Sheet3!$A$1&Sheet1!AP22&$A$1&Sheet1!AQ22","v":"44;45;42;44;45;42;44"},{"$f":"Sheet1!AR22&Sheet3!$A$1&Sheet1!AS22&Sheet3!$A$1&Sheet1!AT22&Sheet3!$A$1&Sheet1!AU22&Sheet3!$A$1&Sheet1!AV22&Sheet3!$A$1&Sheet1!AW22&$A$1&Sheet1!AX22","v":"44;45;42;44;45;42;44"},{"$f":"Sheet1!AY22&Sheet3!$A$1&Sheet1!AZ22&Sheet3!$A$1&Sheet1!BA22&Sheet3!$A$1&Sheet1!BB22&Sheet3!$A$1&Sheet1!BC22&Sheet3!$A$1&Sheet1!BD22&$A$1&Sheet1!BE22","v":"91;45;42;91;45;42;42"}]
[null,{"$f":"Sheet1!D23&Sheet3!$A$1&Sheet1!E23&Sheet3!$A$1&Sheet1!F23&Sheet3!$A$1&Sheet1!G23&Sheet3!$A$1&Sheet1!H23&Sheet3!$A$1&Sheet1!I23","v":"1;1;1;1;1;1"},{"$f":"Sheet1!J23&Sheet3!$A$1&Sheet1!K23&Sheet3!$A$1&Sheet1!L23&Sheet3!$A$1&Sheet1!M23&Sheet3!$A$1&Sheet1!N23&Sheet3!$A$1&Sheet1!O23","v":"4;44;44;5;2;44"},{"$f":"Sheet1!P23&Sheet3!$A$1&Sheet1!Q23&Sheet3!$A$1&Sheet1!R23&Sheet3!$A$1&Sheet1!S23&Sheet3!$A$1&Sheet1!T23&Sheet3!$A$1&Sheet1!U23&$A$1&Sheet1!V23","v":"44;45;42;44;45;42;44"},{"$f":"Sheet1!W23&Sheet3!$A$1&Sheet1!X23&Sheet3!$A$1&Sheet1!Y23&Sheet3!$A$1&Sheet1!Z23&Sheet3!$A$1&Sheet1!AA23&Sheet3!$A$1&Sheet1!AB23&$A$1&Sheet1!AC23","v":"91;45;42;91;45;42;42"},{"$f":"Sheet1!AD23&Sheet3!$A$1&Sheet1!AE23&Sheet3!$A$1&Sheet1!AF23&Sheet3!$A$1&Sheet1!AG23&Sheet3!$A$1&Sheet1!AH23&Sheet3!$A$1&Sheet1!AI23&$A$1&Sheet1!AJ23","v":"91;45;42;91;45;42;42"},{"$f":"Sheet1!AK23&Sheet3!$A$1&Sheet1!AL23&Sheet3!$A$1&Sheet1!AM23&Sheet3!$A$1&Sheet1!AN23&Sheet3!$A$1&Sheet1!AO23&Sheet3!$A$1&Sheet1!AP23&$A$1&Sheet1!AQ23","v":"44;45;42;44;45;42;44"},{"$f":"Sheet1!AR23&Sheet3!$A$1&Sheet1!AS23&Sheet3!$A$1&Sheet1!AT23&Sheet3!$A$1&Sheet1!AU23&Sheet3!$A$1&Sheet1!AV23&Sheet3!$A$1&Sheet1!AW23&$A$1&Sheet1!AX23","v":"44;45;42;44;45;42;44"},{"$f":"Sheet1!AY23&Sheet3!$A$1&Sheet1!AZ23&Sheet3!$A$1&Sheet1!BA23&Sheet3!$A$1&Sheet1!BB23&Sheet3!$A$1&Sheet1!BC23&Sheet3!$A$1&Sheet1!BD23&$A$1&Sheet1!BE23","v":"91;45;42;91;45;42;42"}]
[null,{"$f":"Sheet1!D24&Sheet3!$A$1&Sheet1!E24&Sheet3!$A$1&Sheet1!F24&Sheet3!$A$1&Sheet1!G24&Sheet3!$A$1&Sheet1!H24&Sheet3!$A$1&Sheet1!I24","v":"1;1;1;1;1;1"},{"$f":"Sheet1!J24&Sheet3!$A$1&Sheet1!K24&Sheet3!$A$1&Sheet1!L24&Sheet3!$A$1&Sheet1!M24&Sheet3!$A$1&Sheet1!N24&Sheet3!$A$1&Sheet1!O24","v":"4;44;44;5;2;44"},{"$f":"Sheet1!P24&Sheet3!$A$1&Sheet1!Q24&Sheet3!$A$1&Sheet1!R24&Sheet3!$A$1&Sheet1!S24&Sheet3!$A$1&Sheet1!T24&Sheet3!$A$1&Sheet1!U24&$A$1&Sheet1!V24","v":"44;45;42;44;45;42;44"},{"$f":"Sheet1!W24&Sheet3!$A$1&Sheet1!X24&Sheet3!$A$1&Sheet1!Y24&Sheet3!$A$1&Sheet1!Z24&Sheet3!$A$1&Sheet1!AA24&Sheet3!$A$1&Sheet1!AB24&$A$1&Sheet1!AC24","v":"91;45;42;91;45;42;42"},{"$f":"Sheet1!AD24&Sheet3!$A$1&Sheet1!AE24&Sheet3!$A$1&Sheet1!AF24&Sheet3!$A$1&Sheet1!AG24&Sheet3!$A$1&Sheet1!AH24&Sheet3!$A$1&Sheet1!AI24&$A$1&Sheet1!AJ24","v":"91;45;42;91;45;42;42"},{"$f":"Sheet1!AK24&Sheet3!$A$1&Sheet1!AL24&Sheet3!$A$1&Sheet1!AM24&Sheet3!$A$1&Sheet1!AN24&Sheet3!$A$1&Sheet1!AO24&Sheet3!$A$1&Sheet1!AP24&$A$1&Sheet1!AQ24","v":"44;45;42;44;45;42;44"},{"$f":"Sheet1!AR24&Sheet3!$A$1&Sheet1!AS24&Sheet3!$A$1&Sheet1!AT24&Sheet3!$A$1&Sheet1!AU24&Sheet3!$A$1&Sheet1!AV24&Sheet3!$A$1&Sheet1!AW24&$A$1&Sheet1!AX24","v":"44;45;42;44;45;42;44"},{"$f":"Sheet1!AY24&Sheet3!$A$1&Sheet1!AZ24&Sheet3!$A$1&Sheet1!BA24&Sheet3!$A$1&Sheet1!BB24&Sheet3!$A$1&Sheet1!BC24&Sheet3!$A$1&Sheet1!BD24&$A$1&Sheet1!BE24","v":"91;45;42;91;45;42;42"}]
[null,{"$f":"Sheet1!D25&Sheet3!$A$1&Sheet1!E25&Sheet3!$A$1&Sheet1!F25&Sheet3!$A$1&Sheet1!G25&Sheet3!$A$1&Sheet1!H25&Sheet3!$A$1&Sheet1!I25","v":"1;1;1;1;1;1"},{"$f":"Sheet1!J25&Sheet3!$A$1&Sheet1!K25&Sheet3!$A$1&Sheet1!L25&Sheet3!$A$1&Sheet1!M25&Sheet3!$A$1&Sheet1!N25&Sheet3!$A$1&Sheet1!O25","v":"4;44;44;5;2;44"},{"$f":"Sheet1!P25&Sheet3!$A$1&Sheet1!Q25&Sheet3!$A$1&Sheet1!R25&Sheet3!$A$1&Sheet1!S25&Sheet3!$A$1&Sheet1!T25&Sheet3!$A$1&Sheet1!U25&$A$1&Sheet1!V25","v":"44;45;42;44;45;42;44"},{"$f":"Sheet1!W25&Sheet3!$A$1&Sheet1!X25&Sheet3!$A$1&Sheet1!Y25&Sheet3!$A$1&Sheet1!Z25&Sheet3!$A$1&Sheet1!AA25&Sheet3!$A$1&Sheet1!AB25&$A$1&Sheet1!AC25","v":"91;45;42;91;45;42;42"},{"$f":"Sheet1!AD25&Sheet3!$A$1&Sheet1!AE25&Sheet3!$A$1&Sheet1!AF25&Sheet3!$A$1&Sheet1!AG25&Sheet3!$A$1&Sheet1!AH25&Sheet3!$A$1&Sheet1!AI25&$A$1&Sheet1!AJ25","v":"91;45;42;91;45;42;42"},{"$f":"Sheet1!AK25&Sheet3!$A$1&Sheet1!AL25&Sheet3!$A$1&Sheet1!AM25&Sheet3!$A$1&Sheet1!AN25&Sheet3!$A$1&Sheet1!AO25&Sheet3!$A$1&Sheet1!AP25&$A$1&Sheet1!AQ25","v":"44;45;42;44;45;42;44"},{"$f":"Sheet1!AR25&Sheet3!$A$1&Sheet1!AS25&Sheet3!$A$1&Sheet1!AT25&Sheet3!$A$1&Sheet1!AU25&Sheet3!$A$1&Sheet1!AV25&Sheet3!$A$1&Sheet1!AW25&$A$1&Sheet1!AX25","v":"44;45;42;44;45;42;44"},{"$f":"Sheet1!AY25&Sheet3!$A$1&Sheet1!AZ25&Sheet3!$A$1&Sheet1!BA25&Sheet3!$A$1&Sheet1!BB25&Sheet3!$A$1&Sheet1!BC25&Sheet3!$A$1&Sheet1!BD25&$A$1&Sheet1!BE25","v":"91;45;42;91;45;42;42"}]
[null,{"$f":"Sheet1!D26&Sheet3!$A$1&Sheet1!E26&Sheet3!$A$1&Sheet1!F26&Sheet3!$A$1&Sheet1!G26&Sheet3!$A$1&Sheet1!H26&Sheet3!$A$1&Sheet1!I26","v":"1;1;1;1;1;1"},{"$f":"Sheet1!J26&Sheet3!$A$1&Sheet1!K26&Sheet3!$A$1&Sheet1!L26&Sheet3!$A$1&Sheet1!M26&Sheet3!$A$1&Sheet1!N26&Sheet3!$A$1&Sheet1!O26","v":"4;44;44;5;2;44"},{"$f":"Sheet1!P26&Sheet3!$A$1&Sheet1!Q26&Sheet3!$A$1&Sheet1!R26&Sheet3!$A$1&Sheet1!S26&Sheet3!$A$1&Sheet1!T26&Sheet3!$A$1&Sheet1!U26&$A$1&Sheet1!V26","v":"44;45;42;44;45;42;44"},{"$f":"Sheet1!W26&Sheet3!$A$1&Sheet1!X26&Sheet3!$A$1&Sheet1!Y26&Sheet3!$A$1&Sheet1!Z26&Sheet3!$A$1&Sheet1!AA26&Sheet3!$A$1&Sheet1!AB26&$A$1&Sheet1!AC26","v":"91;45;42;91;45;42;42"},{"$f":"Sheet1!AD26&Sheet3!$A$1&Sheet1!AE26&Sheet3!$A$1&Sheet1!AF26&Sheet3!$A$1&Sheet1!AG26&Sheet3!$A$1&Sheet1!AH26&Sheet3!$A$1&Sheet1!AI26&$A$1&Sheet1!AJ26","v":"91;45;42;91;45;42;42"},{"$f":"Sheet1!AK26&Sheet3!$A$1&Sheet1!AL26&Sheet3!$A$1&Sheet1!AM26&Sheet3!$A$1&Sheet1!AN26&Sheet3!$A$1&Sheet1!AO26&Sheet3!$A$1&Sheet1!AP26&$A$1&Sheet1!AQ26","v":"44;45;42;44;45;42;44"},{"$f":"Sheet1!AR26&Sheet3!$A$1&Sheet1!AS26&Sheet3!$A$1&Sheet1!AT26&Sheet3!$A$1&Sheet1!AU26&Sheet3!$A$1&Sheet1!AV26&Sheet3!$A$1&Sheet1!AW26&$A$1&Sheet1!AX26","v":"44;45;42;44;45;42;44"},{"$f":"Sheet1!AY26&Sheet3!$A$1&Sheet1!AZ26&Sheet3!$A$1&Sheet1!BA26&Sheet3!$A$1&Sheet1!BB26&Sheet3!$A$1&Sheet1!BC26&Sheet3!$A$1&Sheet1!BD26&$A$1&Sheet1!BE26","v":"91;45;42;91;45;42;42"}]
[null,{"$f":"Sheet1!D27&Sheet3!$A$1&Sheet1!E27&Sheet3!$A$1&Sheet1!F27&Sheet3!$A$1&Sheet1!G27&Sheet3!$A$1&Sheet1!H27&Sheet3!$A$1&Sheet1!I27","v":"2;2;2;2;2;2"},{"$f":"Sheet1!J27&Sheet3!$A$1&Sheet1!K27&Sheet3!$A$1&Sheet1!L27&Sheet3!$A$1&Sheet1!M27&Sheet3!$A$1&Sheet1!N27&Sheet3!$A$1&Sheet1!O27","v":"4;45;45;5;2;45"},{"$f":"Sheet1!P27&Sheet3!$A$1&Sheet1!Q27&Sheet3!$A$1&Sheet1!R27&Sheet3!$A$1&Sheet1!S27&Sheet3!$A$1&Sheet1!T27&Sheet3!$A$1&Sheet1!U27&$A$1&Sheet1!V27","v":"44;45;42;44;45;42;42"},{"$f":"Sheet1!W27&Sheet3!$A$1&Sheet1!X27&Sheet3!$A$1&Sheet1!Y27&Sheet3!$A$1&Sheet1!Z27&Sheet3!$A$1&Sheet1!AA27&Sheet3!$A$1&Sheet1!AB27&$A$1&Sheet1!AC27","v":"44;92;42;44;92;42;42"},{"$f":"Sheet1!AD27&Sheet3!$A$1&Sheet1!AE27&Sheet3!$A$1&Sheet1!AF27&Sheet3!$A$1&Sheet1!AG27&Sheet3!$A$1&Sheet1!AH27&Sheet3!$A$1&Sheet1!AI27&$A$1&Sheet1!AJ27","v":"44;92;42;44;92;42;42"},{"$f":"Sheet1!AK27&Sheet3!$A$1&Sheet1!AL27&Sheet3!$A$1&Sheet1!AM27&Sheet3!$A$1&Sheet1!AN27&Sheet3!$A$1&Sheet1!AO27&Sheet3!$A$1&Sheet1!AP27&$A$1&Sheet1!AQ27","v":"44;45;42;44;45;42;42"},{"$f":"Sheet1!AR27&Sheet3!$A$1&Sheet1!AS27&Sheet3!$A$1&Sheet1!AT27&Sheet3!$A$1&Sheet1!AU27&Sheet3!$A$1&Sheet1!AV27&Sheet3!$A$1&Sheet1!AW27&$A$1&Sheet1!AX27","v":"44;45;42;44;45;42;42"},{"$f":"Sheet1!AY27&Sheet3!$A$1&Sheet1!AZ27&Sheet3!$A$1&Sheet1!BA27&Sheet3!$A$1&Sheet1!BB27&Sheet3!$A$1&Sheet1!BC27&Sheet3!$A$1&Sheet1!BD27&$A$1&Sheet1!BE27","v":"44;92;42;44;92;42;42"}]
[null,{"$f":"Sheet1!D28&Sheet3!$A$1&Sheet1!E28&Sheet3!$A$1&Sheet1!F28&Sheet3!$A$1&Sheet1!G28&Sheet3!$A$1&Sheet1!H28&Sheet3!$A$1&Sheet1!I28","v":"1;1;1;1;1;1"},{"$f":"Sheet1!J28&Sheet3!$A$1&Sheet1!K28&Sheet3!$A$1&Sheet1!L28&Sheet3!$A$1&Sheet1!M28&Sheet3!$A$1&Sheet1!N28&Sheet3!$A$1&Sheet1!O28","v":"4;44;44;5;2;44"},{"$f":"Sheet1!P28&Sheet3!$A$1&Sheet1!Q28&Sheet3!$A$1&Sheet1!R28&Sheet3!$A$1&Sheet1!S28&Sheet3!$A$1&Sheet1!T28&Sheet3!$A$1&Sheet1!U28&$A$1&Sheet1!V28","v":"44;45;42;44;45;42;44"},{"$f":"Sheet1!W28&Sheet3!$A$1&Sheet1!X28&Sheet3!$A$1&Sheet1!Y28&Sheet3!$A$1&Sheet1!Z28&Sheet3!$A$1&Sheet1!AA28&Sheet3!$A$1&Sheet1!AB28&$A$1&Sheet1!AC28","v":"91;45;42;91;45;42;42"},{"$f":"Sheet1!AD28&Sheet3!$A$1&Sheet1!AE28&Sheet3!$A$1&Sheet1!AF28&Sheet3!$A$1&Sheet1!AG28&Sheet3!$A$1&Sheet1!AH28&Sheet3!$A$1&Sheet1!AI28&$A$1&Sheet1!AJ28","v":"91;45;42;91;45;42;42"},{"$f":"Sheet1!AK28&Sheet3!$A$1&Sheet1!AL28&Sheet3!$A$1&Sheet1!AM28&Sheet3!$A$1&Sheet1!AN28&Sheet3!$A$1&Sheet1!AO28&Sheet3!$A$1&Sheet1!AP28&$A$1&Sheet1!AQ28","v":"44;45;42;44;45;42;44"},{"$f":"Sheet1!AR28&Sheet3!$A$1&Sheet1!AS28&Sheet3!$A$1&Sheet1!AT28&Sheet3!$A$1&Sheet1!AU28&Sheet3!$A$1&Sheet1!AV28&Sheet3!$A$1&Sheet1!AW28&$A$1&Sheet1!AX28","v":"44;45;42;44;45;42;44"},{"$f":"Sheet1!AY28&Sheet3!$A$1&Sheet1!AZ28&Sheet3!$A$1&Sheet1!BA28&Sheet3!$A$1&Sheet1!BB28&Sheet3!$A$1&Sheet1!BC28&Sheet3!$A$1&Sheet1!BD28&$A$1&Sheet1!BE28","v":"91;45;42;91;45;42;42"}]
[null,{"$f":"Sheet1!D29&Sheet3!$A$1&Sheet1!E29&Sheet3!$A$1&Sheet1!F29&Sheet3!$A$1&Sheet1!G29&Sheet3!$A$1&Sheet1!H29&Sheet3!$A$1&Sheet1!I29","v":"1;1;1;1;1;1"},{"$f":"Sheet1!J29&Sheet3!$A$1&Sheet1!K29&Sheet3!$A$1&Sheet1!L29&Sheet3!$A$1&Sheet1!M29&Sheet3!$A$1&Sheet1!N29&Sheet3!$A$1&Sheet1!O29","v":"4;44;44;5;2;44"},{"$f":"Sheet1!P29&Sheet3!$A$1&Sheet1!Q29&Sheet3!$A$1&Sheet1!R29&Sheet3!$A$1&Sheet1!S29&Sheet3!$A$1&Sheet1!T29&Sheet3!$A$1&Sheet1!U29&$A$1&Sheet1!V29","v":"44;45;42;44;45;42;44"},{"$f":"Sheet1!W29&Sheet3!$A$1&Sheet1!X29&Sheet3!$A$1&Sheet1!Y29&Sheet3!$A$1&Sheet1!Z29&Sheet3!$A$1&Sheet1!AA29&Sheet3!$A$1&Sheet1!AB29&$A$1&Sheet1!AC29","v":"91;45;42;91;45;42;42"},{"$f":"Sheet1!AD29&Sheet3!$A$1&Sheet1!AE29&Sheet3!$A$1&Sheet1!AF29&Sheet3!$A$1&Sheet1!AG29&Sheet3!$A$1&Sheet1!AH29&Sheet3!$A$1&Sheet1!AI29&$A$1&Sheet1!AJ29","v":"91;45;42;91;45;42;42"},{"$f":"Sheet1!AK29&Sheet3!$A$1&Sheet1!AL29&Sheet3!$A$1&Sheet1!AM29&Sheet3!$A$1&Sheet1!AN29&Sheet3!$A$1&Sheet1!AO29&Sheet3!$A$1&Sheet1!AP29&$A$1&Sheet1!AQ29","v":"44;45;42;44;45;42;44"},{"$f":"Sheet1!AR29&Sheet3!$A$1&Sheet1!AS29&Sheet3!$A$1&Sheet1!AT29&Sheet3!$A$1&Sheet1!AU29&Sheet3!$A$1&Sheet1!AV29&Sheet3!$A$1&Sheet1!AW29&$A$1&Sheet1!AX29","v":"44;45;42;44;45;42;44"},{"$f":"Sheet1!AY29&Sheet3!$A$1&Sheet1!AZ29&Sheet3!$A$1&Sheet1!BA29&Sheet3!$A$1&Sheet1!BB29&Sheet3!$A$1&Sheet1!BC29&Sheet3!$A$1&Sheet1!BD29&$A$1&Sheet1!BE29","v":"91;45;42;91;45;42;42"}]
[null,{"$f":"Sheet1!D30&Sheet3!$A$1&Sheet1!E30&Sheet3!$A$1&Sheet1!F30&Sheet3!$A$1&Sheet1!G30&Sheet3!$A$1&Sheet1!H30&Sheet3!$A$1&Sheet1!I30","v":"1;1;1;1;1;1"},{"$f":"Sheet1!J30&Sheet3!$A$1&Sheet1!K30&Sheet3!$A$1&Sheet1!L30&Sheet3!$A$1&Sheet1!M30&Sheet3!$A$1&Sheet1!N30&Sheet3!$A$1&Sheet1!O30","v":"4;44;44;5;2;44"},{"$f":"Sheet1!P30&Sheet3!$A$1&Sheet1!Q30&Sheet3!$A$1&Sheet1!R30&Sheet3!$A$1&Sheet1!S30&Sheet3!$A$1&Sheet1!T30&Sheet3!$A$1&Sheet1!U30&$A$1&Sheet1!V30","v":"44;45;42;44;45;42;44"},{"$f":"Sheet1!W30&Sheet3!$A$1&Sheet1!X30&Sheet3!$A$1&Sheet1!Y30&Sheet3!$A$1&Sheet1!Z30&Sheet3!$A$1&Sheet1!AA30&Sheet3!$A$1&Sheet1!AB30&$A$1&Sheet1!AC30","v":"91;45;42;91;45;42;42"},{"$f":"Sheet1!AD30&Sheet3!$A$1&Sheet1!AE30&Sheet3!$A$1&Sheet1!AF30&Sheet3!$A$1&Sheet1!AG30&Sheet3!$A$1&Sheet1!AH30&Sheet3!$A$1&Sheet1!AI30&$A$1&Sheet1!AJ30","v":"91;45;42;91;45;42;42"},{"$f":"Sheet1!AK30&Sheet3!$A$1&Sheet1!AL30&Sheet3!$A$1&Sheet1!AM30&Sheet3!$A$1&Sheet1!AN30&Sheet3!$A$1&Sheet1!AO30&Sheet3!$A$1&Sheet1!AP30&$A$1&Sheet1!AQ30","v":"44;45;42;44;45;42;44"},{"$f":"Sheet1!AR30&Sheet3!$A$1&Sheet1!AS30&Sheet3!$A$1&Sheet1!AT30&Sheet3!$A$1&Sheet1!AU30&Sheet3!$A$1&Sheet1!AV30&Sheet3!$A$1&Sheet1!AW30&$A$1&Sheet1!AX30","v":"44;45;42;44;45;42;44"},{"$f":"Sheet1!AY30&Sheet3!$A$1&Sheet1!AZ30&Sheet3!$A$1&Sheet1!BA30&Sheet3!$A$1&Sheet1!BB30&Sheet3!$A$1&Sheet1!BC30&Sheet3!$A$1&Sheet1!BD30&$A$1&Sheet1!BE30","v":"91;45;42;91;45;42;42"}]
[null,{"$f":"Sheet1!D31&Sheet3!$A$1&Sheet1!E31&Sheet3!$A$1&Sheet1!F31&Sheet3!$A$1&Sheet1!G31&Sheet3!$A$1&Sheet1!H31&Sheet3!$A$1&Sheet1!I31","v":"1;1;1;1;1;1"},{"$f":"Sheet1!J31&Sheet3!$A$1&Sheet1!K31&Sheet3!$A$1&Sheet1!L31&Sheet3!$A$1&Sheet1!M31&Sheet3!$A$1&Sheet1!N31&Sheet3!$A$1&Sheet1!O31","v":"4;44;44;5;2;44"},{"$f":"Sheet1!P31&Sheet3!$A$1&Sheet1!Q31&Sheet3!$A$1&Sheet1!R31&Sheet3!$A$1&Sheet1!S31&Sheet3!$A$1&Sheet1!T31&Sheet3!$A$1&Sheet1!U31&$A$1&Sheet1!V31","v":"44;45;42;44;45;42;44"},{"$f":"Sheet1!W31&Sheet3!$A$1&Sheet1!X31&Sheet3!$A$1&Sheet1!Y31&Sheet3!$A$1&Sheet1!Z31&Sheet3!$A$1&Sheet1!AA31&Sheet3!$A$1&Sheet1!AB31&$A$1&Sheet1!AC31","v":"91;45;42;91;45;42;42"},{"$f":"Sheet1!AD31&Sheet3!$A$1&Sheet1!AE31&Sheet3!$A$1&Sheet1!AF31&Sheet3!$A$1&Sheet1!AG31&Sheet3!$A$1&Sheet1!AH31&Sheet3!$A$1&Sheet1!AI31&$A$1&Sheet1!AJ31","v":"91;45;42;91;45;42;42"},{"$f":"Sheet1!AK31&Sheet3!$A$1&Sheet1!AL31&Sheet3!$A$1&Sheet1!AM31&Sheet3!$A$1&Sheet1!AN31&Sheet3!$A$1&Sheet1!AO31&Sheet3!$A$1&Sheet1!AP31&$A$1&Sheet1!AQ31","v":"44;45;42;44;45;42;44"},{"$f":"Sheet1!AR31&Sheet3!$A$1&Sheet1!AS31&Sheet3!$A$1&Sheet1!AT31&Sheet3!$A$1&Sheet1!AU31&Sheet3!$A$1&Sheet1!AV31&Sheet3!$A$1&Sheet1!AW31&$A$1&Sheet1!AX31","v":"44;45;42;44;45;42;44"},{"$f":"Sheet1!AY31&Sheet3!$A$1&Sheet1!AZ31&Sheet3!$A$1&Sheet1!BA31&Sheet3!$A$1&Sheet1!BB31&Sheet3!$A$1&Sheet1!BC31&Sheet3!$A$1&Sheet1!BD31&$A$1&Sheet1!BE31","v":"91;45;42;91;45;42;42"}]
[null,{"$f":"Sheet1!D32&Sheet3!$A$1&Sheet1!E32&Sheet3!$A$1&Sheet1!F32&Sheet3!$A$1&Sheet1!G32&Sheet3!$A$1&Sheet1!H32&Sheet3!$A$1&Sheet1!I32","v":"1;1;1;1;1;1"},{"$f":"Sheet1!J32&Sheet3!$A$1&Sheet1!K32&Sheet3!$A$1&Sheet1!L32&Sheet3!$A$1&Sheet1!M32&Sheet3!$A$1&Sheet1!N32&Sheet3!$A$1&Sheet1!O32","v":"4;44;44;5;2;44"},{"$f":"Sheet1!P32&Sheet3!$A$1&Sheet1!Q32&Sheet3!$A$1&Sheet1!R32&Sheet3!$A$1&Sheet1!S32&Sheet3!$A$1&Sheet1!T32&Sheet3!$A$1&Sheet1!U32&$A$1&Sheet1!V32","v":"44;45;42;44;45;42;44"},{"$f":"Sheet1!W32&Sheet3!$A$1&Sheet1!X32&Sheet3!$A$1&Sheet1!Y32&Sheet3!$A$1&Sheet1!Z32&Sheet3!$A$1&Sheet1!AA32&Sheet3!$A$1&Sheet1!AB32&$A$1&Sheet1!AC32","v":"91;45;42;91;45;42;42"},{"$f":"Sheet1!AD32&Sheet3!$A$1&Sheet1!AE32&Sheet3!$A$1&Sheet1!AF32&Sheet3!$A$1&Sheet1!AG32&Sheet3!$A$1&Sheet1!AH32&Sheet3!$A$1&Sheet1!AI32&$A$1&Sheet1!AJ32","v":"91;45;42;91;45;42;42"},{"$f":"Sheet1!AK32&Sheet3!$A$1&Sheet1!AL32&Sheet3!$A$1&Sheet1!AM32&Sheet3!$A$1&Sheet1!AN32&Sheet3!$A$1&Sheet1!AO32&Sheet3!$A$1&Sheet1!AP32&$A$1&Sheet1!AQ32","v":"44;45;42;44;45;42;44"},{"$f":"Sheet1!AR32&Sheet3!$A$1&Sheet1!AS32&Sheet3!$A$1&Sheet1!AT32&Sheet3!$A$1&Sheet1!AU32&Sheet3!$A$1&Sheet1!AV32&Sheet3!$A$1&Sheet1!AW32&$A$1&Sheet1!AX32","v":"44;45;42;44;45;42;44"},{"$f":"Sheet1!AY32&Sheet3!$A$1&Sheet1!AZ32&Sheet3!$A$1&Sheet1!BA32&Sheet3!$A$1&Sheet1!BB32&Sheet3!$A$1&Sheet1!BC32&Sheet3!$A$1&Sheet1!BD32&$A$1&Sheet1!BE32","v":"91;45;42;91;45;42;42"}]
[null,{"$f":"Sheet1!D33&Sheet3!$A$1&Sheet1!E33&Sheet3!$A$1&Sheet1!F33&Sheet3!$A$1&Sheet1!G33&Sheet3!$A$1&Sheet1!H33&Sheet3!$A$1&Sheet1!I33","v":"1;1;1;1;1;1"},{"$f":"Sheet1!J33&Sheet3!$A$1&Sheet1!K33&Sheet3!$A$1&Sheet1!L33&Sheet3!$A$1&Sheet1!M33&Sheet3!$A$1&Sheet1!N33&Sheet3!$A$1&Sheet1!O33","v":"4;44;44;5;2;44"},{"$f":"Sheet1!P33&Sheet3!$A$1&Sheet1!Q33&Sheet3!$A$1&Sheet1!R33&Sheet3!$A$1&Sheet1!S33&Sheet3!$A$1&Sheet1!T33&Sheet3!$A$1&Sheet1!U33&$A$1&Sheet1!V33","v":"44;45;42;44;45;42;44"},{"$f":"Sheet1!W33&Sheet3!$A$1&Sheet1!X33&Sheet3!$A$1&Sheet1!Y33&Sheet3!$A$1&Sheet1!Z33&Sheet3!$A$1&Sheet1!AA33&Sheet3!$A$1&Sheet1!AB33&$A$1&Sheet1!AC33","v":"91;45;42;91;45;42;42"},{"$f":"Sheet1!AD33&Sheet3!$A$1&Sheet1!AE33&Sheet3!$A$1&Sheet1!AF33&Sheet3!$A$1&Sheet1!AG33&Sheet3!$A$1&Sheet1!AH33&Sheet3!$A$1&Sheet1!AI33&$A$1&Sheet1!AJ33","v":"91;45;42;91;45;42;42"},{"$f":"Sheet1!AK33&Sheet3!$A$1&Sheet1!AL33&Sheet3!$A$1&Sheet1!AM33&Sheet3!$A$1&Sheet1!AN33&Sheet3!$A$1&Sheet1!AO33&Sheet3!$A$1&Sheet1!AP33&$A$1&Sheet1!AQ33","v":"44;45;42;44;45;42;44"},{"$f":"Sheet1!AR33&Sheet3!$A$1&Sheet1!AS33&Sheet3!$A$1&Sheet1!AT33&Sheet3!$A$1&Sheet1!AU33&Sheet3!$A$1&Sheet1!AV33&Sheet3!$A$1&Sheet1!AW33&$A$1&Sheet1!AX33","v":"44;45;42;44;45;42;44"},{"$f":"Sheet1!AY33&Sheet3!$A$1&Sheet1!AZ33&Sheet3!$A$1&Sheet1!BA33&Sheet3!$A$1&Sheet1!BB33&Sheet3!$A$1&Sheet1!BC33&Sheet3!$A$1&Sheet1!BD33&$A$1&Sheet1!BE33","v":"91;45;42;91;45;42;42"}]
[null,{"$f":"Sheet1!D34&Sheet3!$A$1&Sheet1!E34&Sheet3!$A$1&Sheet1!F34&Sheet3!$A$1&Sheet1!G34&Sheet3!$A$1&Sheet1!H34&Sheet3!$A$1&Sheet1!I34","v":"1;1;1;1;1;1"},{"$f":"Sheet1!J34&Sheet3!$A$1&Sheet1!K34&Sheet3!$A$1&Sheet1!L34&Sheet3!$A$1&Sheet1!M34&Sheet3!$A$1&Sheet1!N34&Sheet3!$A$1&Sheet1!O34","v":"4;44;44;5;2;44"},{"$f":"Sheet1!P34&Sheet3!$A$1&Sheet1!Q34&Sheet3!$A$1&Sheet1!R34&Sheet3!$A$1&Sheet1!S34&Sheet3!$A$1&Sheet1!T34&Sheet3!$A$1&Sheet1!U34&$A$1&Sheet1!V34","v":"44;45;42;44;45;42;44"},{"$f":"Sheet1!W34&Sheet3!$A$1&Sheet1!X34&Sheet3!$A$1&Sheet1!Y34&Sheet3!$A$1&Sheet1!Z34&Sheet3!$A$1&Sheet1!AA34&Sheet3!$A$1&Sheet1!AB34&$A$1&Sheet1!AC34","v":"91;45;42;91;45;42;42"},{"$f":"Sheet1!AD34&Sheet3!$A$1&Sheet1!AE34&Sheet3!$A$1&Sheet1!AF34&Sheet3!$A$1&Sheet1!AG34&Sheet3!$A$1&Sheet1!AH34&Sheet3!$A$1&Sheet1!AI34&$A$1&Sheet1!AJ34","v":"91;45;42;91;45;42;42"},{"$f":"Sheet1!AK34&Sheet3!$A$1&Sheet1!AL34&Sheet3!$A$1&Sheet1!AM34&Sheet3!$A$1&Sheet1!AN34&Sheet3!$A$1&Sheet1!AO34&Sheet3!$A$1&Sheet1!AP34&$A$1&Sheet1!AQ34","v":"44;45;42;44;45;42;44"},{"$f":"Sheet1!AR34&Sheet3!$A$1&Sheet1!AS34&Sheet3!$A$1&Sheet1!AT34&Sheet3!$A$1&Sheet1!AU34&Sheet3!$A$1&Sheet1!AV34&Sheet3!$A$1&Sheet1!AW34&$A$1&Sheet1!AX34","v":"44;45;42;44;45;42;44"},{"$f":"Sheet1!AY34&Sheet3!$A$1&Sheet1!AZ34&Sheet3!$A$1&Sheet1!BA34&Sheet3!$A$1&Sheet1!BB34&Sheet3!$A$1&Sheet1!BC34&Sheet3!$A$1&Sheet1!BD34&$A$1&Sheet1!BE34","v":"91;45;42;91;45;42;42"}]
[null,{"$f":"Sheet1!D35&Sheet3!$A$1&Sheet1!E35&Sheet3!$A$1&Sheet1!F35&Sheet3!$A$1&Sheet1!G35&Sheet3!$A$1&Sheet1!H35&Sheet3!$A$1&Sheet1!I35","v":"1;1;1;1;1;1"},{"$f":"Sheet1!J35&Sheet3!$A$1&Sheet1!K35&Sheet3!$A$1&Sheet1!L35&Sheet3!$A$1&Sheet1!M35&Sheet3!$A$1&Sheet1!N35&Sheet3!$A$1&Sheet1!O35","v":"4;44;44;5;2;44"},{"$f":"Sheet1!P35&Sheet3!$A$1&Sheet1!Q35&Sheet3!$A$1&Sheet1!R35&Sheet3!$A$1&Sheet1!S35&Sheet3!$A$1&Sheet1!T35&Sheet3!$A$1&Sheet1!U35&$A$1&Sheet1!V35","v":"44;45;42;44;45;42;44"},{"$f":"Sheet1!W35&Sheet3!$A$1&Sheet1!X35&Sheet3!$A$1&Sheet1!Y35&Sheet3!$A$1&Sheet1!Z35&Sheet3!$A$1&Sheet1!AA35&Sheet3!$A$1&Sheet1!AB35&$A$1&Sheet1!AC35","v":"91;45;42;91;45;42;42"},{"$f":"Sheet1!AD35&Sheet3!$A$1&Sheet1!AE35&Sheet3!$A$1&Sheet1!AF35&Sheet3!$A$1&Sheet1!AG35&Sheet3!$A$1&Sheet1!AH35&Sheet3!$A$1&Sheet1!AI35&$A$1&Sheet1!AJ35","v":"91;45;42;91;45;42;42"},{"$f":"Sheet1!AK35&Sheet3!$A$1&Sheet1!AL35&Sheet3!$A$1&Sheet1!AM35&Sheet3!$A$1&Sheet1!AN35&Sheet3!$A$1&Sheet1!AO35&Sheet3!$A$1&Sheet1!AP35&$A$1&Sheet1!AQ35","v":"44;45;42;44;45;42;44"},{"$f":"Sheet1!AR35&Sheet3!$A$1&Sheet1!AS35&Sheet3!$A$1&Sheet1!AT35&Sheet3!$A$1&Sheet1!AU35&Sheet3!$A$1&Sheet1!AV35&Sheet3!$A$1&Sheet1!AW35&$A$1&Sheet1!AX35","v":"44;45;42;44;45;42;44"},{"$f":"Sheet1!AY35&Sheet3!$A$1&Sheet1!AZ35&Sheet3!$A$1&Sheet1!BA35&Sheet3!$A$1&Sheet1!BB35&Sheet3!$A$1&Sheet1!BC35&Sheet3!$A$1&Sheet1!BD35&$A$1&Sheet1!BE35","v":"91;45;42;91;45;42;42"}]
[null,{"$f":"Sheet1!D36&Sheet3!$A$1&Sheet1!E36&Sheet3!$A$1&Sheet1!F36&Sheet3!$A$1&Sheet1!G36&Sheet3!$A$1&Sheet1!H36&Sheet3!$A$1&Sheet1!I36","v":"1;1;1;1;1;1"},{"$f":"Sheet1!J36&Sheet3!$A$1&Sheet1!K36&Sheet3!$A$1&Sheet1!L36&Sheet3!$A$1&Sheet1!M36&Sheet3!$A$1&Sheet1!N36&Sheet3!$A$1&Sheet1!O36","v":"4;44;44;5;2;44"},{"$f":"Sheet1!P36&Sheet3!$A$1&Sheet1!Q36&Sheet3!$A$1&Sheet1!R36&Sheet3!$A$1&Sheet1!S36&Sheet3!$A$1&Sheet1!T36&Sheet3!$A$1&Sheet1!U36&$A$1&Sheet1!V36","v":"44;45;42;44;45;42;44"},{"$f":"Sheet1!W36&Sheet3!$A$1&Sheet1!X36&Sheet3!$A$1&Sheet1!Y36&Sheet3!$A$1&Sheet1!Z36&Sheet3!$A$1&Sheet1!AA36&Sheet3!$A$1&Sheet1!AB36&$A$1&Sheet1!AC36","v":"91;45;42;91;45;42;42"},{"$f":"Sheet1!AD36&Sheet3!$A$1&Sheet1!AE36&Sheet3!$A$1&Sheet1!AF36&Sheet3!$A$1&Sheet1!AG36&Sheet3!$A$1&Sheet1!AH36&Sheet3!$A$1&Sheet1!AI36&$A$1&Sheet1!AJ36","v":"91;45;42;91;45;42;42"},{"$f":"Sheet1!AK36&Sheet3!$A$1&Sheet1!AL36&Sheet3!$A$1&Sheet1!AM36&Sheet3!$A$1&Sheet1!AN36&Sheet3!$A$1&Sheet1!AO36&Sheet3!$A$1&Sheet1!AP36&$A$1&Sheet1!AQ36","v":"44;45;42;44;45;42;44"},{"$f":"Sheet1!AR36&Sheet3!$A$1&Sheet1!AS36&Sheet3!$A$1&Sheet1!AT36&Sheet3!$A$1&Sheet1!AU36&Sheet3!$A$1&Sheet1!AV36&Sheet3!$A$1&Sheet1!AW36&$A$1&Sheet1!AX36","v":"44;45;42;44;45;42;44"},{"$f":"Sheet1!AY36&Sheet3!$A$1&Sheet1!AZ36&Sheet3!$A$1&Sheet1!BA36&Sheet3!$A$1&Sheet1!BB36&Sheet3!$A$1&Sheet1!BC36&Sheet3!$A$1&Sheet1!BD36&$A$1&Sheet1!BE36","v":"91;45;42;91;45;42;42"}]
[null,{"$f":"Sheet1!D37&Sheet3!$A$1&Sheet1!E37&Sheet3!$A$1&Sheet1!F37&Sheet3!$A$1&Sheet1!G37&Sheet3!$A$1&Sheet1!H37&Sheet3!$A$1&Sheet1!I37","v":"1;1;1;1;1;1"},{"$f":"Sheet1!J37&Sheet3!$A$1&Sheet1!K37&Sheet3!$A$1&Sheet1!L37&Sheet3!$A$1&Sheet1!M37&Sheet3!$A$1&Sheet1!N37&Sheet3!$A$1&Sheet1!O37","v":"4;44;44;5;2;44"},{"$f":"Sheet1!P37&Sheet3!$A$1&Sheet1!Q37&Sheet3!$A$1&Sheet1!R37&Sheet3!$A$1&Sheet1!S37&Sheet3!$A$1&Sheet1!T37&Sheet3!$A$1&Sheet1!U37&$A$1&Sheet1!V37","v":"44;45;42;44;45;42;44"},{"$f":"Sheet1!W37&Sheet3!$A$1&Sheet1!X37&Sheet3!$A$1&Sheet1!Y37&Sheet3!$A$1&Sheet1!Z37&Sheet3!$A$1&Sheet1!AA37&Sheet3!$A$1&Sheet1!AB37&$A$1&Sheet1!AC37","v":"91;45;42;91;45;42;42"},{"$f":"Sheet1!AD37&Sheet3!$A$1&Sheet1!AE37&Sheet3!$A$1&Sheet1!AF37&Sheet3!$A$1&Sheet1!AG37&Sheet3!$A$1&Sheet1!AH37&Sheet3!$A$1&Sheet1!AI37&$A$1&Sheet1!AJ37","v":"91;45;42;91;45;42;42"},{"$f":"Sheet1!AK37&Sheet3!$A$1&Sheet1!AL37&Sheet3!$A$1&Sheet1!AM37&Sheet3!$A$1&Sheet1!AN37&Sheet3!$A$1&Sheet1!AO37&Sheet3!$A$1&Sheet1!AP37&$A$1&Sheet1!AQ37","v":"44;45;42;44;45;42;44"},{"$f":"Sheet1!AR37&Sheet3!$A$1&Sheet1!AS37&Sheet3!$A$1&Sheet1!AT37&Sheet3!$A$1&Sheet1!AU37&Sheet3!$A$1&Sheet1!AV37&Sheet3!$A$1&Sheet1!AW37&$A$1&Sheet1!AX37","v":"44;45;42;44;45;42;44"},{"$f":"Sheet1!AY37&Sheet3!$A$1&Sheet1!AZ37&Sheet3!$A$1&Sheet1!BA37&Sheet3!$A$1&Sheet1!BB37&Sheet3!$A$1&Sheet1!BC37&Sheet3!$A$1&Sheet1!BD37&$A$1&Sheet1!BE37","v":"91;45;42;91;45;42;42"}]
[null,{"$f":"Sheet1!D38&Sheet3!$A$1&Sheet1!E38&Sheet3!$A$1&Sheet1!F38&Sheet3!$A$1&Sheet1!G38&Sheet3!$A$1&Sheet1!H38&Sheet3!$A$1&Sheet1!I38","v":"1;1;1;1;1;1"},{"$f":"Sheet1!J38&Sheet3!$A$1&Sheet1!K38&Sheet3!$A$1&Sheet1!L38&Sheet3!$A$1&Sheet1!M38&Sheet3!$A$1&Sheet1!N38&Sheet3!$A$1&Sheet1!O38","v":"4;44;44;5;2;44"},{"$f":"Sheet1!P38&Sheet3!$A$1&Sheet1!Q38&Sheet3!$A$1&Sheet1!R38&Sheet3!$A$1&Sheet1!S38&Sheet3!$A$1&Sheet1!T38&Sheet3!$A$1&Sheet1!U38&$A$1&Sheet1!V38","v":"44;45;42;44;45;42;44"},{"$f":"Sheet1!W38&Sheet3!$A$1&Sheet1!X38&Sheet3!$A$1&Sheet1!Y38&Sheet3!$A$1&Sheet1!Z38&Sheet3!$A$1&Sheet1!AA38&Sheet3!$A$1&Sheet1!AB38&$A$1&Sheet1!AC38","v":"91;45;42;91;45;42;42"},{"$f":"Sheet1!AD38&Sheet3!$A$1&Sheet1!AE38&Sheet3!$A$1&Sheet1!AF38&Sheet3!$A$1&Sheet1!AG38&Sheet3!$A$1&Sheet1!AH38&Sheet3!$A$1&Sheet1!AI38&$A$1&Sheet1!AJ38","v":"91;45;42;91;45;42;42"},{"$f":"Sheet1!AK38&Sheet3!$A$1&Sheet1!AL38&Sheet3!$A$1&Sheet1!AM38&Sheet3!$A$1&Sheet1!AN38&Sheet3!$A$1&Sheet1!AO38&Sheet3!$A$1&Sheet1!AP38&$A$1&Sheet1!AQ38","v":"44;45;42;44;45;42;44"},{"$f":"Sheet1!AR38&Sheet3!$A$1&Sheet1!AS38&Sheet3!$A$1&Sheet1!AT38&Sheet3!$A$1&Sheet1!AU38&Sheet3!$A$1&Sheet1!AV38&Sheet3!$A$1&Sheet1!AW38&$A$1&Sheet1!AX38","v":"44;45;42;44;45;42;44"},{"$f":"Sheet1!AY38&Sheet3!$A$1&Sheet1!AZ38&Sheet3!$A$1&Sheet1!BA38&Sheet3!$A$1&Sheet1!BB38&Sheet3!$A$1&Sheet1!BC38&Sheet3!$A$1&Sheet1!BD38&$A$1&Sheet1!BE38","v":"91;45;42;91;45;42;42"}]
[null,{"$f":"Sheet1!D39&Sheet3!$A$1&Sheet1!E39&Sheet3!$A$1&Sheet1!F39&Sheet3!$A$1&Sheet1!G39&Sheet3!$A$1&Sheet1!H39&Sheet3!$A$1&Sheet1!I39","v":"2;2;2;2;2;2"},{"$f":"Sheet1!J39&Sheet3!$A$1&Sheet1!K39&Sheet3!$A$1&Sheet1!L39&Sheet3!$A$1&Sheet1!M39&Sheet3!$A$1&Sheet1!N39&Sheet3!$A$1&Sheet1!O39","v":"4;45;45;5;2;45"},{"$f":"Sheet1!P39&Sheet3!$A$1&Sheet1!Q39&Sheet3!$A$1&Sheet1!R39&Sheet3!$A$1&Sheet1!S39&Sheet3!$A$1&Sheet1!T39&Sheet3!$A$1&Sheet1!U39&$A$1&Sheet1!V39","v":"44;45;42;44;45;42;42"},{"$f":"Sheet1!W39&Sheet3!$A$1&Sheet1!X39&Sheet3!$A$1&Sheet1!Y39&Sheet3!$A$1&Sheet1!Z39&Sheet3!$A$1&Sheet1!AA39&Sheet3!$A$1&Sheet1!AB39&$A$1&Sheet1!AC39","v":"44;92;42;44;92;42;42"},{"$f":"Sheet1!AD39&Sheet3!$A$1&Sheet1!AE39&Sheet3!$A$1&Sheet1!AF39&Sheet3!$A$1&Sheet1!AG39&Sheet3!$A$1&Sheet1!AH39&Sheet3!$A$1&Sheet1!AI39&$A$1&Sheet1!AJ39","v":"44;92;42;44;92;42;42"},{"$f":"Sheet1!AK39&Sheet3!$A$1&Sheet1!AL39&Sheet3!$A$1&Sheet1!AM39&Sheet3!$A$1&Sheet1!AN39&Sheet3!$A$1&Sheet1!AO39&Sheet3!$A$1&Sheet1!AP39&$A$1&Sheet1!AQ39","v":"44;45;42;44;45;42;42"},{"$f":"Sheet1!AR39&Sheet3!$A$1&Sheet1!AS39&Sheet3!$A$1&Sheet1!AT39&Sheet3!$A$1&Sheet1!AU39&Sheet3!$A$1&Sheet1!AV39&Sheet3!$A$1&Sheet1!AW39&$A$1&Sheet1!AX39","v":"44;45;42;44;45;42;42"},{"$f":"Sheet1!AY39&Sheet3!$A$1&Sheet1!AZ39&Sheet3!$A$1&Sheet1!BA39&Sheet3!$A$1&Sheet1!BB39&Sheet3!$A$1&Sheet1!BC39&Sheet3!$A$1&Sheet1!BD39&$A$1&Sheet1!BE39","v":"44;92;42;44;92;42;42"}]
[null,{"$f":"Sheet1!D40&Sheet3!$A$1&Sheet1!E40&Sheet3!$A$1&Sheet1!F40&Sheet3!$A$1&Sheet1!G40&Sheet3!$A$1&Sheet1!H40&Sheet3!$A$1&Sheet1!I40","v":"1;1;1;1;1;1"},{"$f":"Sheet1!J40&Sheet3!$A$1&Sheet1!K40&Sheet3!$A$1&Sheet1!L40&Sheet3!$A$1&Sheet1!M40&Sheet3!$A$1&Sheet1!N40&Sheet3!$A$1&Sheet1!O40","v":"4;44;44;5;2;44"},{"$f":"Sheet1!P40&Sheet3!$A$1&Sheet1!Q40&Sheet3!$A$1&Sheet1!R40&Sheet3!$A$1&Sheet1!S40&Sheet3!$A$1&Sheet1!T40&Sheet3!$A$1&Sheet1!U40&$A$1&Sheet1!V40","v":"44;45;42;44;45;42;44"},{"$f":"Sheet1!W40&Sheet3!$A$1&Sheet1!X40&Sheet3!$A$1&Sheet1!Y40&Sheet3!$A$1&Sheet1!Z40&Sheet3!$A$1&Sheet1!AA40&Sheet3!$A$1&Sheet1!AB40&$A$1&Sheet1!AC40","v":"91;45;42;91;45;42;42"},{"$f":"Sheet1!AD40&Sheet3!$A$1&Sheet1!AE40&Sheet3!$A$1&Sheet1!AF40&Sheet3!$A$1&Sheet1!AG40&Sheet3!$A$1&Sheet1!AH40&Sheet3!$A$1&Sheet1!AI40&$A$1&Sheet1!AJ40","v":"91;45;42;91;45;42;42"},{"$f":"Sheet1!AK40&Sheet3!$A$1&Sheet1!AL40&Sheet3!$A$1&Sheet1!AM40&Sheet3!$A$1&Sheet1!AN40&Sheet3!$A$1&Sheet1!AO40&Sheet3!$A$1&Sheet1!AP40&$A$1&Sheet1!AQ40","v":"44;45;42;44;45;42;44"},{"$f":"Sheet1!AR40&Sheet3!$A$1&Sheet1!AS40&Sheet3!$A$1&Sheet1!AT40&Sheet3!$A$1&Sheet1!AU40&Sheet3!$A$1&Sheet1!AV40&Sheet3!$A$1&Sheet1!AW40&$A$1&Sheet1!AX40","v":"44;45;42;44;45;42;44"},{"$f":"Sheet1!AY40&Sheet3!$A$1&Sheet1!AZ40&Sheet3!$A$1&Sheet1!BA40&Sheet3!$A$1&Sheet1!BB40&Sheet3!$A$1&Sheet1!BC40&Sheet3!$A$1&Sheet1!BD40&$A$1&Sheet1!BE40","v":"91;45;42;91;45;42;42"}]
[null,{"$f":"Sheet1!D41&Sheet3!$A$1&Sheet1!E41&Sheet3!$A$1&Sheet1!F41&Sheet3!$A$1&Sheet1!G41&Sheet3!$A$1&Sheet1!H41&Sheet3!$A$1&Sheet1!I41","v":"3;3;3;3;3;3"},{"$f":"Sheet1!J41&Sheet3!$A$1&Sheet1!K41&Sheet3!$A$1&Sheet1!L41&Sheet3!$A$1&Sheet1!M41&Sheet3!$A$1&Sheet1!N41&Sheet3!$A$1&Sheet1!O41","v":"4;42;42;5;2;42"},{"$f":"Sheet1!P41&Sheet3!$A$1&Sheet1!Q41&Sheet3!$A$1&Sheet1!R41&Sheet3!$A$1&Sheet1!S41&Sheet3!$A$1&Sheet1!T41&Sheet3!$A$1&Sheet1!U41&$A$1&Sheet1!V41","v":"44;45;42;44;45;42;42"},{"$f":"Sheet1!W41&Sheet3!$A$1&Sheet1!X41&Sheet3!$A$1&Sheet1!Y41&Sheet3!$A$1&Sheet1!Z41&Sheet3!$A$1&Sheet1!AA41&Sheet3!$A$1&Sheet1!AB41&$A$1&Sheet1!AC41","v":"44;45;89;44;45;89;89"},{"$f":"Sheet1!AD41&Sheet3!$A$1&Sheet1!AE41&Sheet3!$A$1&Sheet1!AF41&Sheet3!$A$1&Sheet1!AG41&Sheet3!$A$1&Sheet1!AH41&Sheet3!$A$1&Sheet1!AI41&$A$1&Sheet1!AJ41","v":"44;45;89;44;45;89;89"},{"$f":"Sheet1!AK41&Sheet3!$A$1&Sheet1!AL41&Sheet3!$A$1&Sheet1!AM41&Sheet3!$A$1&Sheet1!AN41&Sheet3!$A$1&Sheet1!AO41&Sheet3!$A$1&Sheet1!AP41&$A$1&Sheet1!AQ41","v":"44;45;42;44;45;42;42"},{"$f":"Sheet1!AR41&Sheet3!$A$1&Sheet1!AS41&Sheet3!$A$1&Sheet1!AT41&Sheet3!$A$1&Sheet1!AU41&Sheet3!$A$1&Sheet1!AV41&Sheet3!$A$1&Sheet1!AW41&$A$1&Sheet1!AX41","v":"44;45;42;44;45;42;42"},{"$f":"Sheet1!AY41&Sheet3!$A$1&Sheet1!AZ41&Sheet3!$A$1&Sheet1!BA41&Sheet3!$A$1&Sheet1!BB41&Sheet3!$A$1&Sheet1!BC41&Sheet3!$A$1&Sheet1!BD41&$A$1&Sheet1!BE41","v":"44;45;89;44;45;89;89"}]
[null,{"$f":"Sheet1!D42&Sheet3!$A$1&Sheet1!E42&Sheet3!$A$1&Sheet1!F42&Sheet3!$A$1&Sheet1!G42&Sheet3!$A$1&Sheet1!H42&Sheet3!$A$1&Sheet1!I42","v":"1;1;1;1;1;1"},{"$f":"Sheet1!J42&Sheet3!$A$1&Sheet1!K42&Sheet3!$A$1&Sheet1!L42&Sheet3!$A$1&Sheet1!M42&Sheet3!$A$1&Sheet1!N42&Sheet3!$A$1&Sheet1!O42","v":"4;44;44;5;2;44"},{"$f":"Sheet1!P42&Sheet3!$A$1&Sheet1!Q42&Sheet3!$A$1&Sheet1!R42&Sheet3!$A$1&Sheet1!S42&Sheet3!$A$1&Sheet1!T42&Sheet3!$A$1&Sheet1!U42&$A$1&Sheet1!V42","v":"44;45;42;44;45;42;44"},{"$f":"Sheet1!W42&Sheet3!$A$1&Sheet1!X42&Sheet3!$A$1&Sheet1!Y42&Sheet3!$A$1&Sheet1!Z42&Sheet3!$A$1&Sheet1!AA42&Sheet3!$A$1&Sheet1!AB42&$A$1&Sheet1!AC42","v":"91;45;42;91;45;42;42"},{"$f":"Sheet1!AD42&Sheet3!$A$1&Sheet1!AE42&Sheet3!$A$1&Sheet1!AF42&Sheet3!$A$1&Sheet1!AG42&Sheet3!$A$1&Sheet1!AH42&Sheet3!$A$1&Sheet1!AI42&$A$1&Sheet1!AJ42","v":"91;45;42;91;45;42;42"},{"$f":"Sheet1!AK42&Sheet3!$A$1&Sheet1!AL42&Sheet3!$A$1&Sheet1!AM42&Sheet3!$A$1&Sheet1!AN42&Sheet3!$A$1&Sheet1!AO42&Sheet3!$A$1&Sheet1!AP42&$A$1&Sheet1!AQ42","v":"44;45;42;44;45;42;44"},{"$f":"Sheet1!AR42&Sheet3!$A$1&Sheet1!AS42&Sheet3!$A$1&Sheet1!AT42&Sheet3!$A$1&Sheet1!AU42&Sheet3!$A$1&Sheet1!AV42&Sheet3!$A$1&Sheet1!AW42&$A$1&Sheet1!AX42","v":"44;45;42;44;45;42;44"},{"$f":"Sheet1!AY42&Sheet3!$A$1&Sheet1!AZ42&Sheet3!$A$1&Sheet1!BA42&Sheet3!$A$1&Sheet1!BB42&Sheet3!$A$1&Sheet1!BC42&Sheet3!$A$1&Sheet1!BD42&$A$1&Sheet1!BE42","v":"91;45;42;91;45;42;42"}]
[null,{"$f":"Sheet1!D43&Sheet3!$A$1&Sheet1!E43&Sheet3!$A$1&Sheet1!F43&Sheet3!$A$1&Sheet1!G43&Sheet3!$A$1&Sheet1!H43&Sheet3!$A$1&Sheet1!I43","v":"3;3;3;3;3;3"},{"$f":"Sheet1!J43&Sheet3!$A$1&Sheet1!K43&Sheet3!$A$1&Sheet1!L43&Sheet3!$A$1&Sheet1!M43&Sheet3!$A$1&Sheet1!N43&Sheet3!$A$1&Sheet1!O43","v":"4;42;42;5;2;42"},{"$f":"Sheet1!P43&Sheet3!$A$1&Sheet1!Q43&Sheet3!$A$1&Sheet1!R43&Sheet3!$A$1&Sheet1!S43&Sheet3!$A$1&Sheet1!T43&Sheet3!$A$1&Sheet1!U43&$A$1&Sheet1!V43","v":"44;45;42;44;45;42;42"},{"$f":"Sheet1!W43&Sheet3!$A$1&Sheet1!X43&Sheet3!$A$1&Sheet1!Y43&Sheet3!$A$1&Sheet1!Z43&Sheet3!$A$1&Sheet1!AA43&Sheet3!$A$1&Sheet1!AB43&$A$1&Sheet1!AC43","v":"44;45;89;44;45;89;89"},{"$f":"Sheet1!AD43&Sheet3!$A$1&Sheet1!AE43&Sheet3!$A$1&Sheet1!AF43&Sheet3!$A$1&Sheet1!AG43&Sheet3!$A$1&Sheet1!AH43&Sheet3!$A$1&Sheet1!AI43&$A$1&Sheet1!AJ43","v":"44;45;89;44;45;89;89"},{"$f":"Sheet1!AK43&Sheet3!$A$1&Sheet1!AL43&Sheet3!$A$1&Sheet1!AM43&Sheet3!$A$1&Sheet1!AN43&Sheet3!$A$1&Sheet1!AO43&Sheet3!$A$1&Sheet1!AP43&$A$1&Sheet1!AQ43","v":"44;45;42;44;45;42;42"},{"$f":"Sheet1!AR43&Sheet3!$A$1&Sheet1!AS43&Sheet3!$A$1&Sheet1!AT43&Sheet3!$A$1&Sheet1!AU43&Sheet3!$A$1&Sheet1!AV43&Sheet3!$A$1&Sheet1!AW43&$A$1&Sheet1!AX43","v":"44;45;42;44;45;42;42"},{"$f":"Sheet1!AY43&Sheet3!$A$1&Sheet1!AZ43&Sheet3!$A$1&Sheet1!BA43&Sheet3!$A$1&Sheet1!BB43&Sheet3!$A$1&Sheet1!BC43&Sheet3!$A$1&Sheet1!BD43&$A$1&Sheet1!BE43","v":"44;45;89;44;45;89;89"}]
[null,{"$f":"Sheet1!D44&Sheet3!$A$1&Sheet1!E44&Sheet3!$A$1&Sheet1!F44&Sheet3!$A$1&Sheet1!G44&Sheet3!$A$1&Sheet1!H44&Sheet3!$A$1&Sheet1!I44","v":"1;1;1;1;1;1"},{"$f":"Sheet1!J44&Sheet3!$A$1&Sheet1!K44&Sheet3!$A$1&Sheet1!L44&Sheet3!$A$1&Sheet1!M44&Sheet3!$A$1&Sheet1!N44&Sheet3!$A$1&Sheet1!O44","v":"4;44;44;5;2;44"},{"$f":"Sheet1!P44&Sheet3!$A$1&Sheet1!Q44&Sheet3!$A$1&Sheet1!R44&Sheet3!$A$1&Sheet1!S44&Sheet3!$A$1&Sheet1!T44&Sheet3!$A$1&Sheet1!U44&$A$1&Sheet1!V44","v":"44;45;42;44;45;42;44"},{"$f":"Sheet1!W44&Sheet3!$A$1&Sheet1!X44&Sheet3!$A$1&Sheet1!Y44&Sheet3!$A$1&Sheet1!Z44&Sheet3!$A$1&Sheet1!AA44&Sheet3!$A$1&Sheet1!AB44&$A$1&Sheet1!AC44","v":"91;45;42;91;45;42;42"},{"$f":"Sheet1!AD44&Sheet3!$A$1&Sheet1!AE44&Sheet3!$A$1&Sheet1!AF44&Sheet3!$A$1&Sheet1!AG44&Sheet3!$A$1&Sheet1!AH44&Sheet3!$A$1&Sheet1!AI44&$A$1&Sheet1!AJ44","v":"91;45;42;91;45;42;42"},{"$f":"Sheet1!AK44&Sheet3!$A$1&Sheet1!AL44&Sheet3!$A$1&Sheet1!AM44&Sheet3!$A$1&Sheet1!AN44&Sheet3!$A$1&Sheet1!AO44&Sheet3!$A$1&Sheet1!AP44&$A$1&Sheet1!AQ44","v":"44;45;42;44;45;42;44"},{"$f":"Sheet1!AR44&Sheet3!$A$1&Sheet1!AS44&Sheet3!$A$1&Sheet1!AT44&Sheet3!$A$1&Sheet1!AU44&Sheet3!$A$1&Sheet1!AV44&Sheet3!$A$1&Sheet1!AW44&$A$1&Sheet1!AX44","v":"44;45;42;44;45;42;44"},{"$f":"Sheet1!AY44&Sheet3!$A$1&Sheet1!AZ44&Sheet3!$A$1&Sheet1!BA44&Sheet3!$A$1&Sheet1!BB44&Sheet3!$A$1&Sheet1!BC44&Sheet3!$A$1&Sheet1!BD44&$A$1&Sheet1!BE44","v":"91;45;42;91;45;42;42"}]
[null,{"$f":"Sheet1!D45&Sheet3!$A$1&Sheet1!E45&Sheet3!$A$1&Sheet1!F45&Sheet3!$A$1&Sheet1!G45&Sheet3!$A$1&Sheet1!H45&Sheet3!$A$1&Sheet1!I45","v":"1;1;1;1;1;1"},{"$f":"Sheet1!J45&Sheet3!$A$1&Sheet1!K45&Sheet3!$A$1&Sheet1!L45&Sheet3!$A$1&Sheet1!M45&Sheet3!$A$1&Sheet1!N45&Sheet3!$A$1&Sheet1!O45","v":"4;44;44;5;2;44"},{"$f":"Sheet1!P45&Sheet3!$A$1&Sheet1!Q45&Sheet3!$A$1&Sheet1!R45&Sheet3!$A$1&Sheet1!S45&Sheet3!$A$1&Sheet1!T45&Sheet3!$A$1&Sheet1!U45&$A$1&Sheet1!V45","v":"44;45;42;44;45;42;44"},{"$f":"Sheet1!W45&Sheet3!$A$1&Sheet1!X45&Sheet3!$A$1&Sheet1!Y45&Sheet3!$A$1&Sheet1!Z45&Sheet3!$A$1&Sheet1!AA45&Sheet3!$A$1&Sheet1!AB45&$A$1&Sheet1!AC45","v":"91;45;42;91;45;42;42"},{"$f":"Sheet1!AD45&Sheet3!$A$1&Sheet1!AE45&Sheet3!$A$1&Sheet1!AF45&Sheet3!$A$1&Sheet1!AG45&Sheet3!$A$1&Sheet1!AH45&Sheet3!$A$1&Sheet1!AI45&$A$1&Sheet1!AJ45","v":"91;45;42;91;45;42;42"},{"$f":"Sheet1!AK45&Sheet3!$A$1&Sheet1!AL45&Sheet3!$A$1&Sheet1!AM45&Sheet3!$A$1&Sheet1!AN45&Sheet3!$A$1&Sheet1!AO45&Sheet3!$A$1&Sheet1!AP45&$A$1&Sheet1!AQ45","v":"44;45;42;44;45;42;44"},{"$f":"Sheet1!AR45&Sheet3!$A$1&Sheet1!AS45&Sheet3!$A$1&Sheet1!AT45&Sheet3!$A$1&Sheet1!AU45&Sheet3!$A$1&Sheet1!AV45&Sheet3!$A$1&Sheet1!AW45&$A$1&Sheet1!AX45","v":"44;45;42;44;45;42;44"},{"$f":"Sheet1!AY45&Sheet3!$A$1&Sheet1!AZ45&Sheet3!$A$1&Sheet1!BA45&Sheet3!$A$1&Sheet1!BB45&Sheet3!$A$1&Sheet1!BC45&Sheet3!$A$1&Sheet1!BD45&$A$1&Sheet1!BE45","v":"91;45;42;91;45;42;42"}]
[null,{"$f":"Sheet1!D46&Sheet3!$A$1&Sheet1!E46&Sheet3!$A$1&Sheet1!F46&Sheet3!$A$1&Sheet1!G46&Sheet3!$A$1&Sheet1!H46&Sheet3!$A$1&Sheet1!I46","v":"1;1;1;1;1;1"},{"$f":"Sheet1!J46&Sheet3!$A$1&Sheet1!K46&Sheet3!$A$1&Sheet1!L46&Sheet3!$A$1&Sheet1!M46&Sheet3!$A$1&Sheet1!N46&Sheet3!$A$1&Sheet1!O46","v":"4;44;44;5;2;44"},{"$f":"Sheet1!P46&Sheet3!$A$1&Sheet1!Q46&Sheet3!$A$1&Sheet1!R46&Sheet3!$A$1&Sheet1!S46&Sheet3!$A$1&Sheet1!T46&Sheet3!$A$1&Sheet1!U46&$A$1&Sheet1!V46","v":"44;45;42;44;45;42;44"},{"$f":"Sheet1!W46&Sheet3!$A$1&Sheet1!X46&Sheet3!$A$1&Sheet1!Y46&Sheet3!$A$1&Sheet1!Z46&Sheet3!$A$1&Sheet1!AA46&Sheet3!$A$1&Sheet1!AB46&$A$1&Sheet1!AC46","v":"91;45;42;91;45;42;42"},{"$f":"Sheet1!AD46&Sheet3!$A$1&Sheet1!AE46&Sheet3!$A$1&Sheet1!AF46&Sheet3!$A$1&Sheet1!AG46&Sheet3!$A$1&Sheet1!AH46&Sheet3!$A$1&Sheet1!AI46&$A$1&Sheet1!AJ46","v":"91;45;42;91;45;42;42"},{"$f":"Sheet1!AK46&Sheet3!$A$1&Sheet1!AL46&Sheet3!$A$1&Sheet1!AM46&Sheet3!$A$1&Sheet1!AN46&Sheet3!$A$1&Sheet1!AO46&Sheet3!$A$1&Sheet1!AP46&$A$1&Sheet1!AQ46","v":"44;45;42;44;45;42;44"},{"$f":"Sheet1!AR46&Sheet3!$A$1&Sheet1!AS46&Sheet3!$A$1&Sheet1!AT46&Sheet3!$A$1&Sheet1!AU46&Sheet3!$A$1&Sheet1!AV46&Sheet3!$A$1&Sheet1!AW46&$A$1&Sheet1!AX46","v":"44;45;42;44;45;42;44"},{"$f":"Sheet1!AY46&Sheet3!$A$1&Sheet1!AZ46&Sheet3!$A$1&Sheet1!BA46&Sheet3!$A$1&Sheet1!BB46&Sheet3!$A$1&Sheet1!BC46&Sheet3!$A$1&Sheet1!BD46&$A$1&Sheet1!BE46","v":"91;45;42;91;45;42;42"}]
[null,{"$f":"Sheet1!D47&Sheet3!$A$1&Sheet1!E47&Sheet3!$A$1&Sheet1!F47&Sheet3!$A$1&Sheet1!G47&Sheet3!$A$1&Sheet1!H47&Sheet3!$A$1&Sheet1!I47","v":"1;1;1;1;1;1"},{"$f":"Sheet1!J47&Sheet3!$A$1&Sheet1!K47&Sheet3!$A$1&Sheet1!L47&Sheet3!$A$1&Sheet1!M47&Sheet3!$A$1&Sheet1!N47&Sheet3!$A$1&Sheet1!O47","v":"4;44;44;5;2;44"},{"$f":"Sheet1!P47&Sheet3!$A$1&Sheet1!Q47&Sheet3!$A$1&Sheet1!R47&Sheet3!$A$1&Sheet1!S47&Sheet3!$A$1&Sheet1!T47&Sheet3!$A$1&Sheet1!U47&$A$1&Sheet1!V47","v":"44;45;42;44;45;42;44"},{"$f":"Sheet1!W47&Sheet3!$A$1&Sheet1!X47&Sheet3!$A$1&Sheet1!Y47&Sheet3!$A$1&Sheet1!Z47&Sheet3!$A$1&Sheet1!AA47&Sheet3!$A$1&Sheet1!AB47&$A$1&Sheet1!AC47","v":"91;45;42;91;45;42;42"},{"$f":"Sheet1!AD47&Sheet3!$A$1&Sheet1!AE47&Sheet3!$A$1&Sheet1!AF47&Sheet3!$A$1&Sheet1!AG47&Sheet3!$A$1&Sheet1!AH47&Sheet3!$A$1&Sheet1!AI47&$A$1&Sheet1!AJ47","v":"91;45;42;91;45;42;42"},{"$f":"Sheet1!AK47&Sheet3!$A$1&Sheet1!AL47&Sheet3!$A$1&Sheet1!AM47&Sheet3!$A$1&Sheet1!AN47&Sheet3!$A$1&Sheet1!AO47&Sheet3!$A$1&Sheet1!AP47&$A$1&Sheet1!AQ47","v":"44;45;42;44;45;42;44"},{"$f":"Sheet1!AR47&Sheet3!$A$1&Sheet1!AS47&Sheet3!$A$1&Sheet1!AT47&Sheet3!$A$1&Sheet1!AU47&Sheet3!$A$1&Sheet1!AV47&Sheet3!$A$1&Sheet1!AW47&$A$1&Sheet1!AX47","v":"44;45;42;44;45;42;44"},{"$f":"Sheet1!AY47&Sheet3!$A$1&Sheet1!AZ47&Sheet3!$A$1&Sheet1!BA47&Sheet3!$A$1&Sheet1!BB47&Sheet3!$A$1&Sheet1!BC47&Sheet3!$A$1&Sheet1!BD47&$A$1&Sheet1!BE47","v":"91;45;42;91;45;42;42"}]
[null,{"$f":"Sheet1!D48&Sheet3!$A$1&Sheet1!E48&Sheet3!$A$1&Sheet1!F48&Sheet3!$A$1&Sheet1!G48&Sheet3!$A$1&Sheet1!H48&Sheet3!$A$1&Sheet1!I48","v":"1;1;1;1;1;1"},{"$f":"Sheet1!J48&Sheet3!$A$1&Sheet1!K48&Sheet3!$A$1&Sheet1!L48&Sheet3!$A$1&Sheet1!M48&Sheet3!$A$1&Sheet1!N48&Sheet3!$A$1&Sheet1!O48","v":"4;44;44;5;2;44"},{"$f":"Sheet1!P48&Sheet3!$A$1&Sheet1!Q48&Sheet3!$A$1&Sheet1!R48&Sheet3!$A$1&Sheet1!S48&Sheet3!$A$1&Sheet1!T48&Sheet3!$A$1&Sheet1!U48&$A$1&Sheet1!V48","v":"44;45;42;44;45;42;44"},{"$f":"Sheet1!W48&Sheet3!$A$1&Sheet1!X48&Sheet3!$A$1&Sheet1!Y48&Sheet3!$A$1&Sheet1!Z48&Sheet3!$A$1&Sheet1!AA48&Sheet3!$A$1&Sheet1!AB48&$A$1&Sheet1!AC48","v":"91;45;42;91;45;42;42"},{"$f":"Sheet1!AD48&Sheet3!$A$1&Sheet1!AE48&Sheet3!$A$1&Sheet1!AF48&Sheet3!$A$1&Sheet1!AG48&Sheet3!$A$1&Sheet1!AH48&Sheet3!$A$1&Sheet1!AI48&$A$1&Sheet1!AJ48","v":"91;45;42;91;45;42;42"},{"$f":"Sheet1!AK48&Sheet3!$A$1&Sheet1!AL48&Sheet3!$A$1&Sheet1!AM48&Sheet3!$A$1&Sheet1!AN48&Sheet3!$A$1&Sheet1!AO48&Sheet3!$A$1&Sheet1!AP48&$A$1&Sheet1!AQ48","v":"44;45;42;44;45;42;44"},{"$f":"Sheet1!AR48&Sheet3!$A$1&Sheet1!AS48&Sheet3!$A$1&Sheet1!AT48&Sheet3!$A$1&Sheet1!AU48&Sheet3!$A$1&Sheet1!AV48&Sheet3!$A$1&Sheet1!AW48&$A$1&Sheet1!AX48","v":"44;45;42;44;45;42;44"},{"$f":"Sheet1!AY48&Sheet3!$A$1&Sheet1!AZ48&Sheet3!$A$1&Sheet1!BA48&Sheet3!$A$1&Sheet1!BB48&Sheet3!$A$1&Sheet1!BC48&Sheet3!$A$1&Sheet1!BD48&$A$1&Sheet1!BE48","v":"91;45;42;91;45;42;42"}]
[null,{"$f":"Sheet1!D49&Sheet3!$A$1&Sheet1!E49&Sheet3!$A$1&Sheet1!F49&Sheet3!$A$1&Sheet1!G49&Sheet3!$A$1&Sheet1!H49&Sheet3!$A$1&Sheet1!I49","v":"1;1;1;1;1;1"},{"$f":"Sheet1!J49&Sheet3!$A$1&Sheet1!K49&Sheet3!$A$1&Sheet1!L49&Sheet3!$A$1&Sheet1!M49&Sheet3!$A$1&Sheet1!N49&Sheet3!$A$1&Sheet1!O49","v":"4;44;44;5;2;44"},{"$f":"Sheet1!P49&Sheet3!$A$1&Sheet1!Q49&Sheet3!$A$1&Sheet1!R49&Sheet3!$A$1&Sheet1!S49&Sheet3!$A$1&Sheet1!T49&Sheet3!$A$1&Sheet1!U49&$A$1&Sheet1!V49","v":"44;45;42;44;45;42;44"},{"$f":"Sheet1!W49&Sheet3!$A$1&Sheet1!X49&Sheet3!$A$1&Sheet1!Y49&Sheet3!$A$1&Sheet1!Z49&Sheet3!$A$1&Sheet1!AA49&Sheet3!$A$1&Sheet1!AB49&$A$1&Sheet1!AC49","v":"91;45;42;91;45;42;42"},{"$f":"Sheet1!AD49&Sheet3!$A$1&Sheet1!AE49&Sheet3!$A$1&Sheet1!AF49&Sheet3!$A$1&Sheet1!AG49&Sheet3!$A$1&Sheet1!AH49&Sheet3!$A$1&Sheet1!AI49&$A$1&Sheet1!AJ49","v":"91;45;42;91;45;42;42"},{"$f":"Sheet1!AK49&Sheet3!$A$1&Sheet1!AL49&Sheet3!$A$1&Sheet1!AM49&Sheet3!$A$1&Sheet1!AN49&Sheet3!$A$1&Sheet1!AO49&Sheet3!$A$1&Sheet1!AP49&$A$1&Sheet1!AQ49","v":"44;45;42;44;45;42;44"},{"$f":"Sheet1!AR49&Sheet3!$A$1&Sheet1!AS49&Sheet3!$A$1&Sheet1!AT49&Sheet3!$A$1&Sheet1!AU49&Sheet3!$A$1&Sheet1!AV49&Sheet3!$A$1&Sheet1!AW49&$A$1&Sheet1!AX49","v":"44;45;42;44;45;42;44"},{"$f":"Sheet1!AY49&Sheet3!$A$1&Sheet1!AZ49&Sheet3!$A$1&Sheet1!BA49&Sheet3!$A$1&Sheet1!BB49&Sheet3!$A$1&Sheet1!BC49&Sheet3!$A$1&Sheet1!BD49&$A$1&Sheet1!BE49","v":"91;45;42;91;45;42;42"}]
[null,{"$f":"Sheet1!D50&Sheet3!$A$1&Sheet1!E50&Sheet3!$A$1&Sheet1!F50&Sheet3!$A$1&Sheet1!G50&Sheet3!$A$1&Sheet1!H50&Sheet3!$A$1&Sheet1!I50","v":"1;1;1;1;1;1"},{"$f":"Sheet1!J50&Sheet3!$A$1&Sheet1!K50&Sheet3!$A$1&Sheet1!L50&Sheet3!$A$1&Sheet1!M50&Sheet3!$A$1&Sheet1!N50&Sheet3!$A$1&Sheet1!O50","v":"4;44;44;5;2;44"},{"$f":"Sheet1!P50&Sheet3!$A$1&Sheet1!Q50&Sheet3!$A$1&Sheet1!R50&Sheet3!$A$1&Sheet1!S50&Sheet3!$A$1&Sheet1!T50&Sheet3!$A$1&Sheet1!U50&$A$1&Sheet1!V50","v":"44;45;42;44;45;42;44"},{"$f":"Sheet1!W50&Sheet3!$A$1&Sheet1!X50&Sheet3!$A$1&Sheet1!Y50&Sheet3!$A$1&Sheet1!Z50&Sheet3!$A$1&Sheet1!AA50&Sheet3!$A$1&Sheet1!AB50&$A$1&Sheet1!AC50","v":"91;45;42;91;45;42;42"},{"$f":"Sheet1!AD50&Sheet3!$A$1&Sheet1!AE50&Sheet3!$A$1&Sheet1!AF50&Sheet3!$A$1&Sheet1!AG50&Sheet3!$A$1&Sheet1!AH50&Sheet3!$A$1&Sheet1!AI50&$A$1&Sheet1!AJ50","v":"91;45;42;91;45;42;42"},{"$f":"Sheet1!AK50&Sheet3!$A$1&Sheet1!AL50&Sheet3!$A$1&Sheet1!AM50&Sheet3!$A$1&Sheet1!AN50&Sheet3!$A$1&Sheet1!AO50&Sheet3!$A$1&Sheet1!AP50&$A$1&Sheet1!AQ50","v":"44;45;42;44;45;42;44"},{"$f":"Sheet1!AR50&Sheet3!$A$1&Sheet1!AS50&Sheet3!$A$1&Sheet1!AT50&Sheet3!$A$1&Sheet1!AU50&Sheet3!$A$1&Sheet1!AV50&Sheet3!$A$1&Sheet1!AW50&$A$1&Sheet1!AX50","v":"44;45;42;44;45;42;44"},{"$f":"Sheet1!AY50&Sheet3!$A$1&Sheet1!AZ50&Sheet3!$A$1&Sheet1!BA50&Sheet3!$A$1&Sheet1!BB50&Sheet3!$A$1&Sheet1!BC50&Sheet3!$A$1&Sheet1!BD50&$A$1&Sheet1!BE50","v":"91;45;42;91;45;42;42"}]
[null,{"$f":"Sheet1!D51&Sheet3!$A$1&Sheet1!E51&Sheet3!$A$1&Sheet1!F51&Sheet3!$A$1&Sheet1!G51&Sheet3!$A$1&Sheet1!H51&Sheet3!$A$1&Sheet1!I51","v":"1;1;1;1;1;1"},{"$f":"Sheet1!J51&Sheet3!$A$1&Sheet1!K51&Sheet3!$A$1&Sheet1!L51&Sheet3!$A$1&Sheet1!M51&Sheet3!$A$1&Sheet1!N51&Sheet3!$A$1&Sheet1!O51","v":"4;44;44;5;2;44"},{"$f":"Sheet1!P51&Sheet3!$A$1&Sheet1!Q51&Sheet3!$A$1&Sheet1!R51&Sheet3!$A$1&Sheet1!S51&Sheet3!$A$1&Sheet1!T51&Sheet3!$A$1&Sheet1!U51&$A$1&Sheet1!V51","v":"44;45;42;44;45;42;44"},{"$f":"Sheet1!W51&Sheet3!$A$1&Sheet1!X51&Sheet3!$A$1&Sheet1!Y51&Sheet3!$A$1&Sheet1!Z51&Sheet3!$A$1&Sheet1!AA51&Sheet3!$A$1&Sheet1!AB51&$A$1&Sheet1!AC51","v":"91;45;42;91;45;42;42"},{"$f":"Sheet1!AD51&Sheet3!$A$1&Sheet1!AE51&Sheet3!$A$1&Sheet1!AF51&Sheet3!$A$1&Sheet1!AG51&Sheet3!$A$1&Sheet1!AH51&Sheet3!$A$1&Sheet1!AI51&$A$1&Sheet1!AJ51","v":"91;45;42;91;45;42;42"},{"$f":"Sheet1!AK51&Sheet3!$A$1&Sheet1!AL51&Sheet3!$A$1&Sheet1!AM51&Sheet3!$A$1&Sheet1!AN51&Sheet3!$A$1&Sheet1!AO51&Sheet3!$A$1&Sheet1!AP51&$A$1&Sheet1!AQ51","v":"44;45;42;44;45;42;44"},{"$f":"Sheet1!AR51&Sheet3!$A$1&Sheet1!AS51&Sheet3!$A$1&Sheet1!AT51&Sheet3!$A$1&Sheet1!AU51&Sheet3!$A$1&Sheet1!AV51&Sheet3!$A$1&Sheet1!AW51&$A$1&Sheet1!AX51","v":"44;45;42;44;45;42;44"},{"$f":"Sheet1!AY51&Sheet3!$A$1&Sheet1!AZ51&Sheet3!$A$1&Sheet1!BA51&Sheet3!$A$1&Sheet1!BB51&Sheet3!$A$1&Sheet1!BC51&Sheet3!$A$1&Sheet1!BD51&$A$1&Sheet1!BE51","v":"91;45;42;91;45;42;42"}]
[null,{"$f":"Sheet1!D52&Sheet3!$A$1&Sheet1!E52&Sheet3!$A$1&Sheet1!F52&Sheet3!$A$1&Sheet1!G52&Sheet3!$A$1&Sheet1!H52&Sheet3!$A$1&Sheet1!I52","v":"2;2;2;2;2;2"},{"$f":"Sheet1!J52&Sheet3!$A$1&Sheet1!K52&Sheet3!$A$1&Sheet1!L52&Sheet3!$A$1&Sheet1!M52&Sheet3!$A$1&Sheet1!N52&Sheet3!$A$1&Sheet1!O52","v":"4;45;45;5;2;45"},{"$f":"Sheet1!P52&Sheet3!$A$1&Sheet1!Q52&Sheet3!$A$1&Sheet1!R52&Sheet3!$A$1&Sheet1!S52&Sheet3!$A$1&Sheet1!T52&Sheet3!$A$1&Sheet1!U52&$A$1&Sheet1!V52","v":"44;45;42;44;45;42;42"},{"$f":"Sheet1!W52&Sheet3!$A$1&Sheet1!X52&Sheet3!$A$1&Sheet1!Y52&Sheet3!$A$1&Sheet1!Z52&Sheet3!$A$1&Sheet1!AA52&Sheet3!$A$1&Sheet1!AB52&$A$1&Sheet1!AC52","v":"44;92;42;44;92;42;42"},{"$f":"Sheet1!AD52&Sheet3!$A$1&Sheet1!AE52&Sheet3!$A$1&Sheet1!AF52&Sheet3!$A$1&Sheet1!AG52&Sheet3!$A$1&Sheet1!AH52&Sheet3!$A$1&Sheet1!AI52&$A$1&Sheet1!AJ52","v":"44;92;42;44;92;42;42"},{"$f":"Sheet1!AK52&Sheet3!$A$1&Sheet1!AL52&Sheet3!$A$1&Sheet1!AM52&Sheet3!$A$1&Sheet1!AN52&Sheet3!$A$1&Sheet1!AO52&Sheet3!$A$1&Sheet1!AP52&$A$1&Sheet1!AQ52","v":"44;45;42;44;45;42;42"},{"$f":"Sheet1!AR52&Sheet3!$A$1&Sheet1!AS52&Sheet3!$A$1&Sheet1!AT52&Sheet3!$A$1&Sheet1!AU52&Sheet3!$A$1&Sheet1!AV52&Sheet3!$A$1&Sheet1!AW52&$A$1&Sheet1!AX52","v":"44;45;42;44;45;42;42"},{"$f":"Sheet1!AY52&Sheet3!$A$1&Sheet1!AZ52&Sheet3!$A$1&Sheet1!BA52&Sheet3!$A$1&Sheet1!BB52&Sheet3!$A$1&Sheet1!BC52&Sheet3!$A$1&Sheet1!BD52&$A$1&Sheet1!BE52","v":"44;92;42;44;92;42;42"}]
[null,{"$f":"Sheet1!D53&Sheet3!$A$1&Sheet1!E53&Sheet3!$A$1&Sheet1!F53&Sheet3!$A$1&Sheet1!G53&Sheet3!$A$1&Sheet1!H53&Sheet3!$A$1&Sheet1!I53","v":"1;1;1;1;1;1"},{"$f":"Sheet1!J53&Sheet3!$A$1&Sheet1!K53&Sheet3!$A$1&Sheet1!L53&Sheet3!$A$1&Sheet1!M53&Sheet3!$A$1&Sheet1!N53&Sheet3!$A$1&Sheet1!O53","v":"4;44;44;5;2;44"},{"$f":"Sheet1!P53&Sheet3!$A$1&Sheet1!Q53&Sheet3!$A$1&Sheet1!R53&Sheet3!$A$1&Sheet1!S53&Sheet3!$A$1&Sheet1!T53&Sheet3!$A$1&Sheet1!U53&$A$1&Sheet1!V53","v":"44;45;42;44;45;42;44"},{"$f":"Sheet1!W53&Sheet3!$A$1&Sheet1!X53&Sheet3!$A$1&Sheet1!Y53&Sheet3!$A$1&Sheet1!Z53&Sheet3!$A$1&Sheet1!AA53&Sheet3!$A$1&Sheet1!AB53&$A$1&Sheet1!AC53","v":"91;45;42;91;45;42;42"},{"$f":"Sheet1!AD53&Sheet3!$A$1&Sheet1!AE53&Sheet3!$A$1&Sheet1!AF53&Sheet3!$A$1&Sheet1!AG53&Sheet3!$A$1&Sheet1!AH53&Sheet3!$A$1&Sheet1!AI53&$A$1&Sheet1!AJ53","v":"91;45;42;91;45;42;42"},{"$f":"Sheet1!AK53&Sheet3!$A$1&Sheet1!AL53&Sheet3!$A$1&Sheet1!AM53&Sheet3!$A$1&Sheet1!AN53&Sheet3!$A$1&Sheet1!AO53&Sheet3!$A$1&Sheet1!AP53&$A$1&Sheet1!AQ53","v":"44;45;42;44;45;42;44"},{"$f":"Sheet1!AR53&Sheet3!$A$1&Sheet1!AS53&Sheet3!$A$1&Sheet1!AT53&Sheet3!$A$1&Sheet1!AU53&Sheet3!$A$1&Sheet1!AV53&Sheet3!$A$1&Sheet1!AW53&$A$1&Sheet1!AX53","v":"44;45;42;44;45;42;44"},{"$f":"Sheet1!AY53&Sheet3!$A$1&Sheet1!AZ53&Sheet3!$A$1&Sheet1!BA53&Sheet3!$A$1&Sheet1!BB53&Sheet3!$A$1&Sheet1!BC53&Sheet3!$A$1&Sheet1!BD53&$A$1&Sheet1!BE53","v":"91;45;42;91;45;42;42"}]
[null,{"$f":"Sheet1!D54&Sheet3!$A$1&Sheet1!E54&Sheet3!$A$1&Sheet1!F54&Sheet3!$A$1&Sheet1!G54&Sheet3!$A$1&Sheet1!H54&Sheet3!$A$1&Sheet1!I54","v":";;;;;"},{"$f":"Sheet1!J54&Sheet3!$A$1&Sheet1!K54&Sheet3!$A$1&Sheet1!L54&Sheet3!$A$1&Sheet1!M54&Sheet3!$A$1&Sheet1!N54&Sheet3!$A$1&Sheet1!O54","v":";;;;;"},{"$f":"Sheet1!P54&Sheet3!$A$1&Sheet1!Q54&Sheet3!$A$1&Sheet1!R54&Sheet3!$A$1&Sheet1!S54&Sheet3!$A$1&Sheet1!T54&Sheet3!$A$1&Sheet1!U54&$A$1&Sheet1!V54","v":";;;;;;"},{"$f":"Sheet1!W54&Sheet3!$A$1&Sheet1!X54&Sheet3!$A$1&Sheet1!Y54&Sheet3!$A$1&Sheet1!Z54&Sheet3!$A$1&Sheet1!AA54&Sheet3!$A$1&Sheet1!AB54&$A$1&Sheet1!AC54","v":";;;;;;"},{"$f":"Sheet1!AD54&Sheet3!$A$1&Sheet1!AE54&Sheet3!$A$1&Sheet1!AF54&Sheet3!$A$1&Sheet1!AG54&Sheet3!$A$1&Sheet1!AH54&Sheet3!$A$1&Sheet1!AI54&$A$1&Sheet1!AJ54","v":";;;;;;"},{"$f":"Sheet1!AK54&Sheet3!$A$1&Sheet1!AL54&Sheet3!$A$1&Sheet1!AM54&Sheet3!$A$1&Sheet1!AN54&Sheet3!$A$1&Sheet1!AO54&Sheet3!$A$1&Sheet1!AP54&$A$1&Sheet1!AQ54","v":";;;;;;"},{"$f":"Sheet1!AR54&Sheet3!$A$1&Sheet1!AS54&Sheet3!$A$1&Sheet1!AT54&Sheet3!$A$1&Sheet1!AU54&Sheet3!$A$1&Sheet1!AV54&Sheet3!$A$1&Sheet1!AW54&$A$1&Sheet1!AX54","v":";;;;;;"},{"$f":"Sheet1!AY54&Sheet3!$A$1&Sheet1!AZ54&Sheet3!$A$1&Sheet1!BA54&Sheet3!$A$1&Sheet1!BB54&Sheet3!$A$1&Sheet1!BC54&Sheet3!$A$1&Sheet1!BD54&$A$1&Sheet1!BE54","v":";;;;;;"}]
[null,{"$f":"Sheet1!D55&Sheet3!$A$1&Sheet1!E55&Sheet3!$A$1&Sheet1!F55&Sheet3!$A$1&Sheet1!G55&Sheet3!$A$1&Sheet1!H55&Sheet3!$A$1&Sheet1!I55","v":";;;;;"},{"$f":"Sheet1!J55&Sheet3!$A$1&Sheet1!K55&Sheet3!$A$1&Sheet1!L55&Sheet3!$A$1&Sheet1!M55&Sheet3!$A$1&Sheet1!N55&Sheet3!$A$1&Sheet1!O55","v":";;;;;"},{"$f":"Sheet1!P55&Sheet3!$A$1&Sheet1!Q55&Sheet3!$A$1&Sheet1!R55&Sheet3!$A$1&Sheet1!S55&Sheet3!$A$1&Sheet1!T55&Sheet3!$A$1&Sheet1!U55&$A$1&Sheet1!V55","v":";;;;;;"},{"$f":"Sheet1!W55&Sheet3!$A$1&Sheet1!X55&Sheet3!$A$1&Sheet1!Y55&Sheet3!$A$1&Sheet1!Z55&Sheet3!$A$1&Sheet1!AA55&Sheet3!$A$1&Sheet1!AB55&$A$1&Sheet1!AC55","v":";;;;;;"},{"$f":"Sheet1!AD55&Sheet3!$A$1&Sheet1!AE55&Sheet3!$A$1&Sheet1!AF55&Sheet3!$A$1&Sheet1!AG55&Sheet3!$A$1&Sheet1!AH55&Sheet3!$A$1&Sheet1!AI55&$A$1&Sheet1!AJ55","v":";;;;;;"},{"$f":"Sheet1!AK55&Sheet3!$A$1&Sheet1!AL55&Sheet3!$A$1&Sheet1!AM55&Sheet3!$A$1&Sheet1!AN55&Sheet3!$A$1&Sheet1!AO55&Sheet3!$A$1&Sheet1!AP55&$A$1&Sheet1!AQ55","v":";;;;;;"},{"$f":"Sheet1!AR55&Sheet3!$A$1&Sheet1!AS55&Sheet3!$A$1&Sheet1!AT55&Sheet3!$A$1&Sheet1!AU55&Sheet3!$A$1&Sheet1!AV55&Sheet3!$A$1&Sheet1!AW55&$A$1&Sheet1!AX55","v":";;;;;;"},{"$f":"Sheet1!AY55&Sheet3!$A$1&Sheet1!AZ55&Sheet3!$A$1&Sheet1!BA55&Sheet3!$A$1&Sheet1!BB55&Sheet3!$A$1&Sheet1!BC55&Sheet3!$A$1&Sheet1!BD55&$A$1&Sheet1!BE55","v":";;;;;;"}]
[null,{"$f":"Sheet1!D56&Sheet3!$A$1&Sheet1!E56&Sheet3!$A$1&Sheet1!F56&Sheet3!$A$1&Sheet1!G56&Sheet3!$A$1&Sheet1!H56&Sheet3!$A$1&Sheet1!I56","v":";;;;;"},{"$f":"Sheet1!J56&Sheet3!$A$1&Sheet1!K56&Sheet3!$A$1&Sheet1!L56&Sheet3!$A$1&Sheet1!M56&Sheet3!$A$1&Sheet1!N56&Sheet3!$A$1&Sheet1!O56","v":";;;;;"},{"$f":"Sheet1!P56&Sheet3!$A$1&Sheet1!Q56&Sheet3!$A$1&Sheet1!R56&Sheet3!$A$1&Sheet1!S56&Sheet3!$A$1&Sheet1!T56&Sheet3!$A$1&Sheet1!U56&$A$1&Sheet1!V56","v":";;;;;;"},{"$f":"Sheet1!W56&Sheet3!$A$1&Sheet1!X56&Sheet3!$A$1&Sheet1!Y56&Sheet3!$A$1&Sheet1!Z56&Sheet3!$A$1&Sheet1!AA56&Sheet3!$A$1&Sheet1!AB56&$A$1&Sheet1!AC56","v":";;;;;;"},{"$f":"Sheet1!AD56&Sheet3!$A$1&Sheet1!AE56&Sheet3!$A$1&Sheet1!AF56&Sheet3!$A$1&Sheet1!AG56&Sheet3!$A$1&Sheet1!AH56&Sheet3!$A$1&Sheet1!AI56&$A$1&Sheet1!AJ56","v":";;;;;;"},{"$f":"Sheet1!AK56&Sheet3!$A$1&Sheet1!AL56&Sheet3!$A$1&Sheet1!AM56&Sheet3!$A$1&Sheet1!AN56&Sheet3!$A$1&Sheet1!AO56&Sheet3!$A$1&Sheet1!AP56&$A$1&Sheet1!AQ56","v":";;;;;;"},{"$f":"Sheet1!AR56&Sheet3!$A$1&Sheet1!AS56&Sheet3!$A$1&Sheet1!AT56&Sheet3!$A$1&Sheet1!AU56&Sheet3!$A$1&Sheet1!AV56&Sheet3!$A$1&Sheet1!AW56&$A$1&Sheet1!AX56","v":";;;;;;"},{"$f":"Sheet1!AY56&Sheet3!$A$1&Sheet1!AZ56&Sheet3!$A$1&Sheet1!BA56&Sheet3!$A$1&Sheet1!BB56&Sheet3!$A$1&Sheet1!BC56&Sheet3!$A$1&Sheet1!BD56&$A$1&Sheet1!BE56","v":";;;;;;"}]
[null,{"$f":"Sheet1!D57&Sheet3!$A$1&Sheet1!E57&Sheet3!$A$1&Sheet1!F57&Sheet3!$A$1&Sheet1!G57&Sheet3!$A$1&Sheet1!H57&Sheet3!$A$1&Sheet1!I57","v":";;;;;"},{"$f":"Sheet1!J57&Sheet3!$A$1&Sheet1!K57&Sheet3!$A$1&Sheet1!L57&Sheet3!$A$1&Sheet1!M57&Sheet3!$A$1&Sheet1!N57&Sheet3!$A$1&Sheet1!O57","v":";;;;;"},{"$f":"Sheet1!P57&Sheet3!$A$1&Sheet1!Q57&Sheet3!$A$1&Sheet1!R57&Sheet3!$A$1&Sheet1!S57&Sheet3!$A$1&Sheet1!T57&Sheet3!$A$1&Sheet1!U57&$A$1&Sheet1!V57","v":";;;;;;"},{"$f":"Sheet1!W57&Sheet3!$A$1&Sheet1!X57&Sheet3!$A$1&Sheet1!Y57&Sheet3!$A$1&Sheet1!Z57&Sheet3!$A$1&Sheet1!AA57&Sheet3!$A$1&Sheet1!AB57&$A$1&Sheet1!AC57","v":";;;;;;"},{"$f":"Sheet1!AD57&Sheet3!$A$1&Sheet1!AE57&Sheet3!$A$1&Sheet1!AF57&Sheet3!$A$1&Sheet1!AG57&Sheet3!$A$1&Sheet1!AH57&Sheet3!$A$1&Sheet1!AI57&$A$1&Sheet1!AJ57","v":";;;;;;"},{"$f":"Sheet1!AK57&Sheet3!$A$1&Sheet1!AL57&Sheet3!$A$1&Sheet1!AM57&Sheet3!$A$1&Sheet1!AN57&Sheet3!$A$1&Sheet1!AO57&Sheet3!$A$1&Sheet1!AP57&$A$1&Sheet1!AQ57","v":";;;;;;"},{"$f":"Sheet1!AR57&Sheet3!$A$1&Sheet1!AS57&Sheet3!$A$1&Sheet1!AT57&Sheet3!$A$1&Sheet1!AU57&Sheet3!$A$1&Sheet1!AV57&Sheet3!$A$1&Sheet1!AW57&$A$1&Sheet1!AX57","v":";;;;;;"},{"$f":"Sheet1!AY57&Sheet3!$A$1&Sheet1!AZ57&Sheet3!$A$1&Sheet1!BA57&Sheet3!$A$1&Sheet1!BB57&Sheet3!$A$1&Sheet1!BC57&Sheet3!$A$1&Sheet1!BD57&$A$1&Sheet1!BE57","v":";;;;;;"}]
[null,{"$f":"Sheet1!D58&Sheet3!$A$1&Sheet1!E58&Sheet3!$A$1&Sheet1!F58&Sheet3!$A$1&Sheet1!G58&Sheet3!$A$1&Sheet1!H58&Sheet3!$A$1&Sheet1!I58","v":";;;;;"},{"$f":"Sheet1!J58&Sheet3!$A$1&Sheet1!K58&Sheet3!$A$1&Sheet1!L58&Sheet3!$A$1&Sheet1!M58&Sheet3!$A$1&Sheet1!N58&Sheet3!$A$1&Sheet1!O58","v":";;;;;"},{"$f":"Sheet1!P58&Sheet3!$A$1&Sheet1!Q58&Sheet3!$A$1&Sheet1!R58&Sheet3!$A$1&Sheet1!S58&Sheet3!$A$1&Sheet1!T58&Sheet3!$A$1&Sheet1!U58&$A$1&Sheet1!V58","v":";;;;;;"},{"$f":"Sheet1!W58&Sheet3!$A$1&Sheet1!X58&Sheet3!$A$1&Sheet1!Y58&Sheet3!$A$1&Sheet1!Z58&Sheet3!$A$1&Sheet1!AA58&Sheet3!$A$1&Sheet1!AB58&$A$1&Sheet1!AC58","v":";;;;;;"},{"$f":"Sheet1!AD58&Sheet3!$A$1&Sheet1!AE58&Sheet3!$A$1&Sheet1!AF58&Sheet3!$A$1&Sheet1!AG58&Sheet3!$A$1&Sheet1!AH58&Sheet3!$A$1&Sheet1!AI58&$A$1&Sheet1!AJ58","v":";;;;;;"},{"$f":"Sheet1!AK58&Sheet3!$A$1&Sheet1!AL58&Sheet3!$A$1&Sheet1!AM58&Sheet3!$A$1&Sheet1!AN58&Sheet3!$A$1&Sheet1!AO58&Sheet3!$A$1&Sheet1!AP58&$A$1&Sheet1!AQ58","v":";;;;;;"},{"$f":"Sheet1!AR58&Sheet3!$A$1&Sheet1!AS58&Sheet3!$A$1&Sheet1!AT58&Sheet3!$A$1&Sheet1!AU58&Sheet3!$A$1&Sheet1!AV58&Sheet3!$A$1&Sheet1!AW58&$A$1&Sheet1!AX58","v":";;;;;;"},{"$f":"Sheet1!AY58&Sheet3!$A$1&Sheet1!AZ58&Sheet3!$A$1&Sheet1!BA58&Sheet3!$A$1&Sheet1!BB58&Sheet3!$A$1&Sheet1!BC58&Sheet3!$A$1&Sheet1!BD58&$A$1&Sheet1!BE58","v":";;;;;;"}]
[null,{"$f":"Sheet1!D59&Sheet3!$A$1&Sheet1!E59&Sheet3!$A$1&Sheet1!F59&Sheet3!$A$1&Sheet1!G59&Sheet3!$A$1&Sheet1!H59&Sheet3!$A$1&Sheet1!I59","v":";;;;;"},{"$f":"Sheet1!J59&Sheet3!$A$1&Sheet1!K59&Sheet3!$A$1&Sheet1!L59&Sheet3!$A$1&Sheet1!M59&Sheet3!$A$1&Sheet1!N59&Sheet3!$A$1&Sheet1!O59","v":";;;;;"},{"$f":"Sheet1!P59&Sheet3!$A$1&Sheet1!Q59&Sheet3!$A$1&Sheet1!R59&Sheet3!$A$1&Sheet1!S59&Sheet3!$A$1&Sheet1!T59&Sheet3!$A$1&Sheet1!U59&$A$1&Sheet1!V59","v":";;;;;;"},{"$f":"Sheet1!W59&Sheet3!$A$1&Sheet1!X59&Sheet3!$A$1&Sheet1!Y59&Sheet3!$A$1&Sheet1!Z59&Sheet3!$A$1&Sheet1!AA59&Sheet3!$A$1&Sheet1!AB59&$A$1&Sheet1!AC59","v":";;;;;;"},{"$f":"Sheet1!AD59&Sheet3!$A$1&Sheet1!AE59&Sheet3!$A$1&Sheet1!AF59&Sheet3!$A$1&Sheet1!AG59&Sheet3!$A$1&Sheet1!AH59&Sheet3!$A$1&Sheet1!AI59&$A$1&Sheet1!AJ59","v":";;;;;;"},{"$f":"Sheet1!AK59&Sheet3!$A$1&Sheet1!AL59&Sheet3!$A$1&Sheet1!AM59&Sheet3!$A$1&Sheet1!AN59&Sheet3!$A$1&Sheet1!AO59&Sheet3!$A$1&Sheet1!AP59&$A$1&Sheet1!AQ59","v":";;;;;;"},{"$f":"Sheet1!AR59&Sheet3!$A$1&Sheet1!AS59&Sheet3!$A$1&Sheet1!AT59&Sheet3!$A$1&Sheet1!AU59&Sheet3!$A$1&Sheet1!AV59&Sheet3!$A$1&Sheet1!AW59&$A$1&Sheet1!AX59","v":";;;;;;"},{"$f":"Sheet1!AY59&Sheet3!$A$1&Sheet1!AZ59&Sheet3!$A$1&Sheet1!BA59&Sheet3!$A$1&Sheet1!BB59&Sheet3!$A$1&Sheet1!BC59&Sheet3!$A$1&Sheet1!BD59&$A$1&Sheet1!BE59","v":";;;;;;"}]
[null,{"$f":"Sheet1!D60&Sheet3!$A$1&Sheet1!E60&Sheet3!$A$1&Sheet1!F60&Sheet3!$A$1&Sheet1!G60&Sheet3!$A$1&Sheet1!H60&Sheet3!$A$1&Sheet1!I60","v":";;;;;"},{"$f":"Sheet1!J60&Sheet3!$A$1&Sheet1!K60&Sheet3!$A$1&Sheet1!L60&Sheet3!$A$1&Sheet1!M60&Sheet3!$A$1&Sheet1!N60&Sheet3!$A$1&Sheet1!O60","v":";;;;;"},{"$f":"Sheet1!P60&Sheet3!$A$1&Sheet1!Q60&Sheet3!$A$1&Sheet1!R60&Sheet3!$A$1&Sheet1!S60&Sheet3!$A$1&Sheet1!T60&Sheet3!$A$1&Sheet1!U60&$A$1&Sheet1!V60","v":";;;;;;"},{"$f":"Sheet1!W60&Sheet3!$A$1&Sheet1!X60&Sheet3!$A$1&Sheet1!Y60&Sheet3!$A$1&Sheet1!Z60&Sheet3!$A$1&Sheet1!AA60&Sheet3!$A$1&Sheet1!AB60&$A$1&Sheet1!AC60","v":";;;;;;"},{"$f":"Sheet1!AD60&Sheet3!$A$1&Sheet1!AE60&Sheet3!$A$1&Sheet1!AF60&Sheet3!$A$1&Sheet1!AG60&Sheet3!$A$1&Sheet1!AH60&Sheet3!$A$1&Sheet1!AI60&$A$1&Sheet1!AJ60","v":";;;;;;"},{"$f":"Sheet1!AK60&Sheet3!$A$1&Sheet1!AL60&Sheet3!$A$1&Sheet1!AM60&Sheet3!$A$1&Sheet1!AN60&Sheet3!$A$1&Sheet1!AO60&Sheet3!$A$1&Sheet1!AP60&$A$1&Sheet1!AQ60","v":";;;;;;"},{"$f":"Sheet1!AR60&Sheet3!$A$1&Sheet1!AS60&Sheet3!$A$1&Sheet1!AT60&Sheet3!$A$1&Sheet1!AU60&Sheet3!$A$1&Sheet1!AV60&Sheet3!$A$1&Sheet1!AW60&$A$1&Sheet1!AX60","v":";;;;;;"},{"$f":"Sheet1!AY60&Sheet3!$A$1&Sheet1!AZ60&Sheet3!$A$1&Sheet1!BA60&Sheet3!$A$1&Sheet1!BB60&Sheet3!$A$1&Sheet1!BC60&Sheet3!$A$1&Sheet1!BD60&$A$1&Sheet1!BE60","v":";;;;;;"}]